BEGIN:VCALENDAR
VERSION:2.0
PRODID:-//wp-events-plugin.com//7.2.3.1//EN
TZID:Europe/London
X-WR-TIMEZONE:Europe/London
BEGIN:VEVENT
UID:4011@larevistadelapalma.com
DTSTART:20251007T230000Z
DTEND:20251019T230000Z
DTSTAMP:20251013T130208Z
URL:https://www.larevistadelapalma.com/events/el-festival-tiempo-sur-abre-
 convocatorias/
SUMMARY:El Festival Tiempo Sur abre convocatorias
DESCRIPTION:\n\n\n\nAbiertas las convocatorias y secciones de la próxima e
 dición.\n\nEl Festival Tiempo Sur \, festival de cortometrajes que se cel
 ebra en la Comarca Noroeste de La Palma\, abre de nuevo la convocatoria pa
 ra participar en su próxima edición.\n\n\n\n 	Convocatoria para cortomet
 rajes\n 	Tiempo Sur Internacional\n 	Comarca en Corto\n 	Visiones Awara (P
 ara residentes. Inscripciones abiertas hasta el 3 de mayo)\n\n\nCompromiso
  con el cine canario\n\n\n 	Ventana La Palma\n 	Archivos Canarias\n\n\n\nD
 esde su origen en 2011\, el festival de cortometrajes Tiempo Sur ha consti
 tuido un epicentro de creatividad audiovisual en los municipios que forma
 n la comarca noroeste de la isla\, Villa de Garafía\, Puntagorda y Tijar
 afe\, que forman la comarca noroeste de la isla de La Palma. El festival\,
  que no se celebró en los años 2019 y 2020\, regresó en 2021 con más f
 uerza\, llevando a cabo una maratón de rodajes durante dos meses al año.
  Además\, su sección No Oficial\, de carácter internacional\, ha recibi
 do hasta 500 cortometrajes de distintos rincones del mundo. Más info&gt\
 ;&gt\;\nAdemás\, el festival está buscando colaboradores para convertir 
 la gala de inauguración y clausura en una verdadera explosión de creativ
 idad e identidad cultural. Si estás interesado escribe a  festivaltimepo
 sur@gmail.com\n\n\nQuieren sumar mentes creativas y manos colaboradoras pa
 ra:\n\n\n 	Propuestas creativas\n 	Colaboración en organización\n 	Docum
 entación: foto y vídeo\n 	Difusión y comunicación\n\n\n
ATTACH;FMTTYPE=image/jpeg:https://www.larevistadelapalma.com/wp-content/up
 loads/2025/10/Tiempo-sur.jpg
CATEGORIES:Cine,Cine y Literatura
END:VEVENT
END:VCALENDARBEGIN:VCALENDAR
VERSION:2.0
PRODID:-//wp-events-plugin.com//7.2.3.1//EN
TZID:Europe/London
X-WR-TIMEZONE:Europe/London
BEGIN:VEVENT
UID:4011@larevistadelapalma.com
DTSTART:20251007T230000Z
DTEND:20251019T230000Z
DTSTAMP:20251013T130208Z
URL:https://www.larevistadelapalma.com/events/el-festival-tiempo-sur-abre-
 convocatorias/
SUMMARY:El Festival Tiempo Sur abre convocatorias
DESCRIPTION:\n\n\n\nAbiertas las convocatorias y secciones de la próxima e
 dición.\n\nEl Festival Tiempo Sur \, festival de cortometrajes que se cel
 ebra en la Comarca Noroeste de La Palma\, abre de nuevo la convocatoria pa
 ra participar en su próxima edición.\n\n\n\n 	Convocatoria para cortomet
 rajes\n 	Tiempo Sur Internacional\n 	Comarca en Corto\n 	Visiones Awara (P
 ara residentes. Inscripciones abiertas hasta el 3 de mayo)\n\n\nCompromiso
  con el cine canario\n\n\n 	Ventana La Palma\n 	Archivos Canarias\n\n\n\nD
 esde su origen en 2011\, el festival de cortometrajes Tiempo Sur ha consti
 tuido un epicentro de creatividad audiovisual en los municipios que forma
 n la comarca noroeste de la isla\, Villa de Garafía\, Puntagorda y Tijar
 afe\, que forman la comarca noroeste de la isla de La Palma. El festival\,
  que no se celebró en los años 2019 y 2020\, regresó en 2021 con más f
 uerza\, llevando a cabo una maratón de rodajes durante dos meses al año.
  Además\, su sección No Oficial\, de carácter internacional\, ha recibi
 do hasta 500 cortometrajes de distintos rincones del mundo. Más info&gt\
 ;&gt\;\nAdemás\, el festival está buscando colaboradores para convertir 
 la gala de inauguración y clausura en una verdadera explosión de creativ
 idad e identidad cultural. Si estás interesado escribe a  festivaltimepo
 sur@gmail.com\n\n\nQuieren sumar mentes creativas y manos colaboradoras pa
 ra:\n\n\n 	Propuestas creativas\n 	Colaboración en organización\n 	Docum
 entación: foto y vídeo\n 	Difusión y comunicación\n\n\n
ATTACH;FMTTYPE=image/jpeg:https://www.larevistadelapalma.com/wp-content/up
 loads/2025/10/Tiempo-sur.jpg
CATEGORIES:Cine,Cine y Literatura
END:VEVENT
END:VCALENDAR