BEGIN:VCALENDAR
VERSION:2.0
PRODID:-//wp-events-plugin.com//7.2.3.1//EN
TZID:Europe/London
X-WR-TIMEZONE:Europe/London
BEGIN:VEVENT
UID:2978@larevistadelapalma.com
DTSTART;VALUE=DATE:20240502
DTEND;VALUE=DATE:20240521
DTSTAMP:20240509T170227Z
URL:https://www.larevistadelapalma.com/events/el-festivalito-la-palma-abre
 -sus-inscripciones-de-su-laboratorio-de-cine-expres-festivalito-lab/
SUMMARY:El Festivalito La Palma abre sus inscripciones de su Laboratorio de
  Cine Exprés ‘Festivalito Lab’
DESCRIPTION:El período para optar a una de las 10 plazas de esta residenci
 a intensiva estará abierto hasta el 20 de mayo en la web del festival. \
 nEl Festivalito Lab es una incubadora de talentos en la que los participan
 tes podrán dar vida a sus proyectos de cortometraje con la guía de tutor
 es y profesionales de prestigio.\n\nCineastas emergentes de La Palma\, Can
 arias o la Península ya pueden inscribirse para optar a una plaza en el F
 estivalito LAB\, una de las novedades de la XIX edición de Festivalito La
  Palma. El plazo estará abierto desde el 2 hasta el 20 de mayo\, para qui
 enes quieran formar parte de este laboratorio de cine exprés y disruptivo
  que tendrá lugar del 20 al 30 de junio del 2024.\nEl laboratorio de Cine
  Exprés es una residencia intensiva con asesorías personalizadas\, clase
 s magistrales y rodajes\, en las que 10 participantes desempeñarán las t
 areas de escritura de guion\, producción\, dirección\, edición y distri
 bución de sus cortometrajes.\nEl formulario de inscripción para optar a 
 una plaza en el Festivalito LAB se encuentra disponible en la web del Fest
 ivalito La Palma.\n\nLa selección de los 10 participantes de esta primera
  edición se anunciará el próximo 27 de mayo.\nLaboratorio de Cine Expr
 és\nFestivalito LAB nace bajo el paraguas del Festivalito La Palma\, posi
 cionado como festival referente en los festivales de creación audiovisual
 \, en el que “hacer cine” es la dinámica principal\, y que convertir
 á a la Isla Bonita en un laboratorio de rodaje de cortometrajes en format
 o exprés. El objetivo es que cineastas emergentes puedan desarrollar sus 
 proyectos\, desde el guión hasta la distribución\, tutorizados por profe
 sionales de prestigio del sector audiovisual nacional e internacional.\n\n
 Para ello recibirán clases magistrales y tutorías durante el desarrollo 
 de las fases clave de un proyecto cinematográfico: escritura de guión\, 
 producción\, dirección\, edición y distribución.\nResidencia intensiva
 \nEl formato del Laboratorio de Cine Exprés será de residencia intensiva
  desde el 20 al 30 de junio en la Isla de La Palma. Para ello\, los 10 cin
 eastas emergentes seleccionados tendrán cubierto el desplazamiento y esta
 ncia durante la duración del Festivalito LAB.\nMentorías\nLas tutorías 
 del Festivalito Lab llegarán de la mano de los cineastas David Pantaleón
 \, Macu Machín\, Fernando Martínez (Burnin Percebes) Cayetana H. Cuyás\
 , Javier Cerdá y Laura García Andreu\, quienes serán los encargados de 
 impartir las diferentes actividades del Festivalito LAB.\nTaller de Cine M
 edioambiental\nEl Festivalito La Palma es un medio de concienciación y co
 mpromiso con el entorno\, por lo que durante el Laboratorio de Cine Expré
 s también se impartirá un taller formativo realizado por profesionales e
 n rodajes sostenibles\, en el que se trabajarán los diversos aspectos a t
 ener en cuenta en el proceso de producción\, realización y distribución
  de cine y su vinculación al medio ambiente.\nClase magistral de distribu
 ción\nEl Festivalito LAB finalizará con una clase magistral de distribuc
 ión internacional de cortometrajes en la que se tratará el estado actual
  del circuito internacional de distribución\, las posibilidades de distri
 bución\, los recursos necesarios para llevar a cabo una buena promoción 
 y análisis de ejemplos.\n\nORGANIZACIÓN\n\nEl Festivalito Lab está orga
 nizado por la productora Chukumi Studio. Su máximo impulsor es el Gobiern
 o de Canarias\, a través de la Consejería de Universidades\, Ciencia e I
 nnovación y Cultura. Colaboran el Cabildo de La Palma\, el Ayuntamiento d
 e El Paso\, el Ayuntamiento de Santa Cruz de La Palma\, La Palma Film Comm
 ission y Crelab El Paso. \n\n&nbsp\;
ATTACH;FMTTYPE=image/jpeg:https://www.larevistadelapalma.com/wp-content/up
 loads/2024/05/Festivalito-Lab-02-scaled.jpeg
CATEGORIES:Cine,Cine y Literatura,Formación,Otras propuestas
END:VEVENT
END:VCALENDARBEGIN:VCALENDAR
VERSION:2.0
PRODID:-//wp-events-plugin.com//7.2.3.1//EN
TZID:Europe/London
X-WR-TIMEZONE:Europe/London
BEGIN:VEVENT
UID:2978@larevistadelapalma.com
DTSTART;VALUE=DATE:20240502
DTEND;VALUE=DATE:20240521
DTSTAMP:20240509T170227Z
URL:https://www.larevistadelapalma.com/events/el-festivalito-la-palma-abre
 -sus-inscripciones-de-su-laboratorio-de-cine-expres-festivalito-lab/
SUMMARY:El Festivalito La Palma abre sus inscripciones de su Laboratorio de
  Cine Exprés ‘Festivalito Lab’
DESCRIPTION:El período para optar a una de las 10 plazas de esta residenci
 a intensiva estará abierto hasta el 20 de mayo en la web del festival. \
 nEl Festivalito Lab es una incubadora de talentos en la que los participan
 tes podrán dar vida a sus proyectos de cortometraje con la guía de tutor
 es y profesionales de prestigio.\n\nCineastas emergentes de La Palma\, Can
 arias o la Península ya pueden inscribirse para optar a una plaza en el F
 estivalito LAB\, una de las novedades de la XIX edición de Festivalito La
  Palma. El plazo estará abierto desde el 2 hasta el 20 de mayo\, para qui
 enes quieran formar parte de este laboratorio de cine exprés y disruptivo
  que tendrá lugar del 20 al 30 de junio del 2024.\nEl laboratorio de Cine
  Exprés es una residencia intensiva con asesorías personalizadas\, clase
 s magistrales y rodajes\, en las que 10 participantes desempeñarán las t
 areas de escritura de guion\, producción\, dirección\, edición y distri
 bución de sus cortometrajes.\nEl formulario de inscripción para optar a 
 una plaza en el Festivalito LAB se encuentra disponible en la web del Fest
 ivalito La Palma.\n\nLa selección de los 10 participantes de esta primera
  edición se anunciará el próximo 27 de mayo.\nLaboratorio de Cine Expr
 és\nFestivalito LAB nace bajo el paraguas del Festivalito La Palma\, posi
 cionado como festival referente en los festivales de creación audiovisual
 \, en el que “hacer cine” es la dinámica principal\, y que convertir
 á a la Isla Bonita en un laboratorio de rodaje de cortometrajes en format
 o exprés. El objetivo es que cineastas emergentes puedan desarrollar sus 
 proyectos\, desde el guión hasta la distribución\, tutorizados por profe
 sionales de prestigio del sector audiovisual nacional e internacional.\n\n
 Para ello recibirán clases magistrales y tutorías durante el desarrollo 
 de las fases clave de un proyecto cinematográfico: escritura de guión\, 
 producción\, dirección\, edición y distribución.\nResidencia intensiva
 \nEl formato del Laboratorio de Cine Exprés será de residencia intensiva
  desde el 20 al 30 de junio en la Isla de La Palma. Para ello\, los 10 cin
 eastas emergentes seleccionados tendrán cubierto el desplazamiento y esta
 ncia durante la duración del Festivalito LAB.\nMentorías\nLas tutorías 
 del Festivalito Lab llegarán de la mano de los cineastas David Pantaleón
 \, Macu Machín\, Fernando Martínez (Burnin Percebes) Cayetana H. Cuyás\
 , Javier Cerdá y Laura García Andreu\, quienes serán los encargados de 
 impartir las diferentes actividades del Festivalito LAB.\nTaller de Cine M
 edioambiental\nEl Festivalito La Palma es un medio de concienciación y co
 mpromiso con el entorno\, por lo que durante el Laboratorio de Cine Expré
 s también se impartirá un taller formativo realizado por profesionales e
 n rodajes sostenibles\, en el que se trabajarán los diversos aspectos a t
 ener en cuenta en el proceso de producción\, realización y distribución
  de cine y su vinculación al medio ambiente.\nClase magistral de distribu
 ción\nEl Festivalito LAB finalizará con una clase magistral de distribuc
 ión internacional de cortometrajes en la que se tratará el estado actual
  del circuito internacional de distribución\, las posibilidades de distri
 bución\, los recursos necesarios para llevar a cabo una buena promoción 
 y análisis de ejemplos.\n\nORGANIZACIÓN\n\nEl Festivalito Lab está orga
 nizado por la productora Chukumi Studio. Su máximo impulsor es el Gobiern
 o de Canarias\, a través de la Consejería de Universidades\, Ciencia e I
 nnovación y Cultura. Colaboran el Cabildo de La Palma\, el Ayuntamiento d
 e El Paso\, el Ayuntamiento de Santa Cruz de La Palma\, La Palma Film Comm
 ission y Crelab El Paso. \n\n&nbsp\;
ATTACH;FMTTYPE=image/jpeg:https://www.larevistadelapalma.com/wp-content/up
 loads/2024/05/Festivalito-Lab-02-scaled.jpeg
CATEGORIES:Cine,Cine y Literatura,Formación,Otras propuestas
END:VEVENT
END:VCALENDAR