BEGIN:VCALENDAR
VERSION:2.0
PRODID:-//wp-events-plugin.com//7.2.3.1//EN
TZID:Europe/London
X-WR-TIMEZONE:Europe/London
BEGIN:VEVENT
UID:4092@larevistadelapalma.com
DTSTART:20251213T190000Z
DTEND:20251213T203000Z
DTSTAMP:20251210T194505Z
URL:https://www.larevistadelapalma.com/events/el-folclore-de-la-navidad-en
 -la-palma-conferencia-en-fuencaliente/
SUMMARY:El folclore de la Navidad en La Palma: conferencia en Fuencaliente
DESCRIPTION:La Agrupación Folclórica Echentive de Fuencaliente organiza l
 a conferencia titulada «Los pastores se volvieron: literatura\, música y
  danza de la Navidad de La Palma»\, que se celebrará el próximo sábado
  día 13 de diciembre en el edificio del antiguo Ayuntamiento de Fuencalie
 nte. La conferencia se enmarca dentro de la celebración del 50º aniversa
 rio fundacional de este conjunto\, que desde 1975 ha venido marcando las l
 íneas de la difusión y la investigación en torno al folclore en el muni
 cipio de Fuencaliente.\n\nDurante estas cinco décadas\, la agrupación se
  ha ocupado de rescatar e interpretar la música y la danza tradicionales 
 de la Navidad en el templo parroquial de San Antonio Abad cada Nochebuena.
  Asimismo\, Echentive ha apostado por retomar otros temas del género navi
 deño propios del municipio\, como son los «años nuevos»\, cánticos de
  tono humorístico y de origen gomero\, cuyas raíces arrancan en Los Cana
 rios gracias a la influencia de la familia responsable del funcionamiento 
 del antiguo faro de la Punta de Fuencaliente\, natural de la isla Colombin
 a.\n\nLa conferencia será impartida por Víctor J. Hernández Correa (San
 ta Cruz de La Palma\, 1975)\, trabajador de la Concejalía de Patrimonio C
 ultural del Ayuntamiento de Santa Cruz de La Palma\, quien\, además\, se 
 ha encargado de presentar\, desde su primera edición en 2012 hasta 2025 (
 ambas celebradas en Breña Alta)\, el Encuentro Insular de Música y Danza
  de Navidad\, promovidos por la Consejería de Cultura y Patrimonio Histó
 rico del Cabildo Insular de La Palma.\n\nEn su intervención\, el conferen
 ciante se acercará al ciclo navideño y a los repertorios de diferentes g
 éneros (sobre todo\, poesía y teatro) con los que se ha celebrado la Nav
 idad en La Palma. Aunque se tratarán la música y la literatura cultas\, 
 el corazón de esta intervención está centrado en los ciclos tradicional
 es de los llamados «grupos de pastores» que todavía hoy se conservan en
  buena parte de las parroquias de la isla\, asociados a las misas de Noche
 buena\, la Natividad\, la Circuncisión o Dulce Nombre de Jesús y Reyes. 
 Dotados originalmente de flauta dulce\, pitos\, tambor palmero y castañue
 las (además de otros instrumentos propios de este ciclo)\, en muchos encl
 aves el instrumento encargado de dar la melodía fue sustituido y/o altern
 ado con otros\, como el órgano (Breña Alta)\, la bandurria (Las Nieves) 
 o el acordeón (Tijarafe y Breña Alta).\n\nDesde su primera edición en 2
 012\, el Encuentro Insular de Música y Danza de Navidad ha contribuido de
 cisivamente a la visibilizar y difundir estas muestras\, que cuentan con v
 ariaciones de una parroquia a otra\, a su recuperación en algunos municip
 ios en los que prácticamente habían desaparecido y\, paralelamente\, a l
 a restitución del traslado (romería) de subida del trono de la Bajada de
  la Virgen de las Nieves\, que compartía con el ciclo navideño idéntico
  repertorio musical pastoril de tajaraste y sirinoque.\n\nCon ello\, Echen
 tive rinde homenaje a las agrupaciones del baile de pastores que desde 201
 2 hasta hoy han apostado por mantener estos repertorios\, que han de consi
 derarse los primeros y más antiguos que se escucharon en cada Navidad\, i
 ncluso a pesar de los intentos de prohibirlos por parte de la Iglesia dioc
 esana de Canarias primero y de la Diócesis de San Cristóbal de La Laguna
  después.
ATTACH;FMTTYPE=image/jpeg:https://www.larevistadelapalma.com/wp-content/up
 loads/2025/12/03.jpg
CATEGORIES:Fiestas populares,Otras propuestas,Varios
LOCATION:Municipio de Fuencaliente\, Fuencaliente\, Fuencaliente\, 38740\, 
 España
GEO:28.479676;-17.840616
X-APPLE-STRUCTURED-LOCATION;VALUE=URI;X-ADDRESS=Fuencaliente\, Fuencaliente
 \, 38740\, España;X-APPLE-RADIUS=100;X-TITLE=Municipio de Fuencaliente:ge
 o:28.479676,-17.840616
END:VEVENT
END:VCALENDARBEGIN:VCALENDAR
VERSION:2.0
PRODID:-//wp-events-plugin.com//7.2.3.1//EN
TZID:Europe/London
X-WR-TIMEZONE:Europe/London
BEGIN:VEVENT
UID:4092@larevistadelapalma.com
DTSTART:20251213T190000Z
DTEND:20251213T203000Z
DTSTAMP:20251210T194505Z
URL:https://www.larevistadelapalma.com/events/el-folclore-de-la-navidad-en
 -la-palma-conferencia-en-fuencaliente/
SUMMARY:El folclore de la Navidad en La Palma: conferencia en Fuencaliente
DESCRIPTION:La Agrupación Folclórica Echentive de Fuencaliente organiza l
 a conferencia titulada «Los pastores se volvieron: literatura\, música y
  danza de la Navidad de La Palma»\, que se celebrará el próximo sábado
  día 13 de diciembre en el edificio del antiguo Ayuntamiento de Fuencalie
 nte. La conferencia se enmarca dentro de la celebración del 50º aniversa
 rio fundacional de este conjunto\, que desde 1975 ha venido marcando las l
 íneas de la difusión y la investigación en torno al folclore en el muni
 cipio de Fuencaliente.\n\nDurante estas cinco décadas\, la agrupación se
  ha ocupado de rescatar e interpretar la música y la danza tradicionales 
 de la Navidad en el templo parroquial de San Antonio Abad cada Nochebuena.
  Asimismo\, Echentive ha apostado por retomar otros temas del género navi
 deño propios del municipio\, como son los «años nuevos»\, cánticos de
  tono humorístico y de origen gomero\, cuyas raíces arrancan en Los Cana
 rios gracias a la influencia de la familia responsable del funcionamiento 
 del antiguo faro de la Punta de Fuencaliente\, natural de la isla Colombin
 a.\n\nLa conferencia será impartida por Víctor J. Hernández Correa (San
 ta Cruz de La Palma\, 1975)\, trabajador de la Concejalía de Patrimonio C
 ultural del Ayuntamiento de Santa Cruz de La Palma\, quien\, además\, se 
 ha encargado de presentar\, desde su primera edición en 2012 hasta 2025 (
 ambas celebradas en Breña Alta)\, el Encuentro Insular de Música y Danza
  de Navidad\, promovidos por la Consejería de Cultura y Patrimonio Histó
 rico del Cabildo Insular de La Palma.\n\nEn su intervención\, el conferen
 ciante se acercará al ciclo navideño y a los repertorios de diferentes g
 éneros (sobre todo\, poesía y teatro) con los que se ha celebrado la Nav
 idad en La Palma. Aunque se tratarán la música y la literatura cultas\, 
 el corazón de esta intervención está centrado en los ciclos tradicional
 es de los llamados «grupos de pastores» que todavía hoy se conservan en
  buena parte de las parroquias de la isla\, asociados a las misas de Noche
 buena\, la Natividad\, la Circuncisión o Dulce Nombre de Jesús y Reyes. 
 Dotados originalmente de flauta dulce\, pitos\, tambor palmero y castañue
 las (además de otros instrumentos propios de este ciclo)\, en muchos encl
 aves el instrumento encargado de dar la melodía fue sustituido y/o altern
 ado con otros\, como el órgano (Breña Alta)\, la bandurria (Las Nieves) 
 o el acordeón (Tijarafe y Breña Alta).\n\nDesde su primera edición en 2
 012\, el Encuentro Insular de Música y Danza de Navidad ha contribuido de
 cisivamente a la visibilizar y difundir estas muestras\, que cuentan con v
 ariaciones de una parroquia a otra\, a su recuperación en algunos municip
 ios en los que prácticamente habían desaparecido y\, paralelamente\, a l
 a restitución del traslado (romería) de subida del trono de la Bajada de
  la Virgen de las Nieves\, que compartía con el ciclo navideño idéntico
  repertorio musical pastoril de tajaraste y sirinoque.\n\nCon ello\, Echen
 tive rinde homenaje a las agrupaciones del baile de pastores que desde 201
 2 hasta hoy han apostado por mantener estos repertorios\, que han de consi
 derarse los primeros y más antiguos que se escucharon en cada Navidad\, i
 ncluso a pesar de los intentos de prohibirlos por parte de la Iglesia dioc
 esana de Canarias primero y de la Diócesis de San Cristóbal de La Laguna
  después.
ATTACH;FMTTYPE=image/jpeg:https://www.larevistadelapalma.com/wp-content/up
 loads/2025/12/03.jpg
CATEGORIES:Fiestas populares,Otras propuestas,Varios
LOCATION:Municipio de Fuencaliente\, Fuencaliente\, Fuencaliente\, 38740\, 
 España
GEO:28.479676;-17.840616
X-APPLE-STRUCTURED-LOCATION;VALUE=URI;X-ADDRESS=Fuencaliente\, Fuencaliente
 \, 38740\, España;X-APPLE-RADIUS=100;X-TITLE=Municipio de Fuencaliente:ge
 o:28.479676,-17.840616
END:VEVENT
END:VCALENDAR