BEGIN:VCALENDAR
VERSION:2.0
PRODID:-//wp-events-plugin.com//7.2.3.1//EN
TZID:Europe/London
X-WR-TIMEZONE:Europe/London
BEGIN:VEVENT
UID:676@larevistadelapalma.com
DTSTART:20230924T163000Z
DTEND:20230924T180000Z
DTSTAMP:20230915T124852Z
URL:https://www.larevistadelapalma.com/events/el-grupo-de-teatro-los-de-de
 nantes-presenta-la-obra-los-tributos-en-garafia/
SUMMARY:El grupo de Teatro "Los De Denantes" presenta la obra "Los Tributos
 " en Garafía
DESCRIPTION:\nEl Grupo de Teatro de las Manchas "Los De Denantes" organizan
  una actividad de convivencia con los vecinos del barrio de Don Pedro\, en
  Garafía\,  y representarán la obra de teatro "Los Tributos". La obra e
 s un retrato de la idiosincrasia y costumbres típicas de Las Manchas. A t
 ravés de los diálogos creados por Roberto Camacho.\nUna alternativa muy 
 interesante para la tarde del domingo para compartir buenos momentos y rev
 ivir con humor historias\, recuerdos y anécdotas entorno a los tributos\,
  con la ambientación propia de tiempos pasados.\n\nMás información e in
 scripción en:\nEl teléfono 637 36 19 27 (WhatsApp) o en el correo cultur
 a@garafia.org\n
ATTACH;FMTTYPE=image/jpeg:https://www.larevistadelapalma.com/wp-content/up
 loads/2023/09/Los-tributos.jpg
CATEGORIES:Espectáculos,Teatro
LOCATION:Municipio Villa de Garafía\, Garafía\, Garafía\, 38787\, Españ
 a
GEO:28.822803;-17.950221
X-APPLE-STRUCTURED-LOCATION;VALUE=URI;X-ADDRESS=Garafía\, Garafía\, 38787
 \, España;X-APPLE-RADIUS=100;X-TITLE=Municipio Villa de Garafía:geo:28.8
 22803,-17.950221
END:VEVENT
END:VCALENDARBEGIN:VCALENDAR
VERSION:2.0
PRODID:-//wp-events-plugin.com//7.2.3.1//EN
TZID:Europe/London
X-WR-TIMEZONE:Europe/London
BEGIN:VEVENT
UID:676@larevistadelapalma.com
DTSTART:20230924T163000Z
DTEND:20230924T180000Z
DTSTAMP:20230915T124852Z
URL:https://www.larevistadelapalma.com/events/el-grupo-de-teatro-los-de-de
 nantes-presenta-la-obra-los-tributos-en-garafia/
SUMMARY:El grupo de Teatro "Los De Denantes" presenta la obra "Los Tributos
 " en Garafía
DESCRIPTION:\nEl Grupo de Teatro de las Manchas "Los De Denantes" organizan
  una actividad de convivencia con los vecinos del barrio de Don Pedro\, en
  Garafía\,  y representarán la obra de teatro "Los Tributos". La obra e
 s un retrato de la idiosincrasia y costumbres típicas de Las Manchas. A t
 ravés de los diálogos creados por Roberto Camacho.\nUna alternativa muy 
 interesante para la tarde del domingo para compartir buenos momentos y rev
 ivir con humor historias\, recuerdos y anécdotas entorno a los tributos\,
  con la ambientación propia de tiempos pasados.\n\nMás información e in
 scripción en:\nEl teléfono 637 36 19 27 (WhatsApp) o en el correo cultur
 a@garafia.org\n
ATTACH;FMTTYPE=image/jpeg:https://www.larevistadelapalma.com/wp-content/up
 loads/2023/09/Los-tributos.jpg
CATEGORIES:Espectáculos,Teatro
LOCATION:Municipio Villa de Garafía\, Garafía\, Garafía\, 38787\, Españ
 a
GEO:28.822803;-17.950221
X-APPLE-STRUCTURED-LOCATION;VALUE=URI;X-ADDRESS=Garafía\, Garafía\, 38787
 \, España;X-APPLE-RADIUS=100;X-TITLE=Municipio Villa de Garafía:geo:28.8
 22803,-17.950221
END:VEVENT
END:VCALENDAR