BEGIN:VCALENDAR
VERSION:2.0
PRODID:-//wp-events-plugin.com//7.2.3.1//EN
TZID:Europe/London
X-WR-TIMEZONE:Europe/London
BEGIN:VEVENT
UID:4115@larevistadelapalma.com
DTSTART:20251219T180000Z
DTEND:20251219T191500Z
DTSTAMP:20251218T234359Z
URL:https://www.larevistadelapalma.com/events/el-guitarrista-clasico-luis-
 alejandro-garcia-ofrece-el-concierto-ensueno-santa-cruz-de-la-palma/
SUMMARY:El guitarrista clásico Luis Alejandro García ofrece el concierto
  Ensueño. Santa Cruz de La Palma
DESCRIPTION:Este recital forma parte de los conciertos en las islas no capi
 talinas de la Real Academia Canaria de Bellas Artes y tendrá lugar en el 
 Museo Insular.\nLa Real Academia Canaria de Bellas Artes de San Miguel Arc
 ángel (Racba)\, en línea con su objetivo de acercar la mejor música a l
 as islas no capitalinas\, ofrece el concierto Ensueño\, a cargo del inter
 nacionalmente laureado guitarrista clásico Luis Alejandro García. El rec
 ital tendrá entrada gratis hasta completar aforo.\nEste concierto cuenta 
 con el apoyo del Gobierno de Canarias y del Museo Insular y\, durante el m
 ismo\, el joven guitarrista presenta un repertorio repleto de be­lleza\, 
 fantasía y sueños con música del Romanticismo\, a través de composicio
 nes de Fernando Sor (1778-1839)\, Napoléon Coste (1805-1883)\, Johann Kas
 par Mertz (1806-1856) y Mauro Giuliani (1781-1829)\, en las que el ensueñ
 o será siempre la premisa fundamental.\nSegún indica el intérprete\, 
 “en la música\, difícilmente es imaginable un período histórico en q
 ue la imaginación y la ensoña­ción fueran tomadas por bandera y símbo
 lo en ma­yor medida que en el Romanticismo. Géneros como la fantasía\, 
 el nocturno o el poema musical hablan de la música como un tránsito entr
 e lo terrenal y lo espiri­tual\, entre lo mundano y lo celestial”\, y e
 l repertorio que ofrece es una muestra representativa de este periodo.\n\n
 \nLuis Alejandro García ha sido alabado por la crítica internacional co
 mo “un extraordinario narrador musical” (L’Arena di Verona)\, y es u
 no de los guitarristas españoles más laureados de su generación\, como 
 atestiguan sus más de cuarenta premios internacionales.\n\nEn continuo cr
 ecimiento\, su carrera le ha llevado a debutar en importantes salas como e
 l Musikverein de Viena o el Palau de la Música Catalana\, y sus giras han
  alcanzado países de Europa\, África y América\, donde ha ofrecido cent
 enares de recitales. Asimismo\, ha actuado como solista junto a grandes or
 questas en Europa y ha realizado hasta cinco grabaciones discográficas. E
 n paralelo\, sostiene una intensa actividad en el campo de la música de c
 ámara.\nSus próximos compromisos incluyen giras por diferentes lugares d
 e España\, Eslovenia\, Francia\, Estados Unidos\, México o Argentina\, y
  todavía están recientes sus éxitos en el Certamen Internacional de Gui
 tarra Clásica Francisco Tárrega\, el más antiguo del mundo\, y su recie
 nte actuación como solista con la Orquesta Filarmónica de Gran Canaria e
 n el concierto de apertura de la temporada 2025-2026. Se ha formado en Gui
 tarra y Musicología en Tenerife y Barcelona\, y es artista esponsorizado 
 por Knobloch Strings y Vicente Carrillo.\n
ATTACH;FMTTYPE=image/jpeg:https://www.larevistadelapalma.com/wp-content/up
 loads/2025/12/LUIS-ALEJANDRO-GARCIA-scaled.jpg
CATEGORIES:Conciertos,Música
LOCATION:Museo Insular de La Palma\, Plaza de San Francisco\, 3\, Santa Cru
 z de La Palma\, 38700\, España
GEO:28.687;-17.762092
X-APPLE-STRUCTURED-LOCATION;VALUE=URI;X-ADDRESS=Plaza de San Francisco\, 3\
 , Santa Cruz de La Palma\, 38700\, España;X-APPLE-RADIUS=100;X-TITLE=Muse
 o Insular de La Palma:geo:28.687,-17.762092
END:VEVENT
END:VCALENDARBEGIN:VCALENDAR
VERSION:2.0
PRODID:-//wp-events-plugin.com//7.2.3.1//EN
TZID:Europe/London
X-WR-TIMEZONE:Europe/London
BEGIN:VEVENT
UID:4115@larevistadelapalma.com
DTSTART:20251219T180000Z
DTEND:20251219T191500Z
DTSTAMP:20251218T234359Z
URL:https://www.larevistadelapalma.com/events/el-guitarrista-clasico-luis-
 alejandro-garcia-ofrece-el-concierto-ensueno-santa-cruz-de-la-palma/
SUMMARY:El guitarrista clásico Luis Alejandro García ofrece el concierto
  Ensueño. Santa Cruz de La Palma
DESCRIPTION:Este recital forma parte de los conciertos en las islas no capi
 talinas de la Real Academia Canaria de Bellas Artes y tendrá lugar en el 
 Museo Insular.\nLa Real Academia Canaria de Bellas Artes de San Miguel Arc
 ángel (Racba)\, en línea con su objetivo de acercar la mejor música a l
 as islas no capitalinas\, ofrece el concierto Ensueño\, a cargo del inter
 nacionalmente laureado guitarrista clásico Luis Alejandro García. El rec
 ital tendrá entrada gratis hasta completar aforo.\nEste concierto cuenta 
 con el apoyo del Gobierno de Canarias y del Museo Insular y\, durante el m
 ismo\, el joven guitarrista presenta un repertorio repleto de be­lleza\, 
 fantasía y sueños con música del Romanticismo\, a través de composicio
 nes de Fernando Sor (1778-1839)\, Napoléon Coste (1805-1883)\, Johann Kas
 par Mertz (1806-1856) y Mauro Giuliani (1781-1829)\, en las que el ensueñ
 o será siempre la premisa fundamental.\nSegún indica el intérprete\, 
 “en la música\, difícilmente es imaginable un período histórico en q
 ue la imaginación y la ensoña­ción fueran tomadas por bandera y símbo
 lo en ma­yor medida que en el Romanticismo. Géneros como la fantasía\, 
 el nocturno o el poema musical hablan de la música como un tránsito entr
 e lo terrenal y lo espiri­tual\, entre lo mundano y lo celestial”\, y e
 l repertorio que ofrece es una muestra representativa de este periodo.\n\n
 \nLuis Alejandro García ha sido alabado por la crítica internacional co
 mo “un extraordinario narrador musical” (L’Arena di Verona)\, y es u
 no de los guitarristas españoles más laureados de su generación\, como 
 atestiguan sus más de cuarenta premios internacionales.\n\nEn continuo cr
 ecimiento\, su carrera le ha llevado a debutar en importantes salas como e
 l Musikverein de Viena o el Palau de la Música Catalana\, y sus giras han
  alcanzado países de Europa\, África y América\, donde ha ofrecido cent
 enares de recitales. Asimismo\, ha actuado como solista junto a grandes or
 questas en Europa y ha realizado hasta cinco grabaciones discográficas. E
 n paralelo\, sostiene una intensa actividad en el campo de la música de c
 ámara.\nSus próximos compromisos incluyen giras por diferentes lugares d
 e España\, Eslovenia\, Francia\, Estados Unidos\, México o Argentina\, y
  todavía están recientes sus éxitos en el Certamen Internacional de Gui
 tarra Clásica Francisco Tárrega\, el más antiguo del mundo\, y su recie
 nte actuación como solista con la Orquesta Filarmónica de Gran Canaria e
 n el concierto de apertura de la temporada 2025-2026. Se ha formado en Gui
 tarra y Musicología en Tenerife y Barcelona\, y es artista esponsorizado 
 por Knobloch Strings y Vicente Carrillo.\n
ATTACH;FMTTYPE=image/jpeg:https://www.larevistadelapalma.com/wp-content/up
 loads/2025/12/LUIS-ALEJANDRO-GARCIA-scaled.jpg
CATEGORIES:Conciertos,Música
LOCATION:Museo Insular de La Palma\, Plaza de San Francisco\, 3\, Santa Cru
 z de La Palma\, 38700\, España
GEO:28.687;-17.762092
X-APPLE-STRUCTURED-LOCATION;VALUE=URI;X-ADDRESS=Plaza de San Francisco\, 3\
 , Santa Cruz de La Palma\, 38700\, España;X-APPLE-RADIUS=100;X-TITLE=Muse
 o Insular de La Palma:geo:28.687,-17.762092
END:VEVENT
END:VCALENDAR