BEGIN:VCALENDAR
VERSION:2.0
PRODID:-//wp-events-plugin.com//7.2.3.1//EN
TZID:Europe/London
X-WR-TIMEZONE:Europe/London
BEGIN:VEVENT
UID:2967@larevistadelapalma.com
DTSTART:20240502T193000Z
DTEND:20240502T210000Z
DTSTAMP:20240430T201041Z
URL:https://www.larevistadelapalma.com/events/el-homenaje-escenico-a-cecil
 ia-dominguez-luis-recorre-las-islas-y-comienza-en-los-llanos/
SUMMARY:El homenaje escénico a Cecilia Domínguez Luis recorre las Islas y
  comienza en Los Llanos
DESCRIPTION:‘Cecilia\, mundo y poesía’ indaga en la obra de la autora\
 , Premio Canarias en 2015\, y será representada en distintos espacios en 
 los próximos meses.\nLa gira comienza en Los Llanos de Aridane\, este jue
 ves 2\, a las 20.30 horas.\nEl público de las islas tendrá la oportunida
 d de adentrarse en un viaje escénico por la obra y vida de una de las esc
 ritoras canarias más influyentes del último siglo: Cecilia Domínguez Lu
 is\, a quien el Gobierno de Canarias dedicó en 2023 el Día de las Escrit
 oras. Lo hará a través del ‘Cecilia\, mundo y poesía’\, una propues
 ta escénica y coloquio con la autora que recorrerá distintos espacios de
 l archipiélago durante los próximos meses. La primera parada será este 
 jueves 2 de mayo en la plaza del Ayuntamiento del municipio palmero de Los
  Llanos de Aridane\, y finalizará el 11 de octubre con una última actuac
 ión en la capital herreña.\nEste homenaje\, organizado por el área de C
 ultura del Gobierno de Canarias\, incluye una charla presencial con la aut
 ora\, Premio Canarias en 2015\, y la escenificación de varios de sus poem
 as\, mostrando su evolución creativa\, así como sus temáticas recurrent
 es: el territorio\, la identidad o el cuestionamiento poético. Estas inte
 rpretaciones correrán a cargo de Ylenia Quintero Campos y Mabel Quintero 
 Ledesma.\nGira por las islas\nTras representarse el pasado diciembre en el
  Espacio La Granja en  Tenerife\, este jueves 2\, a las 20.30h\, llegar
 á a Los Llanos de Aridane\, en La Palma\; y el 23 de mayo a  Fuerteven
 tura\, con una función en la Biblioteca de Puerto del Rosario\, a las 20.
 00 horas. En Gran Canaria será el 20 de junio\, a las 20.00h\, en el T
 eatro Guiniguada\; y en La Gomera\, el 20 de septiembre\, a las 20.30h\,
  en el Auditorio Insular. Ese mismo mes\, el día 29\, a las 18.00h\, est
 ará en la Sala Teatro La Tegala de Haría\, en Lanzarote\, para finaliza
 r el 11 de octubre\, a las 20.30h\, en el Centro Cultural Asabanos de Va
 lverde\, en El Hierro.\nEstos actos\, de entrada libre\, se realizan en e
 l marco del Día de las Escritoras 2023\, que el Gobierno de Canarias dedi
 có el pasado octubre a esta autora\, por su brillante trayectoria literar
 ia e indiscutible influencia en toda una generación de escritoras canaria
 s.\nCecilia Domínguez Luis (1948) se sintió inclinada desde niña hacia
  la escritura. Es maestra y licenciada en Filología Hispánica. Ha public
 ado numerosos libros de poesía\, novelas y cuentos\, y su obra ha sido tr
 aducida al francés\, al rumano y al alemán. Ha participado como ponente 
 en diversos congresos nacionales e internacionales sobre lengua y literatu
 ra\, así como en encuentros de poesía. También ha publicado artículos\
 , poemas y cuentos en periódicos y revistas de las islas Canarias y de la
  península.\nForma parte del comité de redacción de la revista Cuaderno
 s del Ateneo del Ateneo de La Laguna\, sociedad de la cual fue presidenta 
 entre 1999 y 2001. También ha pertenecido a los consejos de redacción de
  otras revistas literarias como Fetasa y ACL: revista literaria\, de la Ac
 ademia Canaria de la Lengua. Desde el año 2011 es académica numeraria de
  la Academia Canaria de la Lengua y en junio de 2013 es nombrada miembro d
 el Instituto de Estudios Canarios. En 2015 recibe el Premio Canarias de Li
 teratura y en 2023 el Gobierno de Canarias la hace protagonista del Día d
 e las Escritoras.\nPodcast Literario\nDe otra parte\, cabe reseñar que el
  primer capítulo del nuevo podcast ‘Canarias una hora más para leer’
  que ha editado el Gobierno de Canarias para difundir la literatura insula
 r está dedicado precisamente a Cecilia Domínguez. Está disponible en el
  canal de Youtube ‘Letras Canarias’ y en el perfil de Spotify de Cu
 ltura GobCan.\nEste primer programa\, titulado ‘Cecilia Domínguez y su 
 faceta literaria menos conocida’\, aborda textos como “Bailaderos”\,
  en el que narra una escena canaria de brujería. ‘Canarias\, una hora m
 ás para leer’ ha sido producido por la divulgadora Mónica Blanco\, que
  durante ocho episodios acercará las letras canarias a toda clase de púb
 lico.
ATTACH;FMTTYPE=image/jpeg:https://www.larevistadelapalma.com/wp-content/up
 loads/2024/04/Cecilia-Dominguez.png
CATEGORIES:Cine y Literatura,Literatura
LOCATION:Plaza de España en Los Llanos de Aridane\, Plaza de España\, Los
  Llanos de Aridane\, 38760\, España
GEO:28.658934;-17.913174
X-APPLE-STRUCTURED-LOCATION;VALUE=URI;X-ADDRESS=Plaza de España\, Los Llan
 os de Aridane\, 38760\, España;X-APPLE-RADIUS=100;X-TITLE=Plaza de Españ
 a en Los Llanos de Aridane:geo:28.658934,-17.913174
END:VEVENT
END:VCALENDARBEGIN:VCALENDAR
VERSION:2.0
PRODID:-//wp-events-plugin.com//7.2.3.1//EN
TZID:Europe/London
X-WR-TIMEZONE:Europe/London
BEGIN:VEVENT
UID:2967@larevistadelapalma.com
DTSTART:20240502T193000Z
DTEND:20240502T210000Z
DTSTAMP:20240430T201041Z
URL:https://www.larevistadelapalma.com/events/el-homenaje-escenico-a-cecil
 ia-dominguez-luis-recorre-las-islas-y-comienza-en-los-llanos/
SUMMARY:El homenaje escénico a Cecilia Domínguez Luis recorre las Islas y
  comienza en Los Llanos
DESCRIPTION:‘Cecilia\, mundo y poesía’ indaga en la obra de la autora\
 , Premio Canarias en 2015\, y será representada en distintos espacios en 
 los próximos meses.\nLa gira comienza en Los Llanos de Aridane\, este jue
 ves 2\, a las 20.30 horas.\nEl público de las islas tendrá la oportunida
 d de adentrarse en un viaje escénico por la obra y vida de una de las esc
 ritoras canarias más influyentes del último siglo: Cecilia Domínguez Lu
 is\, a quien el Gobierno de Canarias dedicó en 2023 el Día de las Escrit
 oras. Lo hará a través del ‘Cecilia\, mundo y poesía’\, una propues
 ta escénica y coloquio con la autora que recorrerá distintos espacios de
 l archipiélago durante los próximos meses. La primera parada será este 
 jueves 2 de mayo en la plaza del Ayuntamiento del municipio palmero de Los
  Llanos de Aridane\, y finalizará el 11 de octubre con una última actuac
 ión en la capital herreña.\nEste homenaje\, organizado por el área de C
 ultura del Gobierno de Canarias\, incluye una charla presencial con la aut
 ora\, Premio Canarias en 2015\, y la escenificación de varios de sus poem
 as\, mostrando su evolución creativa\, así como sus temáticas recurrent
 es: el territorio\, la identidad o el cuestionamiento poético. Estas inte
 rpretaciones correrán a cargo de Ylenia Quintero Campos y Mabel Quintero 
 Ledesma.\nGira por las islas\nTras representarse el pasado diciembre en el
  Espacio La Granja en  Tenerife\, este jueves 2\, a las 20.30h\, llegar
 á a Los Llanos de Aridane\, en La Palma\; y el 23 de mayo a  Fuerteven
 tura\, con una función en la Biblioteca de Puerto del Rosario\, a las 20.
 00 horas. En Gran Canaria será el 20 de junio\, a las 20.00h\, en el T
 eatro Guiniguada\; y en La Gomera\, el 20 de septiembre\, a las 20.30h\,
  en el Auditorio Insular. Ese mismo mes\, el día 29\, a las 18.00h\, est
 ará en la Sala Teatro La Tegala de Haría\, en Lanzarote\, para finaliza
 r el 11 de octubre\, a las 20.30h\, en el Centro Cultural Asabanos de Va
 lverde\, en El Hierro.\nEstos actos\, de entrada libre\, se realizan en e
 l marco del Día de las Escritoras 2023\, que el Gobierno de Canarias dedi
 có el pasado octubre a esta autora\, por su brillante trayectoria literar
 ia e indiscutible influencia en toda una generación de escritoras canaria
 s.\nCecilia Domínguez Luis (1948) se sintió inclinada desde niña hacia
  la escritura. Es maestra y licenciada en Filología Hispánica. Ha public
 ado numerosos libros de poesía\, novelas y cuentos\, y su obra ha sido tr
 aducida al francés\, al rumano y al alemán. Ha participado como ponente 
 en diversos congresos nacionales e internacionales sobre lengua y literatu
 ra\, así como en encuentros de poesía. También ha publicado artículos\
 , poemas y cuentos en periódicos y revistas de las islas Canarias y de la
  península.\nForma parte del comité de redacción de la revista Cuaderno
 s del Ateneo del Ateneo de La Laguna\, sociedad de la cual fue presidenta 
 entre 1999 y 2001. También ha pertenecido a los consejos de redacción de
  otras revistas literarias como Fetasa y ACL: revista literaria\, de la Ac
 ademia Canaria de la Lengua. Desde el año 2011 es académica numeraria de
  la Academia Canaria de la Lengua y en junio de 2013 es nombrada miembro d
 el Instituto de Estudios Canarios. En 2015 recibe el Premio Canarias de Li
 teratura y en 2023 el Gobierno de Canarias la hace protagonista del Día d
 e las Escritoras.\nPodcast Literario\nDe otra parte\, cabe reseñar que el
  primer capítulo del nuevo podcast ‘Canarias una hora más para leer’
  que ha editado el Gobierno de Canarias para difundir la literatura insula
 r está dedicado precisamente a Cecilia Domínguez. Está disponible en el
  canal de Youtube ‘Letras Canarias’ y en el perfil de Spotify de Cu
 ltura GobCan.\nEste primer programa\, titulado ‘Cecilia Domínguez y su 
 faceta literaria menos conocida’\, aborda textos como “Bailaderos”\,
  en el que narra una escena canaria de brujería. ‘Canarias\, una hora m
 ás para leer’ ha sido producido por la divulgadora Mónica Blanco\, que
  durante ocho episodios acercará las letras canarias a toda clase de púb
 lico.
ATTACH;FMTTYPE=image/jpeg:https://www.larevistadelapalma.com/wp-content/up
 loads/2024/04/Cecilia-Dominguez.png
CATEGORIES:Cine y Literatura,Literatura
LOCATION:Plaza de España en Los Llanos de Aridane\, Plaza de España\, Los
  Llanos de Aridane\, 38760\, España
GEO:28.658934;-17.913174
X-APPLE-STRUCTURED-LOCATION;VALUE=URI;X-ADDRESS=Plaza de España\, Los Llan
 os de Aridane\, 38760\, España;X-APPLE-RADIUS=100;X-TITLE=Plaza de Españ
 a en Los Llanos de Aridane:geo:28.658934,-17.913174
END:VEVENT
END:VCALENDAR