BEGIN:VCALENDAR
VERSION:2.0
PRODID:-//wp-events-plugin.com//7.2.3.1//EN
TZID:Europe/London
X-WR-TIMEZONE:Europe/London
BEGIN:VEVENT
UID:190@larevistadelapalma.com
DTSTART;VALUE=DATE:20230816
DTEND;VALUE=DATE:20230819
DTSTAMP:20230721T204749Z
URL:https://www.larevistadelapalma.com/events/el-i-campus-de-baloncesto-ro
 berto-estrello-sera-gratuito/
SUMMARY:El I Campus de Baloncesto Roberto Estrello será gratuito
DESCRIPTION:Se celebrará en Santa Cruz de La Palma los días 16\, 17 y 18 
 de agosto.\nEl I Campus de Baloncesto Roberto Estrello se celebrará los d
 ías 16\, 17 y 18 de agosto y será gratuito para todos los niños y niña
 s que se inscriban. El campus tendrá lugar en el Pabellón de deportes Ro
 berto Estrello de Santa Cruz de La Palma.\nEste encuentro deportivo supone
  la vuelta de Roberto Estrello a las canchas de baloncesto después de má
 s de una década retirado. Y lo hace para volver a fomentar los valores en
  el deporte con el estilo que siempre caracterizó a este técnico en el b
 aloncesto\, como son el esfuerzo\, la solidaridad\, el compañerismo y el 
 trabajo en equipo\, así como el deporte en igualdad.\nEl campus será gra
 tuito para todos los niños y niñas participantes (de 7 a 14 años)\, por
  lo que no será necesario pagar cuota de inscripción o matrícula. Se da
 rá prioridad a los niños y niñas de familias en riesgo de exclusión o 
 con mayores dificultades económicas\, con el objetivo de que exista igual
 dad de oportunidades y que el baloncesto pueda estar accesible para todos.
 \nEn el campus participarán entrenadores palmeros reconocidos por su tray
 ectoria en este deporte\, algunos técnicos veteranos de mucha experiencia
  y otros con titulación nacional.\nLas tres jornadas contarán con formac
 ión técnica\, charlas tácticas\, juegos\, formación en valores y momen
 tos de ocio relacionados con el baloncesto. Todos los participantes dispon
 drán de seguro médico de accidentes.\nAdemás\, el campus se celebra en 
 colaboración con el Ayuntamiento de Santa Cruz de La Palma y de la Escuel
 a de Baloncesto Felipe Antón\, lo que permite unir los nombres de dos fig
 uras ilustres del baloncesto palmero\, que además fueron grandes amigos\,
  como son Felipe Antón y Roberto Estrelló. También colabora la Fundaci
 ón del Club Baloncesto Canarias\, Axa Seguros\, Libby’s y BB Agua.\nLas
  familias interesadas en que los niños participen en esta actividad podr
 án formalizar sus inscripciones a través de este formulario o del correo
  electrónico campusrobertoestrello@gmail.com.
ATTACH;FMTTYPE=image/jpeg:https://www.larevistadelapalma.com/wp-content/up
 loads/2023/07/Campus_Roberto_Estrello_Cartel_A4-scaled.jpg
CATEGORIES:Actividades deportivas,Otras propuestas
LOCATION:Pabellón de deportes Roberto Estrello\, Cam. Velachero\,\, Santa 
 Cruz De La Palma\, 38700\, España
GEO:28.688602;-17.766897
X-APPLE-STRUCTURED-LOCATION;VALUE=URI;X-ADDRESS=Cam. Velachero\,\, Santa Cr
 uz De La Palma\, 38700\, España;X-APPLE-RADIUS=100;X-TITLE=Pabellón de d
 eportes Roberto Estrello:geo:28.688602,-17.766897
END:VEVENT
END:VCALENDARBEGIN:VCALENDAR
VERSION:2.0
PRODID:-//wp-events-plugin.com//7.2.3.1//EN
TZID:Europe/London
X-WR-TIMEZONE:Europe/London
BEGIN:VEVENT
UID:190@larevistadelapalma.com
DTSTART;VALUE=DATE:20230816
DTEND;VALUE=DATE:20230819
DTSTAMP:20230721T204749Z
URL:https://www.larevistadelapalma.com/events/el-i-campus-de-baloncesto-ro
 berto-estrello-sera-gratuito/
SUMMARY:El I Campus de Baloncesto Roberto Estrello será gratuito
DESCRIPTION:Se celebrará en Santa Cruz de La Palma los días 16\, 17 y 18 
 de agosto.\nEl I Campus de Baloncesto Roberto Estrello se celebrará los d
 ías 16\, 17 y 18 de agosto y será gratuito para todos los niños y niña
 s que se inscriban. El campus tendrá lugar en el Pabellón de deportes Ro
 berto Estrello de Santa Cruz de La Palma.\nEste encuentro deportivo supone
  la vuelta de Roberto Estrello a las canchas de baloncesto después de má
 s de una década retirado. Y lo hace para volver a fomentar los valores en
  el deporte con el estilo que siempre caracterizó a este técnico en el b
 aloncesto\, como son el esfuerzo\, la solidaridad\, el compañerismo y el 
 trabajo en equipo\, así como el deporte en igualdad.\nEl campus será gra
 tuito para todos los niños y niñas participantes (de 7 a 14 años)\, por
  lo que no será necesario pagar cuota de inscripción o matrícula. Se da
 rá prioridad a los niños y niñas de familias en riesgo de exclusión o 
 con mayores dificultades económicas\, con el objetivo de que exista igual
 dad de oportunidades y que el baloncesto pueda estar accesible para todos.
 \nEn el campus participarán entrenadores palmeros reconocidos por su tray
 ectoria en este deporte\, algunos técnicos veteranos de mucha experiencia
  y otros con titulación nacional.\nLas tres jornadas contarán con formac
 ión técnica\, charlas tácticas\, juegos\, formación en valores y momen
 tos de ocio relacionados con el baloncesto. Todos los participantes dispon
 drán de seguro médico de accidentes.\nAdemás\, el campus se celebra en 
 colaboración con el Ayuntamiento de Santa Cruz de La Palma y de la Escuel
 a de Baloncesto Felipe Antón\, lo que permite unir los nombres de dos fig
 uras ilustres del baloncesto palmero\, que además fueron grandes amigos\,
  como son Felipe Antón y Roberto Estrelló. También colabora la Fundaci
 ón del Club Baloncesto Canarias\, Axa Seguros\, Libby’s y BB Agua.\nLas
  familias interesadas en que los niños participen en esta actividad podr
 án formalizar sus inscripciones a través de este formulario o del correo
  electrónico campusrobertoestrello@gmail.com.
ATTACH;FMTTYPE=image/jpeg:https://www.larevistadelapalma.com/wp-content/up
 loads/2023/07/Campus_Roberto_Estrello_Cartel_A4-scaled.jpg
CATEGORIES:Actividades deportivas,Otras propuestas
LOCATION:Pabellón de deportes Roberto Estrello\, Cam. Velachero\,\, Santa 
 Cruz De La Palma\, 38700\, España
GEO:28.688602;-17.766897
X-APPLE-STRUCTURED-LOCATION;VALUE=URI;X-ADDRESS=Cam. Velachero\,\, Santa Cr
 uz De La Palma\, 38700\, España;X-APPLE-RADIUS=100;X-TITLE=Pabellón de d
 eportes Roberto Estrello:geo:28.688602,-17.766897
END:VEVENT
END:VCALENDAR