BEGIN:VCALENDAR
VERSION:2.0
PRODID:-//wp-events-plugin.com//7.2.3.1//EN
TZID:Europe/London
X-WR-TIMEZONE:Europe/London
BEGIN:VEVENT
UID:3196@larevistadelapalma.com
DTSTART:20240825T110000Z
DTEND:20240825T124500Z
DTSTAMP:20240821T224454Z
URL:https://www.larevistadelapalma.com/events/el-mercadillo-del-agricultor
 -de-puntagorda-celebra-su-xxii-aniversario/
SUMMARY:El Mercadillo del Agricultor de Puntagorda celebra su XXII aniversa
 rio
DESCRIPTION:La instalación\, premio de Gestión Sostenible de la Reserva M
 undial de la Biosfera La Palma y con certificación de la  Biosphere Disc
 over\, registra una media de 12.000 visitas al año \n\nEl Mercadillo del
  Agricultor de Puntagorda\, referente de sostenibilidad agraria y alimenta
 ria en la isla de La Palma\, cumple este domingo su XXII aniversario\, una
  conmemoración que permite hacer balance de “un largo recorrido de esfu
 erzo y tesón que ha consolidado este recurso municipal\, con una media de
  12.000 visitas anuales”. \n\nAsí lo explica el alcalde del Ayuntamien
 to de Puntagorda\, Vicente Rodríguez\, quien quiso agradecer “la tenaci
 dad y el empeño de las familias que comercializan sus producciones agrari
 as\, ganaderas y artesanales en el Mercadillo del Agricultor\, lugar de vi
 sita obligada para turistas y residentes que pasan a lo largo de todo el a
 ño por la comarca noreste de La Palma”. La celebración de este XXII an
 iversario este domingo 25 de agosto arrancará a las 11:00 horas con la ap
 ertura de las puertas del mismo.\n\n\n\nACTIVIDADES\nA las 12 horas comenz
 aran las actividades infantiles con el taller de pintura en tela impartido
  por la artesana Carmen Nieves Camacho y a su vez habrá pintacaras y glob
 oflexia a cargo de Tabayzu. A las 12:30 comenzara la actuación musical de
 l Grupo Habana.  \n\nDurante toda la jornada\, Ron Aldea y el Ciclo de Gr
 ado Medio de Gastronomía del IES Puntagorda\, realizaran un maridaje/degu
 stación para todos los presentes. \n\n\n\nEl Mercadillo cumple 22 años 
 de una trayectoria de reconocido prestigio\, en la que figura el premio de
  ‘Gestión Sostenible’ del Consorcio de la Reserva de la Biosfera de L
 a Palma\, y la certificación de la Biosphere Discover\, otorgada por el I
 nstituto de Turismo Responsable (ITR)\, entidad asociada a la UNESCO y a l
 a Organización Mundial de Turismo (OMT)\, además de ser miembro del Cons
 ejo de Acreditación en Turismo Sostenible(STSC) de las Naciones Unidas. 
 \n\nEl alcalde de Puntagorda\, Vicente Rodríguez\, quiso recordar que “
 los reconocimientos al Mercadillo del Agricultor de Puntagorda permiten di
 mensionar la trayectoria de más de tres lustros años de trabajo por part
 e de los agricultores\, ganaderos\, comerciantes\, reposteros y artesanos 
 que forman parte de este proyecto en favor de los principios de desarrollo
  sostenible y en defensa de nuestras medianías”. \n\nEl Ayuntamiento d
 e Puntagorda\, que mantiene intacta su línea de trabajo para la potenciac
 ión y apoyo a la producción agraria ecológica\, firmó la adhesión de 
 esta instalación\, con una media de 4.000 visitas mensuales\, al Club de 
 Producto Turístico Reservas de la Biosfera Españolas\, con garantías de
  seguridad alimentaria y con una amplia oferta de artículos artesanales.\
 n\n&nbsp\;
ATTACH;FMTTYPE=image/jpeg:https://www.larevistadelapalma.com/wp-content/up
 loads/2024/08/WhatsApp-Image-2024-08-19-at-08.10.17.jpeg
CATEGORIES:Ferias y mercados,Otras propuestas
END:VEVENT
END:VCALENDARBEGIN:VCALENDAR
VERSION:2.0
PRODID:-//wp-events-plugin.com//7.2.3.1//EN
TZID:Europe/London
X-WR-TIMEZONE:Europe/London
BEGIN:VEVENT
UID:3196@larevistadelapalma.com
DTSTART:20240825T110000Z
DTEND:20240825T124500Z
DTSTAMP:20240821T224454Z
URL:https://www.larevistadelapalma.com/events/el-mercadillo-del-agricultor
 -de-puntagorda-celebra-su-xxii-aniversario/
SUMMARY:El Mercadillo del Agricultor de Puntagorda celebra su XXII aniversa
 rio
DESCRIPTION:La instalación\, premio de Gestión Sostenible de la Reserva M
 undial de la Biosfera La Palma y con certificación de la  Biosphere Disc
 over\, registra una media de 12.000 visitas al año \n\nEl Mercadillo del
  Agricultor de Puntagorda\, referente de sostenibilidad agraria y alimenta
 ria en la isla de La Palma\, cumple este domingo su XXII aniversario\, una
  conmemoración que permite hacer balance de “un largo recorrido de esfu
 erzo y tesón que ha consolidado este recurso municipal\, con una media de
  12.000 visitas anuales”. \n\nAsí lo explica el alcalde del Ayuntamien
 to de Puntagorda\, Vicente Rodríguez\, quien quiso agradecer “la tenaci
 dad y el empeño de las familias que comercializan sus producciones agrari
 as\, ganaderas y artesanales en el Mercadillo del Agricultor\, lugar de vi
 sita obligada para turistas y residentes que pasan a lo largo de todo el a
 ño por la comarca noreste de La Palma”. La celebración de este XXII an
 iversario este domingo 25 de agosto arrancará a las 11:00 horas con la ap
 ertura de las puertas del mismo.\n\n\n\nACTIVIDADES\nA las 12 horas comenz
 aran las actividades infantiles con el taller de pintura en tela impartido
  por la artesana Carmen Nieves Camacho y a su vez habrá pintacaras y glob
 oflexia a cargo de Tabayzu. A las 12:30 comenzara la actuación musical de
 l Grupo Habana.  \n\nDurante toda la jornada\, Ron Aldea y el Ciclo de Gr
 ado Medio de Gastronomía del IES Puntagorda\, realizaran un maridaje/degu
 stación para todos los presentes. \n\n\n\nEl Mercadillo cumple 22 años 
 de una trayectoria de reconocido prestigio\, en la que figura el premio de
  ‘Gestión Sostenible’ del Consorcio de la Reserva de la Biosfera de L
 a Palma\, y la certificación de la Biosphere Discover\, otorgada por el I
 nstituto de Turismo Responsable (ITR)\, entidad asociada a la UNESCO y a l
 a Organización Mundial de Turismo (OMT)\, además de ser miembro del Cons
 ejo de Acreditación en Turismo Sostenible(STSC) de las Naciones Unidas. 
 \n\nEl alcalde de Puntagorda\, Vicente Rodríguez\, quiso recordar que “
 los reconocimientos al Mercadillo del Agricultor de Puntagorda permiten di
 mensionar la trayectoria de más de tres lustros años de trabajo por part
 e de los agricultores\, ganaderos\, comerciantes\, reposteros y artesanos 
 que forman parte de este proyecto en favor de los principios de desarrollo
  sostenible y en defensa de nuestras medianías”. \n\nEl Ayuntamiento d
 e Puntagorda\, que mantiene intacta su línea de trabajo para la potenciac
 ión y apoyo a la producción agraria ecológica\, firmó la adhesión de 
 esta instalación\, con una media de 4.000 visitas mensuales\, al Club de 
 Producto Turístico Reservas de la Biosfera Españolas\, con garantías de
  seguridad alimentaria y con una amplia oferta de artículos artesanales.\
 n\n&nbsp\;
ATTACH;FMTTYPE=image/jpeg:https://www.larevistadelapalma.com/wp-content/up
 loads/2024/08/WhatsApp-Image-2024-08-19-at-08.10.17.jpeg
CATEGORIES:Ferias y mercados,Otras propuestas
END:VEVENT
END:VCALENDAR