BEGIN:VCALENDAR
VERSION:2.0
PRODID:-//wp-events-plugin.com//7.2.3.1//EN
TZID:Europe/London
X-WR-TIMEZONE:Europe/London
BEGIN:VEVENT
UID:3482@larevistadelapalma.com
DTSTART;VALUE=DATE:20241211
DTEND;VALUE=DATE:20250312
DTSTAMP:20241213T124416Z
URL:https://www.larevistadelapalma.com/events/el-museo-casa-roja-acoge-la-
 muestra-20-anos-de-pinceladas-de-amigos-pintores-de-las-brenas/
SUMMARY:El Museo Casa Roja acoge la muestra “20 años de pinceladas”\, 
 de Amigos Pintores de Las Breñas
DESCRIPTION:\nEl miércoles 11 de diciembre de 2024 a las 19.00 h tendrá l
 ugar la inauguración de la Exposición colectiva “20 años de pincelad
 as” a cargo de la Asociación Amigos Pintores de Las Breñas\, en el Mus
 eo Casa Roja.\n\n\n\nLa exposición permanecerá abierta hasta el 11 de ma
 rzo de 2025 en el horario del Museo Casa Roja. (Lunes a sábado de 10:00 a
  14:00 horas)\n\n
ATTACH;FMTTYPE=image/jpeg:https://www.larevistadelapalma.com/wp-content/up
 loads/2024/12/Amigos-pintores-de-las-brenas.jpg
CATEGORIES:Exposiciones
LOCATION:Museo Casa Roja\, C. Maximiliano Pérez Díaz\, 23\, Villa de Mazo
 \, 38730\, España
GEO:28.607435;-17.77894
X-APPLE-STRUCTURED-LOCATION;VALUE=URI;X-ADDRESS=C. Maximiliano Pérez Díaz
 \, 23\, Villa de Mazo\, 38730\, España;X-APPLE-RADIUS=100;X-TITLE=Museo C
 asa Roja:geo:28.607435,-17.77894
END:VEVENT
END:VCALENDARBEGIN:VCALENDAR
VERSION:2.0
PRODID:-//wp-events-plugin.com//7.2.3.1//EN
TZID:Europe/London
X-WR-TIMEZONE:Europe/London
BEGIN:VEVENT
UID:3482@larevistadelapalma.com
DTSTART;VALUE=DATE:20241211
DTEND;VALUE=DATE:20250312
DTSTAMP:20241213T124416Z
URL:https://www.larevistadelapalma.com/events/el-museo-casa-roja-acoge-la-
 muestra-20-anos-de-pinceladas-de-amigos-pintores-de-las-brenas/
SUMMARY:El Museo Casa Roja acoge la muestra “20 años de pinceladas”\, 
 de Amigos Pintores de Las Breñas
DESCRIPTION:\nEl miércoles 11 de diciembre de 2024 a las 19.00 h tendrá l
 ugar la inauguración de la Exposición colectiva “20 años de pincelad
 as” a cargo de la Asociación Amigos Pintores de Las Breñas\, en el Mus
 eo Casa Roja.\n\n\n\nLa exposición permanecerá abierta hasta el 11 de ma
 rzo de 2025 en el horario del Museo Casa Roja. (Lunes a sábado de 10:00 a
  14:00 horas)\n\n
ATTACH;FMTTYPE=image/jpeg:https://www.larevistadelapalma.com/wp-content/up
 loads/2024/12/Amigos-pintores-de-las-brenas.jpg
CATEGORIES:Exposiciones
LOCATION:Museo Casa Roja\, C. Maximiliano Pérez Díaz\, 23\, Villa de Mazo
 \, 38730\, España
GEO:28.607435;-17.77894
X-APPLE-STRUCTURED-LOCATION;VALUE=URI;X-ADDRESS=C. Maximiliano Pérez Díaz
 \, 23\, Villa de Mazo\, 38730\, España;X-APPLE-RADIUS=100;X-TITLE=Museo C
 asa Roja:geo:28.607435,-17.77894
END:VEVENT
END:VCALENDAR