BEGIN:VCALENDAR
VERSION:2.0
PRODID:-//wp-events-plugin.com//7.2.3.1//EN
TZID:Europe/London
X-WR-TIMEZONE:Europe/London
BEGIN:VEVENT
UID:3813@larevistadelapalma.com
DTSTART:20250626T080000Z
DTEND:20250626T133000Z
DTSTAMP:20250616T202023Z
URL:https://www.larevistadelapalma.com/events/el-museo-del-puro-acoje-una-
 jornada-sobre-transformacion-digital-organizada-por-atlantis-technology/
SUMMARY:El Museo del Puro acoje una jornada sobre transformación digital o
 rganizada por Atlantis Technology
DESCRIPTION:Contará con la participación de representantes institucionale
 s y expertos de primer nivel\, y está abierto a profesionales\, empresas 
 y ciudadanía interesada en el proceso de transformación digital.
ATTACH;FMTTYPE=image/jpeg:https://www.larevistadelapalma.com/wp-content/up
 loads/2025/06/Transformacion-digital-ponencias.jpg
CATEGORIES:Formación,Otras propuestas
LOCATION:Museo del Puro Palmero\, Parque de Los Álamos\, Breña Alta\, 387
 10\, España
GEO:28.666832;-17.787186
X-APPLE-STRUCTURED-LOCATION;VALUE=URI;X-ADDRESS=Parque de Los Álamos\, Bre
 ña Alta\, 38710\, España;X-APPLE-RADIUS=100;X-TITLE=Museo del Puro Palme
 ro:geo:28.666832,-17.787186
END:VEVENT
END:VCALENDARBEGIN:VCALENDAR
VERSION:2.0
PRODID:-//wp-events-plugin.com//7.2.3.1//EN
TZID:Europe/London
X-WR-TIMEZONE:Europe/London
BEGIN:VEVENT
UID:3813@larevistadelapalma.com
DTSTART:20250626T080000Z
DTEND:20250626T133000Z
DTSTAMP:20250616T202023Z
URL:https://www.larevistadelapalma.com/events/el-museo-del-puro-acoje-una-
 jornada-sobre-transformacion-digital-organizada-por-atlantis-technology/
SUMMARY:El Museo del Puro acoje una jornada sobre transformación digital o
 rganizada por Atlantis Technology
DESCRIPTION:Contará con la participación de representantes institucionale
 s y expertos de primer nivel\, y está abierto a profesionales\, empresas 
 y ciudadanía interesada en el proceso de transformación digital.
ATTACH;FMTTYPE=image/jpeg:https://www.larevistadelapalma.com/wp-content/up
 loads/2025/06/Transformacion-digital-ponencias.jpg
CATEGORIES:Formación,Otras propuestas
LOCATION:Museo del Puro Palmero\, Parque de Los Álamos\, Breña Alta\, 387
 10\, España
GEO:28.666832;-17.787186
X-APPLE-STRUCTURED-LOCATION;VALUE=URI;X-ADDRESS=Parque de Los Álamos\, Bre
 ña Alta\, 38710\, España;X-APPLE-RADIUS=100;X-TITLE=Museo del Puro Palme
 ro:geo:28.666832,-17.787186
END:VEVENT
END:VCALENDAR