BEGIN:VCALENDAR
VERSION:2.0
PRODID:-//wp-events-plugin.com//7.2.3.1//EN
TZID:Europe/London
X-WR-TIMEZONE:Europe/London
BEGIN:VEVENT
UID:3454@larevistadelapalma.com
DTSTART:20241220T190000Z
DTEND:20241220T203000Z
DTSTAMP:20241202T221619Z
URL:https://www.larevistadelapalma.com/events/el-musical-el-rey-solitario-
 de-habemus-teatro-llega-al-circo-de-marte-esta-navidad/
SUMMARY:El musical "El Rey Solitario" de Habemus Teatro llega al Circo de M
 arte esta navidad
DESCRIPTION:La Compañía Habemus Teatro trae al Circo de Marte esta navida
 d su espectáculo musical "El Rey solitario".\nLa historia de un monarca q
 ue vive aislado en su castillo debido a su mal carácter.\nUna obra de tea
 tro musical que te cautivará con su encanto y magia. A través de un desl
 umbrante despliegue de música\, canciones y coreografías envolventes\, e
 l público se sumergirá en un emocionante viaje lleno de lecciones de hum
 ildad\, redención y amor. Los valores más importantes de la vida se entr
 elazan con los clásicos más queridos por los niños\, creando una experi
 encia inolvidable donde el poder de la amistad y la bondad transforma hast
 a el corazón más solitario.\n\nEntradas 7 euros.\n\n
ATTACH;FMTTYPE=image/jpeg:https://www.larevistadelapalma.com/wp-content/up
 loads/2024/12/El-Rey-Solitario.jpg
CATEGORIES:Espectáculos,Relax,Teatro
LOCATION:Teatro Circo de Marte\, Calle Virgen de La Luz\, 5\, Santa Cruz de
  La Palma\, 38700\, España
GEO:28.682989;-17.765755
X-APPLE-STRUCTURED-LOCATION;VALUE=URI;X-ADDRESS=Calle Virgen de La Luz\, 5\
 , Santa Cruz de La Palma\, 38700\, España;X-APPLE-RADIUS=100;X-TITLE=Teat
 ro Circo de Marte:geo:28.682989,-17.765755
END:VEVENT
END:VCALENDARBEGIN:VCALENDAR
VERSION:2.0
PRODID:-//wp-events-plugin.com//7.2.3.1//EN
TZID:Europe/London
X-WR-TIMEZONE:Europe/London
BEGIN:VEVENT
UID:3454@larevistadelapalma.com
DTSTART:20241220T190000Z
DTEND:20241220T203000Z
DTSTAMP:20241202T221619Z
URL:https://www.larevistadelapalma.com/events/el-musical-el-rey-solitario-
 de-habemus-teatro-llega-al-circo-de-marte-esta-navidad/
SUMMARY:El musical "El Rey Solitario" de Habemus Teatro llega al Circo de M
 arte esta navidad
DESCRIPTION:La Compañía Habemus Teatro trae al Circo de Marte esta navida
 d su espectáculo musical "El Rey solitario".\nLa historia de un monarca q
 ue vive aislado en su castillo debido a su mal carácter.\nUna obra de tea
 tro musical que te cautivará con su encanto y magia. A través de un desl
 umbrante despliegue de música\, canciones y coreografías envolventes\, e
 l público se sumergirá en un emocionante viaje lleno de lecciones de hum
 ildad\, redención y amor. Los valores más importantes de la vida se entr
 elazan con los clásicos más queridos por los niños\, creando una experi
 encia inolvidable donde el poder de la amistad y la bondad transforma hast
 a el corazón más solitario.\n\nEntradas 7 euros.\n\n
ATTACH;FMTTYPE=image/jpeg:https://www.larevistadelapalma.com/wp-content/up
 loads/2024/12/El-Rey-Solitario.jpg
CATEGORIES:Espectáculos,Relax,Teatro
LOCATION:Teatro Circo de Marte\, Calle Virgen de La Luz\, 5\, Santa Cruz de
  La Palma\, 38700\, España
GEO:28.682989;-17.765755
X-APPLE-STRUCTURED-LOCATION;VALUE=URI;X-ADDRESS=Calle Virgen de La Luz\, 5\
 , Santa Cruz de La Palma\, 38700\, España;X-APPLE-RADIUS=100;X-TITLE=Teat
 ro Circo de Marte:geo:28.682989,-17.765755
END:VEVENT
END:VCALENDAR