BEGIN:VCALENDAR
VERSION:2.0
PRODID:-//wp-events-plugin.com//7.2.3.1//EN
TZID:Europe/London
X-WR-TIMEZONE:Europe/London
BEGIN:VEVENT
UID:663@larevistadelapalma.com
DTSTART:20231014T110000Z
DTEND:20231014T123000Z
DTSTAMP:20231005T191946Z
URL:https://www.larevistadelapalma.com/events/el-palacio-salazar-acoge-el-
 festival-de-musica-clasica-y-moderna-noon-2023-10-14/
SUMMARY:‘NOON’: Festival de música clásica y moderna en el Palacio Sa
 lazar
DESCRIPTION:‘NOON’ nos ofrece actuaciones cada sábado\, a las 12.00 ho
 ras. Esta semana\, el Dúo Moköi. con sonidos de violín y cello.
ATTACH;FMTTYPE=image/jpeg:https://www.larevistadelapalma.com/wp-content/up
 loads/2023/09/Duo-Mokoi.jpg
CATEGORIES:Festivales/Fiestas,Música
LOCATION:Casa principal de Salazar\, Calle Odaly\, 22\, Santa Cruz de La Pa
 lma\, 38700\, España
GEO:28.682275;-17.765795
X-APPLE-STRUCTURED-LOCATION;VALUE=URI;X-ADDRESS=Calle Odaly\, 22\, Santa Cr
 uz de La Palma\, 38700\, España;X-APPLE-RADIUS=100;X-TITLE=Casa principal
  de Salazar:geo:28.682275,-17.765795
END:VEVENT
END:VCALENDARBEGIN:VCALENDAR
VERSION:2.0
PRODID:-//wp-events-plugin.com//7.2.3.1//EN
TZID:Europe/London
X-WR-TIMEZONE:Europe/London
BEGIN:VEVENT
UID:663@larevistadelapalma.com
DTSTART:20231014T110000Z
DTEND:20231014T123000Z
DTSTAMP:20231005T191946Z
URL:https://www.larevistadelapalma.com/events/el-palacio-salazar-acoge-el-
 festival-de-musica-clasica-y-moderna-noon-2023-10-14/
SUMMARY:‘NOON’: Festival de música clásica y moderna en el Palacio Sa
 lazar
DESCRIPTION:‘NOON’ nos ofrece actuaciones cada sábado\, a las 12.00 ho
 ras. Esta semana\, el Dúo Moköi. con sonidos de violín y cello.
ATTACH;FMTTYPE=image/jpeg:https://www.larevistadelapalma.com/wp-content/up
 loads/2023/09/Duo-Mokoi.jpg
CATEGORIES:Festivales/Fiestas,Música
LOCATION:Casa principal de Salazar\, Calle Odaly\, 22\, Santa Cruz de La Pa
 lma\, 38700\, España
GEO:28.682275;-17.765795
X-APPLE-STRUCTURED-LOCATION;VALUE=URI;X-ADDRESS=Calle Odaly\, 22\, Santa Cr
 uz de La Palma\, 38700\, España;X-APPLE-RADIUS=100;X-TITLE=Casa principal
  de Salazar:geo:28.682275,-17.765795
END:VEVENT
END:VCALENDAR