BEGIN:VCALENDAR
VERSION:2.0
PRODID:-//wp-events-plugin.com//7.2.3.1//EN
TZID:Europe/London
X-WR-TIMEZONE:Europe/London
BEGIN:VEVENT
UID:665@larevistadelapalma.com
DTSTART:20231028T110000Z
DTEND:20231028T123000Z
DTSTAMP:20231016T205039Z
URL:https://www.larevistadelapalma.com/events/el-palacio-salazar-acoge-el-
 festival-de-musica-clasica-y-moderna-noon-2023-10-28/
SUMMARY:‘NOON’: Festival de música clásica y moderna en el Palacio Sa
 lazar
DESCRIPTION:Actuaciones cada sábado\, a las 12.00 horas. Desde el sábado 
 16 de septiembre hasta el 18 de noviembre. Esta semana el grupo "Entre Ca
 ñas" nos acercará al sonido del fagot.
ATTACH;FMTTYPE=image/jpeg:https://www.larevistadelapalma.com/wp-content/up
 loads/2023/09/Entre-Canas.jpg
CATEGORIES:Festivales/Fiestas,Música
LOCATION:Casa principal de Salazar\, Calle Odaly\, 22\, Santa Cruz de La Pa
 lma\, 38700\, España
GEO:28.682275;-17.765795
X-APPLE-STRUCTURED-LOCATION;VALUE=URI;X-ADDRESS=Calle Odaly\, 22\, Santa Cr
 uz de La Palma\, 38700\, España;X-APPLE-RADIUS=100;X-TITLE=Casa principal
  de Salazar:geo:28.682275,-17.765795
END:VEVENT
END:VCALENDARBEGIN:VCALENDAR
VERSION:2.0
PRODID:-//wp-events-plugin.com//7.2.3.1//EN
TZID:Europe/London
X-WR-TIMEZONE:Europe/London
BEGIN:VEVENT
UID:665@larevistadelapalma.com
DTSTART:20231028T110000Z
DTEND:20231028T123000Z
DTSTAMP:20231016T205039Z
URL:https://www.larevistadelapalma.com/events/el-palacio-salazar-acoge-el-
 festival-de-musica-clasica-y-moderna-noon-2023-10-28/
SUMMARY:‘NOON’: Festival de música clásica y moderna en el Palacio Sa
 lazar
DESCRIPTION:Actuaciones cada sábado\, a las 12.00 horas. Desde el sábado 
 16 de septiembre hasta el 18 de noviembre. Esta semana el grupo "Entre Ca
 ñas" nos acercará al sonido del fagot.
ATTACH;FMTTYPE=image/jpeg:https://www.larevistadelapalma.com/wp-content/up
 loads/2023/09/Entre-Canas.jpg
CATEGORIES:Festivales/Fiestas,Música
LOCATION:Casa principal de Salazar\, Calle Odaly\, 22\, Santa Cruz de La Pa
 lma\, 38700\, España
GEO:28.682275;-17.765795
X-APPLE-STRUCTURED-LOCATION;VALUE=URI;X-ADDRESS=Calle Odaly\, 22\, Santa Cr
 uz de La Palma\, 38700\, España;X-APPLE-RADIUS=100;X-TITLE=Casa principal
  de Salazar:geo:28.682275,-17.765795
END:VEVENT
END:VCALENDAR