BEGIN:VCALENDAR
VERSION:2.0
PRODID:-//wp-events-plugin.com//7.2.3.1//EN
TZID:Europe/London
X-WR-TIMEZONE:Europe/London
BEGIN:VEVENT
UID:667@larevistadelapalma.com
DTSTART:20231111T110000Z
DTEND:20231111T123000Z
DTSTAMP:20231107T000342Z
URL:https://www.larevistadelapalma.com/events/el-palacio-salazar-acoge-el-
 festival-de-musica-clasica-y-moderna-noon-2023-11-11/
SUMMARY:Cuarteto Imprevisto en el Festival ‘NOON’: Festival de música 
 clásica y moderna en el Palacio Salazar
DESCRIPTION:‘NOON’ nos ofrece actuaciones cada sábado\, a las 12.00 ho
 ras. Desde el sábado 16 de septiembre hasta el 18 de noviembre.
ATTACH;FMTTYPE=image/jpeg:https://www.larevistadelapalma.com/wp-content/up
 loads/2023/09/Cuarteto-Imprevisto.jpg
CATEGORIES:Festivales/Fiestas,Música
LOCATION:Casa principal de Salazar\, Calle Odaly\, 22\, Santa Cruz de La Pa
 lma\, 38700\, España
GEO:28.682275;-17.765795
X-APPLE-STRUCTURED-LOCATION;VALUE=URI;X-ADDRESS=Calle Odaly\, 22\, Santa Cr
 uz de La Palma\, 38700\, España;X-APPLE-RADIUS=100;X-TITLE=Casa principal
  de Salazar:geo:28.682275,-17.765795
END:VEVENT
END:VCALENDARBEGIN:VCALENDAR
VERSION:2.0
PRODID:-//wp-events-plugin.com//7.2.3.1//EN
TZID:Europe/London
X-WR-TIMEZONE:Europe/London
BEGIN:VEVENT
UID:667@larevistadelapalma.com
DTSTART:20231111T110000Z
DTEND:20231111T123000Z
DTSTAMP:20231107T000342Z
URL:https://www.larevistadelapalma.com/events/el-palacio-salazar-acoge-el-
 festival-de-musica-clasica-y-moderna-noon-2023-11-11/
SUMMARY:Cuarteto Imprevisto en el Festival ‘NOON’: Festival de música 
 clásica y moderna en el Palacio Salazar
DESCRIPTION:‘NOON’ nos ofrece actuaciones cada sábado\, a las 12.00 ho
 ras. Desde el sábado 16 de septiembre hasta el 18 de noviembre.
ATTACH;FMTTYPE=image/jpeg:https://www.larevistadelapalma.com/wp-content/up
 loads/2023/09/Cuarteto-Imprevisto.jpg
CATEGORIES:Festivales/Fiestas,Música
LOCATION:Casa principal de Salazar\, Calle Odaly\, 22\, Santa Cruz de La Pa
 lma\, 38700\, España
GEO:28.682275;-17.765795
X-APPLE-STRUCTURED-LOCATION;VALUE=URI;X-ADDRESS=Calle Odaly\, 22\, Santa Cr
 uz de La Palma\, 38700\, España;X-APPLE-RADIUS=100;X-TITLE=Casa principal
  de Salazar:geo:28.682275,-17.765795
END:VEVENT
END:VCALENDAR