BEGIN:VCALENDAR
VERSION:2.0
PRODID:-//wp-events-plugin.com//7.2.3.1//EN
TZID:Europe/London
X-WR-TIMEZONE:Europe/London
BEGIN:VEVENT
UID:189@larevistadelapalma.com
DTSTART:20230721T180000Z
DTEND:20230721T191500Z
DTSTAMP:20230721T115110Z
URL:https://www.larevistadelapalma.com/events/el-palmero-jonay-garcia-pres
 enta-su-libro-primeros-puntos-y-finales/
SUMMARY:El palmero Jonay García presenta su libro ‘Primeros puntos y fin
 ales’
DESCRIPTION:El escritor palmero Jonay García presenta su libro ‘Primeros
  puntos y finales’ en la Biblioteca Municipal de Breña Alta\, en un act
 o\, que se celebra este viernes 21 de julio y que estará conducido por An
 a Vidal.
ATTACH;FMTTYPE=image/jpeg:https://www.larevistadelapalma.com/wp-content/up
 loads/2023/07/Presentacion-Punto-y-aparte.jpg
CATEGORIES:Cine y Literatura,Literatura
LOCATION:Biblioteca Municipal de Breña Alta\, Calle la Dura 1 (piso 1)\, B
 reña Alta\, 38710\, España
GEO:28.661532;-17.7889
X-APPLE-STRUCTURED-LOCATION;VALUE=URI;X-ADDRESS=Calle la Dura 1 (piso 1)\, 
 Breña Alta\, 38710\, España;X-APPLE-RADIUS=100;X-TITLE=Biblioteca Munici
 pal de Breña Alta:geo:28.661532,-17.7889
END:VEVENT
END:VCALENDARBEGIN:VCALENDAR
VERSION:2.0
PRODID:-//wp-events-plugin.com//7.2.3.1//EN
TZID:Europe/London
X-WR-TIMEZONE:Europe/London
BEGIN:VEVENT
UID:189@larevistadelapalma.com
DTSTART:20230721T180000Z
DTEND:20230721T191500Z
DTSTAMP:20230721T115110Z
URL:https://www.larevistadelapalma.com/events/el-palmero-jonay-garcia-pres
 enta-su-libro-primeros-puntos-y-finales/
SUMMARY:El palmero Jonay García presenta su libro ‘Primeros puntos y fin
 ales’
DESCRIPTION:El escritor palmero Jonay García presenta su libro ‘Primeros
  puntos y finales’ en la Biblioteca Municipal de Breña Alta\, en un act
 o\, que se celebra este viernes 21 de julio y que estará conducido por An
 a Vidal.
ATTACH;FMTTYPE=image/jpeg:https://www.larevistadelapalma.com/wp-content/up
 loads/2023/07/Presentacion-Punto-y-aparte.jpg
CATEGORIES:Cine y Literatura,Literatura
LOCATION:Biblioteca Municipal de Breña Alta\, Calle la Dura 1 (piso 1)\, B
 reña Alta\, 38710\, España
GEO:28.661532;-17.7889
X-APPLE-STRUCTURED-LOCATION;VALUE=URI;X-ADDRESS=Calle la Dura 1 (piso 1)\, 
 Breña Alta\, 38710\, España;X-APPLE-RADIUS=100;X-TITLE=Biblioteca Munici
 pal de Breña Alta:geo:28.661532,-17.7889
END:VEVENT
END:VCALENDAR