BEGIN:VCALENDAR
VERSION:2.0
PRODID:-//wp-events-plugin.com//7.2.3.1//EN
TZID:Europe/London
X-WR-TIMEZONE:Europe/London
BEGIN:VEVENT
UID:780@larevistadelapalma.com
DTSTART;VALUE=DATE:20231023
DTEND;VALUE=DATE:20231101
DTSTAMP:20231024T192646Z
URL:https://www.larevistadelapalma.com/events/el-paso-celebra-la-semana-de
 l-alma-de-tacande/
SUMMARY:El Paso celebra ‘La Semana del Alma de Tacande’
DESCRIPTION:\nEl ayuntamiento de El Paso y la Asociación de Empresarios El
  Paso Crece celebran ‘La Semana del Alma de Tacande’.\n\nUn programa d
 e actos vinculados a una de las historias más misteriosas y atractivas qu
 e forman parte del acervo cultural del municipio. Talleres itinerantes\, 
 cine\, visita guiada a la casa del Alma de Tacande o ‘La Casa del terror
 ’ además de concursos en redes sociales buscan atraer al público hasta
  el 31 de octubre.\nLa visita a La Casa del Alma de Tacande será guiada p
 ara conocer la historia de lo que se cuenta que allí sucedió. Para acced
 er a ‘La casa del terror’\, las entradas se obtendrán por compras sup
 eriores a 20 euros en los comercios y la restauración del municipio y pre
 sentando el ticket de compra en la Oficina de El Paso Crece hasta agotar e
 l aforo.\n\n\nPROGRAMA\n\n\n\n
ATTACH;FMTTYPE=image/jpeg:https://www.larevistadelapalma.com/wp-content/up
 loads/2023/10/Semana-del-Alma-de-Tazande.jpg
CATEGORIES:Fiestas populares,Otras propuestas
LOCATION:Municipio de El Paso\, El Paso\, La Palma \, El Paso\, 38750\, Esp
 aña
GEO:28.652378;-17.880396
X-APPLE-STRUCTURED-LOCATION;VALUE=URI;X-ADDRESS=El Paso\, La Palma \, El Pa
 so\, 38750\, España;X-APPLE-RADIUS=100;X-TITLE=Municipio de El Paso:geo:2
 8.652378,-17.880396
END:VEVENT
END:VCALENDARBEGIN:VCALENDAR
VERSION:2.0
PRODID:-//wp-events-plugin.com//7.2.3.1//EN
TZID:Europe/London
X-WR-TIMEZONE:Europe/London
BEGIN:VEVENT
UID:780@larevistadelapalma.com
DTSTART;VALUE=DATE:20231023
DTEND;VALUE=DATE:20231101
DTSTAMP:20231024T192646Z
URL:https://www.larevistadelapalma.com/events/el-paso-celebra-la-semana-de
 l-alma-de-tacande/
SUMMARY:El Paso celebra ‘La Semana del Alma de Tacande’
DESCRIPTION:\nEl ayuntamiento de El Paso y la Asociación de Empresarios El
  Paso Crece celebran ‘La Semana del Alma de Tacande’.\n\nUn programa d
 e actos vinculados a una de las historias más misteriosas y atractivas qu
 e forman parte del acervo cultural del municipio. Talleres itinerantes\, 
 cine\, visita guiada a la casa del Alma de Tacande o ‘La Casa del terror
 ’ además de concursos en redes sociales buscan atraer al público hasta
  el 31 de octubre.\nLa visita a La Casa del Alma de Tacande será guiada p
 ara conocer la historia de lo que se cuenta que allí sucedió. Para acced
 er a ‘La casa del terror’\, las entradas se obtendrán por compras sup
 eriores a 20 euros en los comercios y la restauración del municipio y pre
 sentando el ticket de compra en la Oficina de El Paso Crece hasta agotar e
 l aforo.\n\n\nPROGRAMA\n\n\n\n
ATTACH;FMTTYPE=image/jpeg:https://www.larevistadelapalma.com/wp-content/up
 loads/2023/10/Semana-del-Alma-de-Tazande.jpg
CATEGORIES:Fiestas populares,Otras propuestas
LOCATION:Municipio de El Paso\, El Paso\, La Palma \, El Paso\, 38750\, Esp
 aña
GEO:28.652378;-17.880396
X-APPLE-STRUCTURED-LOCATION;VALUE=URI;X-ADDRESS=El Paso\, La Palma \, El Pa
 so\, 38750\, España;X-APPLE-RADIUS=100;X-TITLE=Municipio de El Paso:geo:2
 8.652378,-17.880396
END:VEVENT
END:VCALENDAR