BEGIN:VCALENDAR
VERSION:2.0
PRODID:-//wp-events-plugin.com//7.2.3.1//EN
TZID:Europe/London
X-WR-TIMEZONE:Europe/London
BEGIN:VEVENT
UID:2982@larevistadelapalma.com
DTSTART;VALUE=DATE:20240506
DTEND;VALUE=DATE:20240518
DTSTAMP:20240509T221453Z
URL:https://www.larevistadelapalma.com/events/el-paso-la-biodiversidad-en-
 los-deltas-lavicos/
SUMMARY:El Paso acoge una muestra de la vida submarina en las fajanas del v
 olcán Tajogaite
DESCRIPTION:La plaza Francisca de Gazmira acoge la muestra de la vida subm
 arina en las fajanas del volcán Tajogaite hasta el 17 de mayo\, una exhib
 ición fotográfica que evidencia el proceso gradual de recuperación del 
 ecosistema marino en los deltas lávicos\,\n\nEl recorrido por la vida en 
 las fajanas del volcán Tajogaite llega al municipio de El Paso con la exh
 ibición “La biodiversidad en los deltas lávicos”\, una muestra de al
 gunas de las principales especies identificadas en esta zona de la isla de
  La Palma. La exposición fue inaugurada por el director general de Espaci
 os Naturales y Biodiversidad de la Consejería de Transición Ecológica y
  Energía del Gobierno de Canarias\, Miguel Ángel Morcuende\, quien desta
 có la importancia de proyectos como DELTA y de las campañas de observaci
 ón biológicas coordinadas por la Plataforma Oceánica de Canarias (PLOCA
 N) en la isla\, las cuales “evidencian cómo se ha recuperado progresiva
 mente el ecosistema marino en los deltas lávicos”.\n\n“Estas acciones
  y proyectos sirven para concienciar sobre la necesidad de conservar nuest
 ro ecosistema marino\, además de acercar a los palmeros la vida que resur
 ge bajo el mar donde llegó la lava”\, expresó Morcuende\, quien recono
 ció la importancia del trabajo que PLOCAN está realizando en la isla par
 a crear infraestructuras científicas y tecnológicas\, así como impulsar
  la economía azul y la gestión sostenible de los espacios naturales. El 
 director general de Espacios Naturales y Biodiversidad también agradeció
  al Ayuntamiento de El Paso su implicación en todo lo relacionado con el 
 volcán y a la REDPROMAR del Gobierno de Canarias por su colaboración.\n\
 nEl acto de presentación contó también con la participación de la Red 
 de Observadores del Medio Marino en Canarias (REDPROMAR)\; el equipo técn
 ico del proyecto DELTA\, coordinado por PLOCAN y Omar Hernández\, primer 
 teniente de alcalde del Ayuntamiento de El Paso\, acompañado por Amanda D
 íaz\, concejala de Servicios Sociales\; David González\, concejal de Obr
 as y Servicios\; Yaitzha González\, concejala de Artesanía e Isabel Garc
 ía\, concejala de Formación\, en representación de la corporación muni
 cipal.\n\nAsimismo\, la inauguración de la exhibición se hizo junto a es
 tudiantes de biología del IES El Paso\, quienes disfrutaron de una charla
  impartida por la REDPROMAR\, además de un taller de observación de bio
 fouling\, impartido conjuntamente con el equipo técnico del proyecto DELT
 A. “Esta práctica sirve para acercar a los alumnos la vida submarina qu
 e no podemos ver a simple vista\, por lo que los estudiantes han analizado
  la biodiversidad a nivel microscópico”\, comentó Aurora Martín\, div
 ulgadora científica del proyecto DELTA.\n\nDurante la inauguración\, Oma
 r Hernández expresó su gratitud hacia PLOCAN y la Consejería de Transic
 ión Ecológica y Energía\, así como a otras administraciones\, por reco
 nocer la importancia de los proyectos para La Palma\, destacando la "oport
 unidad que suponen para la isla". El representante de El Paso resaltó el 
 valor de la muestra itinerante para promover el turismo sostenible y la co
 nservación marina\, ya que ofrece "una ventana excepcional al mundo subma
 rino que La Palma tiene para ofrecer". Además\, el concejal de Turismo y 
 Medioambiente subrayó el impacto positivo en el municipio\, ya que contri
 buye al fomento del atractivo de los deltas y su potencial como recurso ed
 ucativo para escuelas y jóvenes.\n\nLa exhibición\, resultado de las cam
 pañas de observación del ecosistema marino lideradas por PLOCAN en La Pa
 lma\, representa un hito en el impulso de la economía azul y la conservac
 ión de la biodiversidad para Joaquín Hernández\, director de PLOCAN y c
 oordinador del proyecto DELTA. “Este logro es fruto del trabajo de nuest
 ro equipo en La Palma\, en estrecha colaboración con las autoridades\, lo
  que ha posibilitado el avance en la generación de conocimiento y el impu
 lso de un modelo de desarrollo más sostenible para la isla\, donde la tec
 nología juega un papel crucial al facilitar la creación de nuevos modelo
 s de negocio que\, simultáneamente\, promueven la conservación del medio
 ambiente”\, enfatizó Hernández.\n\nTras su presentación en El Paso\, 
 la exhibición estará disponible presencialmente en los municipios de Los
  Llanos de Aridane\, Fuencaliente y Santa Cruz de La Palma. Además de su 
 formato virtual\, PLOCAN presentará próximamente experiencias de realida
 d aumentada para visualizar las especies\, así como una muestra de realid
 ad virtual para acercar la vida en los deltas lávicos a la población pal
 mera.\n\nEl proyecto DELTA\, respaldado financieramente por la Consejería
  de Transición Ecológica y Energía del Gobierno de Canarias y la Secret
 aría de Estado de Medio Ambiente\, no solo promete progresos científicos
 \, sino también impactos sociales y económicos tangibles. Desde el forta
 lecimiento de la investigación local y la creación de infraestructura ci
 entífica en la isla hasta la generación de empleo y el estímulo de la e
 conomía azul\, DELTA representa una iniciativa ambiciosa liderada por PLO
 CAN para la recuperación de la isla.\n\nLa campaña de observación evide
 nció la recuperación de la vida en los deltas.\n\nLas fotografías expue
 stas se tomaron durante la campaña de observación biológica en apnea fi
 nales de julio de 2022\, realizada en el marco del proyecto MAMPALMA\, fin
 anciado por el Ministerio de Ciencia e Innovación y coordinado por PLOCAN
 . Esta campaña se realizó en dos áreas específicas con objetivos difer
 enciados: la zona de exclusión para evaluar el impacto de la erupción vo
 lcánica en la biodiversidad marina y una zona de control similar a la reg
 ión afectada\, pero con condiciones preexistentes a la erupción del volc
 án.\n\nComo resultado de la campaña de caracterización de la vida subma
 rina en los deltas lávicos\, se hizo un registro fotográfico exhaustivo 
 de especies y un catálogo que documenta la riqueza de la vida marina en l
 a zona. Concretamente se identificaron 121 especies\, contemplando peces\,
  moluscos\, equinodermos\, cnidarios\, entre otros organismos. Gracias a e
 sta campaña se evidenció un proceso gradual de recuperación del ecosist
 ema marino en la zona\, la cual no hubiera sido posible sin la colaboraci
 ón de la Consejería de Transición Ecológica\, Lucha contra el Cambio C
 limático y Planificación Territorial y la REDPROMAR del Gobierno de Cana
 rias.
ATTACH;FMTTYPE=image/jpeg:https://www.larevistadelapalma.com/wp-content/up
 loads/2024/05/Visita-guiada-a-la-exhibicion-sobre-la-biodiversidad-en-los-
 deltas-lavicos-scaled.jpg
CATEGORIES:Exposiciones
LOCATION:Plaza Francisca Gazmira\, Calle El Paso de Abajo\, 2\, El Paso\, 3
 8750\, España
GEO:28.652218;-17.881597
X-APPLE-STRUCTURED-LOCATION;VALUE=URI;X-ADDRESS=Calle El Paso de Abajo\, 2\
 , El Paso\, 38750\, España;X-APPLE-RADIUS=100;X-TITLE=Plaza Francisca Gaz
 mira:geo:28.652218,-17.881597
END:VEVENT
END:VCALENDARBEGIN:VCALENDAR
VERSION:2.0
PRODID:-//wp-events-plugin.com//7.2.3.1//EN
TZID:Europe/London
X-WR-TIMEZONE:Europe/London
BEGIN:VEVENT
UID:2982@larevistadelapalma.com
DTSTART;VALUE=DATE:20240506
DTEND;VALUE=DATE:20240518
DTSTAMP:20240509T221453Z
URL:https://www.larevistadelapalma.com/events/el-paso-la-biodiversidad-en-
 los-deltas-lavicos/
SUMMARY:El Paso acoge una muestra de la vida submarina en las fajanas del v
 olcán Tajogaite
DESCRIPTION:La plaza Francisca de Gazmira acoge la muestra de la vida subm
 arina en las fajanas del volcán Tajogaite hasta el 17 de mayo\, una exhib
 ición fotográfica que evidencia el proceso gradual de recuperación del 
 ecosistema marino en los deltas lávicos\,\n\nEl recorrido por la vida en 
 las fajanas del volcán Tajogaite llega al municipio de El Paso con la exh
 ibición “La biodiversidad en los deltas lávicos”\, una muestra de al
 gunas de las principales especies identificadas en esta zona de la isla de
  La Palma. La exposición fue inaugurada por el director general de Espaci
 os Naturales y Biodiversidad de la Consejería de Transición Ecológica y
  Energía del Gobierno de Canarias\, Miguel Ángel Morcuende\, quien desta
 có la importancia de proyectos como DELTA y de las campañas de observaci
 ón biológicas coordinadas por la Plataforma Oceánica de Canarias (PLOCA
 N) en la isla\, las cuales “evidencian cómo se ha recuperado progresiva
 mente el ecosistema marino en los deltas lávicos”.\n\n“Estas acciones
  y proyectos sirven para concienciar sobre la necesidad de conservar nuest
 ro ecosistema marino\, además de acercar a los palmeros la vida que resur
 ge bajo el mar donde llegó la lava”\, expresó Morcuende\, quien recono
 ció la importancia del trabajo que PLOCAN está realizando en la isla par
 a crear infraestructuras científicas y tecnológicas\, así como impulsar
  la economía azul y la gestión sostenible de los espacios naturales. El 
 director general de Espacios Naturales y Biodiversidad también agradeció
  al Ayuntamiento de El Paso su implicación en todo lo relacionado con el 
 volcán y a la REDPROMAR del Gobierno de Canarias por su colaboración.\n\
 nEl acto de presentación contó también con la participación de la Red 
 de Observadores del Medio Marino en Canarias (REDPROMAR)\; el equipo técn
 ico del proyecto DELTA\, coordinado por PLOCAN y Omar Hernández\, primer 
 teniente de alcalde del Ayuntamiento de El Paso\, acompañado por Amanda D
 íaz\, concejala de Servicios Sociales\; David González\, concejal de Obr
 as y Servicios\; Yaitzha González\, concejala de Artesanía e Isabel Garc
 ía\, concejala de Formación\, en representación de la corporación muni
 cipal.\n\nAsimismo\, la inauguración de la exhibición se hizo junto a es
 tudiantes de biología del IES El Paso\, quienes disfrutaron de una charla
  impartida por la REDPROMAR\, además de un taller de observación de bio
 fouling\, impartido conjuntamente con el equipo técnico del proyecto DELT
 A. “Esta práctica sirve para acercar a los alumnos la vida submarina qu
 e no podemos ver a simple vista\, por lo que los estudiantes han analizado
  la biodiversidad a nivel microscópico”\, comentó Aurora Martín\, div
 ulgadora científica del proyecto DELTA.\n\nDurante la inauguración\, Oma
 r Hernández expresó su gratitud hacia PLOCAN y la Consejería de Transic
 ión Ecológica y Energía\, así como a otras administraciones\, por reco
 nocer la importancia de los proyectos para La Palma\, destacando la "oport
 unidad que suponen para la isla". El representante de El Paso resaltó el 
 valor de la muestra itinerante para promover el turismo sostenible y la co
 nservación marina\, ya que ofrece "una ventana excepcional al mundo subma
 rino que La Palma tiene para ofrecer". Además\, el concejal de Turismo y 
 Medioambiente subrayó el impacto positivo en el municipio\, ya que contri
 buye al fomento del atractivo de los deltas y su potencial como recurso ed
 ucativo para escuelas y jóvenes.\n\nLa exhibición\, resultado de las cam
 pañas de observación del ecosistema marino lideradas por PLOCAN en La Pa
 lma\, representa un hito en el impulso de la economía azul y la conservac
 ión de la biodiversidad para Joaquín Hernández\, director de PLOCAN y c
 oordinador del proyecto DELTA. “Este logro es fruto del trabajo de nuest
 ro equipo en La Palma\, en estrecha colaboración con las autoridades\, lo
  que ha posibilitado el avance en la generación de conocimiento y el impu
 lso de un modelo de desarrollo más sostenible para la isla\, donde la tec
 nología juega un papel crucial al facilitar la creación de nuevos modelo
 s de negocio que\, simultáneamente\, promueven la conservación del medio
 ambiente”\, enfatizó Hernández.\n\nTras su presentación en El Paso\, 
 la exhibición estará disponible presencialmente en los municipios de Los
  Llanos de Aridane\, Fuencaliente y Santa Cruz de La Palma. Además de su 
 formato virtual\, PLOCAN presentará próximamente experiencias de realida
 d aumentada para visualizar las especies\, así como una muestra de realid
 ad virtual para acercar la vida en los deltas lávicos a la población pal
 mera.\n\nEl proyecto DELTA\, respaldado financieramente por la Consejería
  de Transición Ecológica y Energía del Gobierno de Canarias y la Secret
 aría de Estado de Medio Ambiente\, no solo promete progresos científicos
 \, sino también impactos sociales y económicos tangibles. Desde el forta
 lecimiento de la investigación local y la creación de infraestructura ci
 entífica en la isla hasta la generación de empleo y el estímulo de la e
 conomía azul\, DELTA representa una iniciativa ambiciosa liderada por PLO
 CAN para la recuperación de la isla.\n\nLa campaña de observación evide
 nció la recuperación de la vida en los deltas.\n\nLas fotografías expue
 stas se tomaron durante la campaña de observación biológica en apnea fi
 nales de julio de 2022\, realizada en el marco del proyecto MAMPALMA\, fin
 anciado por el Ministerio de Ciencia e Innovación y coordinado por PLOCAN
 . Esta campaña se realizó en dos áreas específicas con objetivos difer
 enciados: la zona de exclusión para evaluar el impacto de la erupción vo
 lcánica en la biodiversidad marina y una zona de control similar a la reg
 ión afectada\, pero con condiciones preexistentes a la erupción del volc
 án.\n\nComo resultado de la campaña de caracterización de la vida subma
 rina en los deltas lávicos\, se hizo un registro fotográfico exhaustivo 
 de especies y un catálogo que documenta la riqueza de la vida marina en l
 a zona. Concretamente se identificaron 121 especies\, contemplando peces\,
  moluscos\, equinodermos\, cnidarios\, entre otros organismos. Gracias a e
 sta campaña se evidenció un proceso gradual de recuperación del ecosist
 ema marino en la zona\, la cual no hubiera sido posible sin la colaboraci
 ón de la Consejería de Transición Ecológica\, Lucha contra el Cambio C
 limático y Planificación Territorial y la REDPROMAR del Gobierno de Cana
 rias.
ATTACH;FMTTYPE=image/jpeg:https://www.larevistadelapalma.com/wp-content/up
 loads/2024/05/Visita-guiada-a-la-exhibicion-sobre-la-biodiversidad-en-los-
 deltas-lavicos-scaled.jpg
CATEGORIES:Exposiciones
LOCATION:Plaza Francisca Gazmira\, Calle El Paso de Abajo\, 2\, El Paso\, 3
 8750\, España
GEO:28.652218;-17.881597
X-APPLE-STRUCTURED-LOCATION;VALUE=URI;X-ADDRESS=Calle El Paso de Abajo\, 2\
 , El Paso\, 38750\, España;X-APPLE-RADIUS=100;X-TITLE=Plaza Francisca Gaz
 mira:geo:28.652218,-17.881597
END:VEVENT
END:VCALENDAR