BEGIN:VCALENDAR
VERSION:2.0
PRODID:-//wp-events-plugin.com//7.2.3.1//EN
TZID:Europe/London
X-WR-TIMEZONE:Europe/London
BEGIN:VEVENT
UID:3502@larevistadelapalma.com
DTSTART:20241215T090000Z
DTEND:20241215T130000Z
DTSTAMP:20241215T011944Z
URL:https://www.larevistadelapalma.com/events/el-paso-organiza-la-navidad-
 en-la-calle/
SUMMARY:APLAZADO- El Paso organiza la "Navidad en la calle"
DESCRIPTION:\n 	\n\nPor causas meteorológicas\, el Ayuntamiento de El Paso
  aplaza el evento a una nueva fecha por definir.\n\n\nUna jornada dirigida
  a toda la familia donde grandes y pequeños podrán disfrutar de una expo
 sición de coches a cargo del Club de Automóviles Clásicos y Antiguos de
  El Paso\, Mercadillo Escolar de Navidad de los centros escolares Jedey\, 
 La Rosa Camino Viejo y Adancasis\, y todo ello acompañado de la música d
 e The Mahoney Soul Band\, con la mejor música negra de los años 60 y 70\
 ,  y la DJ Moni Loff.
ATTACH;FMTTYPE=image/jpeg:https://www.larevistadelapalma.com/wp-content/up
 loads/2024/12/Navidad-en-la-Calle-el-paso.jpg
CATEGORIES:Ferias y mercados,Otras propuestas,Varios
LOCATION:Municipio de El Paso\, El Paso\, La Palma \, El Paso\, 38750\, Esp
 aña
GEO:28.652378;-17.880396
X-APPLE-STRUCTURED-LOCATION;VALUE=URI;X-ADDRESS=El Paso\, La Palma \, El Pa
 so\, 38750\, España;X-APPLE-RADIUS=100;X-TITLE=Municipio de El Paso:geo:2
 8.652378,-17.880396
END:VEVENT
END:VCALENDARBEGIN:VCALENDAR
VERSION:2.0
PRODID:-//wp-events-plugin.com//7.2.3.1//EN
TZID:Europe/London
X-WR-TIMEZONE:Europe/London
BEGIN:VEVENT
UID:3502@larevistadelapalma.com
DTSTART:20241215T090000Z
DTEND:20241215T130000Z
DTSTAMP:20241215T011944Z
URL:https://www.larevistadelapalma.com/events/el-paso-organiza-la-navidad-
 en-la-calle/
SUMMARY:APLAZADO- El Paso organiza la "Navidad en la calle"
DESCRIPTION:\n 	\n\nPor causas meteorológicas\, el Ayuntamiento de El Paso
  aplaza el evento a una nueva fecha por definir.\n\n\nUna jornada dirigida
  a toda la familia donde grandes y pequeños podrán disfrutar de una expo
 sición de coches a cargo del Club de Automóviles Clásicos y Antiguos de
  El Paso\, Mercadillo Escolar de Navidad de los centros escolares Jedey\, 
 La Rosa Camino Viejo y Adancasis\, y todo ello acompañado de la música d
 e The Mahoney Soul Band\, con la mejor música negra de los años 60 y 70\
 ,  y la DJ Moni Loff.
ATTACH;FMTTYPE=image/jpeg:https://www.larevistadelapalma.com/wp-content/up
 loads/2024/12/Navidad-en-la-Calle-el-paso.jpg
CATEGORIES:Ferias y mercados,Otras propuestas,Varios
LOCATION:Municipio de El Paso\, El Paso\, La Palma \, El Paso\, 38750\, Esp
 aña
GEO:28.652378;-17.880396
X-APPLE-STRUCTURED-LOCATION;VALUE=URI;X-ADDRESS=El Paso\, La Palma \, El Pa
 so\, 38750\, España;X-APPLE-RADIUS=100;X-TITLE=Municipio de El Paso:geo:2
 8.652378,-17.880396
END:VEVENT
END:VCALENDAR