BEGIN:VCALENDAR
VERSION:2.0
PRODID:-//wp-events-plugin.com//7.2.3.1//EN
TZID:Europe/London
X-WR-TIMEZONE:Europe/London
BEGIN:VEVENT
UID:4063@larevistadelapalma.com
DTSTART:20251127T180000Z
DTEND:20251127T191500Z
DTSTAMP:20251127T101252Z
URL:https://www.larevistadelapalma.com/events/el-pastor-cia-nomada/
SUMMARY:Vuelve "Una Ciudad en Danza" con "El pastor"\, de la compañía Nó
 mada
DESCRIPTION:"Una Ciudad en Danza" regresa a Santa Cruz de La Palma este mes
  de noviembre. Primera cita\, el jueves 27 a las 19:00 horas\, en una nuev
 a ubicación\, la Plaza de Santo Domingo.\n\nRegresa la danza contemporán
 ea en espacios no convencionales de la capital. Plazas\, calles y edificio
 s dialogan con los cuerpos de quienes danzan\, pero también con el públi
 co\, ya que rota la cuarta pared\, sólo queda la fluidez de una conversac
 ión sin palabras.\n\nNo es necesario entender qué se cuenta\, sino tan s
 ólo cómo se produce ese vínculo emisor-receptor. De manera natural\, ca
 da pieza pensada narrará desde un lugar diferente\, en ocasiones con tall
 eres adicionales\, en otras con charlas previas o posteriores\, o simpleme
 nte dejando que cada persona que acuda interprete el cuerpo\, la pieza y e
 l entorno libremente\, sin sentirse coartada a la hora de dejar volar su i
 maginación.\n\nLos objetivos de este proyecto bimestral son acercar la da
 nza contemporánea a todo tipo de público y crear un proyecto con continu
 idad\, sostenido en el tiempo y con propuestas que\nabarquen estilos\, len
 guajes y orígenes diferentes. Así\, en este mes de noviembre tendremos e
 n la capital el solo EL PASTOR de la compañía canaria NÓMADA.\n\nEste p
 royecto surge en época de confinamiento cuando el actor\, coreógrafo y b
 ailarín Roberto Torres escucha el discurso de un coach mexicano que traba
 ja con multinacionales de Estados Unidos que le conmociona. En este discur
 so motivacional se valora la competencia\, el ser el mejor\, el que trabaj
 a más duro\, la mejor Bestia haciendo comparativas con animales que le re
 suenan como manipulación y un peligro porque en ningún momento del discu
 rso aparece un nosotros. Esto le hace pensar que en estos tiempos que esta
 mos viviendo\, como en otros de la historia\, surgen líderes peligrosos c
 on VERDADES que sin dudar las gritan o las adornan para seducir a los mans
 os o para encender a los inconformes.\n\n\n\n&nbsp\;\n\n\n\n\n\n\n\n\n\n\n
 Ver esta publicación en Instagram\n\n\n\n\n\n\n\n\n\n\n\n\n\n\n\n\n\n\n\n
 \n\n\n&nbsp\;\nUna publicación compartida por Compañía Nómada (@cia.no
 mada)\n\n\n\n\nEstos PASTORES aparecen como coaches para empresas\, en el 
 ámbito religioso o político asumiendo el poder de guiar como rebaños a 
 una sociedad frágil. Roberto toma conciencia que estos tiempos de desconc
 ierto e incertidumbre son caldo de cultivo para estos personajes que habla
 n desde las alturas\, los púlpitos\, los escenarios o los atriles. Por ot
 ro lado aparece el pastor de ovejas\, de cabras o de otros animales que a 
 veces a Roberto se le plantea como posibilidad para cambiar el rumbo de su
  vida.\n\nEn este tiempo de soledad e introspección habitando un teatro v
 acío\, el Teatro Victoria\, Roberto toma consciencia que en los últimos 
 años ha trabajado como intérprete para otros coreógrafos: Daniel Abreu\
 , Carmen Werner\, etc.\, o ha estado dirigiendo piezas para otras compañ
 ías o para la Compañía Nómada que él mismo dirige como es el caso de 
 ‘Dulces bestias’ y en este momento\, quiso asumir el reto de crear est
 e unipersonal y ver qué surgía en esta etapa de su vida\, con las vivenc
 ias\, su cuerpo y las herramientas que ha ido adquiriendo a lo largo de su
  experiencia y formación como bailarín.\n\nEn ese momento de mirada inte
 rna\, de observación del mundo con media cara tapada\, medio oculto\, de 
 mucha soledad surgen una serie de preguntas que se lanzan en esta pieza qu
 e no pretende dar respuestas\, pero que puede invitar a dejar un espacio p
 ara la reflexión:\n¿En este mundo virtual que hemos creado podremos mant
 ener a salvo nuestra intimidad y los secretos? ¿Si nos fuésemos a una mo
 ntaña muy alta\, muy lejos\, serán nuestros los pensamientos?\n\n\n\n\n
  Roberto Torres\, responsable del emblemático Teatro Victoria\, un espac
 io de referencia para todas las creadoras e intérpretes de Tenerife\, foc
 o y pulsión de la danza en Canarias desde hace décadas. En el año 2000 
 fundó la compañía Nómada. Roberto en la actualidad compagina la Docenc
 ia\, con la creación de espectáculos\, su formación como actor\, bailar
 ín y la Dirección del Teatro Victoria ubicado en Santa Cruz de Tenerife.
  Director artístico del “Festival de Danza Canarios dentro y fuera”\;
  el Festival Teatro Contemporáneo Encuentros. Además del Festival de Dan
 za Cuadernos Escénicos en Garachico.\n\n"Una Ciudad en Danza" es un proy
 ecto financiado por la Concejalía de Cultura de Santa Cruz de La Palma\, 
 a partir de una idea original de Ars Vita Gestión Cultural\, encargada de
  la programación\, dirección y producción.
ATTACH;FMTTYPE=image/jpeg:https://www.larevistadelapalma.com/wp-content/up
 loads/2025/11/Elpastor-CIA-NOMADA.jpg
CATEGORIES:Danza,Espectáculos
LOCATION:Plaza de Santo Domingo en Santa Cruz de La Palma\, Plaza Santo Dom
 ingo\, Santa Cruz de La Palma\, 38700\, España
GEO:28.682691;-17.766334
X-APPLE-STRUCTURED-LOCATION;VALUE=URI;X-ADDRESS=Plaza Santo Domingo\, Santa
  Cruz de La Palma\, 38700\, España;X-APPLE-RADIUS=100;X-TITLE=Plaza de Sa
 nto Domingo en Santa Cruz de La Palma:geo:28.682691,-17.766334
END:VEVENT
END:VCALENDARBEGIN:VCALENDAR
VERSION:2.0
PRODID:-//wp-events-plugin.com//7.2.3.1//EN
TZID:Europe/London
X-WR-TIMEZONE:Europe/London
BEGIN:VEVENT
UID:4063@larevistadelapalma.com
DTSTART:20251127T180000Z
DTEND:20251127T191500Z
DTSTAMP:20251127T101252Z
URL:https://www.larevistadelapalma.com/events/el-pastor-cia-nomada/
SUMMARY:Vuelve "Una Ciudad en Danza" con "El pastor"\, de la compañía Nó
 mada
DESCRIPTION:"Una Ciudad en Danza" regresa a Santa Cruz de La Palma este mes
  de noviembre. Primera cita\, el jueves 27 a las 19:00 horas\, en una nuev
 a ubicación\, la Plaza de Santo Domingo.\n\nRegresa la danza contemporán
 ea en espacios no convencionales de la capital. Plazas\, calles y edificio
 s dialogan con los cuerpos de quienes danzan\, pero también con el públi
 co\, ya que rota la cuarta pared\, sólo queda la fluidez de una conversac
 ión sin palabras.\n\nNo es necesario entender qué se cuenta\, sino tan s
 ólo cómo se produce ese vínculo emisor-receptor. De manera natural\, ca
 da pieza pensada narrará desde un lugar diferente\, en ocasiones con tall
 eres adicionales\, en otras con charlas previas o posteriores\, o simpleme
 nte dejando que cada persona que acuda interprete el cuerpo\, la pieza y e
 l entorno libremente\, sin sentirse coartada a la hora de dejar volar su i
 maginación.\n\nLos objetivos de este proyecto bimestral son acercar la da
 nza contemporánea a todo tipo de público y crear un proyecto con continu
 idad\, sostenido en el tiempo y con propuestas que\nabarquen estilos\, len
 guajes y orígenes diferentes. Así\, en este mes de noviembre tendremos e
 n la capital el solo EL PASTOR de la compañía canaria NÓMADA.\n\nEste p
 royecto surge en época de confinamiento cuando el actor\, coreógrafo y b
 ailarín Roberto Torres escucha el discurso de un coach mexicano que traba
 ja con multinacionales de Estados Unidos que le conmociona. En este discur
 so motivacional se valora la competencia\, el ser el mejor\, el que trabaj
 a más duro\, la mejor Bestia haciendo comparativas con animales que le re
 suenan como manipulación y un peligro porque en ningún momento del discu
 rso aparece un nosotros. Esto le hace pensar que en estos tiempos que esta
 mos viviendo\, como en otros de la historia\, surgen líderes peligrosos c
 on VERDADES que sin dudar las gritan o las adornan para seducir a los mans
 os o para encender a los inconformes.\n\n\n\n&nbsp\;\n\n\n\n\n\n\n\n\n\n\n
 Ver esta publicación en Instagram\n\n\n\n\n\n\n\n\n\n\n\n\n\n\n\n\n\n\n\n
 \n\n\n&nbsp\;\nUna publicación compartida por Compañía Nómada (@cia.no
 mada)\n\n\n\n\nEstos PASTORES aparecen como coaches para empresas\, en el 
 ámbito religioso o político asumiendo el poder de guiar como rebaños a 
 una sociedad frágil. Roberto toma conciencia que estos tiempos de desconc
 ierto e incertidumbre son caldo de cultivo para estos personajes que habla
 n desde las alturas\, los púlpitos\, los escenarios o los atriles. Por ot
 ro lado aparece el pastor de ovejas\, de cabras o de otros animales que a 
 veces a Roberto se le plantea como posibilidad para cambiar el rumbo de su
  vida.\n\nEn este tiempo de soledad e introspección habitando un teatro v
 acío\, el Teatro Victoria\, Roberto toma consciencia que en los últimos 
 años ha trabajado como intérprete para otros coreógrafos: Daniel Abreu\
 , Carmen Werner\, etc.\, o ha estado dirigiendo piezas para otras compañ
 ías o para la Compañía Nómada que él mismo dirige como es el caso de 
 ‘Dulces bestias’ y en este momento\, quiso asumir el reto de crear est
 e unipersonal y ver qué surgía en esta etapa de su vida\, con las vivenc
 ias\, su cuerpo y las herramientas que ha ido adquiriendo a lo largo de su
  experiencia y formación como bailarín.\n\nEn ese momento de mirada inte
 rna\, de observación del mundo con media cara tapada\, medio oculto\, de 
 mucha soledad surgen una serie de preguntas que se lanzan en esta pieza qu
 e no pretende dar respuestas\, pero que puede invitar a dejar un espacio p
 ara la reflexión:\n¿En este mundo virtual que hemos creado podremos mant
 ener a salvo nuestra intimidad y los secretos? ¿Si nos fuésemos a una mo
 ntaña muy alta\, muy lejos\, serán nuestros los pensamientos?\n\n\n\n\n
  Roberto Torres\, responsable del emblemático Teatro Victoria\, un espac
 io de referencia para todas las creadoras e intérpretes de Tenerife\, foc
 o y pulsión de la danza en Canarias desde hace décadas. En el año 2000 
 fundó la compañía Nómada. Roberto en la actualidad compagina la Docenc
 ia\, con la creación de espectáculos\, su formación como actor\, bailar
 ín y la Dirección del Teatro Victoria ubicado en Santa Cruz de Tenerife.
  Director artístico del “Festival de Danza Canarios dentro y fuera”\;
  el Festival Teatro Contemporáneo Encuentros. Además del Festival de Dan
 za Cuadernos Escénicos en Garachico.\n\n"Una Ciudad en Danza" es un proy
 ecto financiado por la Concejalía de Cultura de Santa Cruz de La Palma\, 
 a partir de una idea original de Ars Vita Gestión Cultural\, encargada de
  la programación\, dirección y producción.
ATTACH;FMTTYPE=image/jpeg:https://www.larevistadelapalma.com/wp-content/up
 loads/2025/11/Elpastor-CIA-NOMADA.jpg
CATEGORIES:Danza,Espectáculos
LOCATION:Plaza de Santo Domingo en Santa Cruz de La Palma\, Plaza Santo Dom
 ingo\, Santa Cruz de La Palma\, 38700\, España
GEO:28.682691;-17.766334
X-APPLE-STRUCTURED-LOCATION;VALUE=URI;X-ADDRESS=Plaza Santo Domingo\, Santa
  Cruz de La Palma\, 38700\, España;X-APPLE-RADIUS=100;X-TITLE=Plaza de Sa
 nto Domingo en Santa Cruz de La Palma:geo:28.682691,-17.766334
END:VEVENT
END:VCALENDAR