BEGIN:VCALENDAR
VERSION:2.0
PRODID:-//wp-events-plugin.com//7.2.3.1//EN
TZID:Europe/London
X-WR-TIMEZONE:Europe/London
BEGIN:VEVENT
UID:2855@larevistadelapalma.com
DTSTART:20240409T193000Z
DTEND:20240409T210000Z
DTSTAMP:20240401T201409Z
URL:https://www.larevistadelapalma.com/events/el-patio-de-mi-recreo-la-esc
 uela-de-ayer-y-la-escuela-de-hoy-circo-marte/
SUMMARY:«El patio de mi recreo». La escuela de ayer y la escuela de hoy
DESCRIPTION:El profesorado del IES Alonso Pérez Díaz protagoniza esta com
 edia teatral con creación y dirección de María Eugenia Blanco García y
  Laura María Escuela Ramos.\n\nCon el fin de recaudar fondos para el viaj
 e de final de curso de 4º de la ESO y 1º de Bachillerato\, el profesorad
 o del Alonso Pérez Díaz interpreta esta parodia donde se valdrán del se
 ntido del humor para escenificar una serie de situaciones comparativas de 
 cómo era la escuela en el pasado y cómo es hoy. Sin abandonar el tono de
  comedia\, la obra no renuncia al análisis ni a la reflexión sobre el mu
 ndo de la educación.\n\nTAQUILLA INVERSA: primero\, las entradas se retir
 an gratuitamente en la taquilla del teatro o en entradasatualcance.com (en
  breve estarán disponibles).\n\n\nAl terminar la obra\, se deposita en ef
 ectivo la cantidad que se considere justa en unas urnas que se pondrán en
  la salida.\n\n&nbsp\;
ATTACH;FMTTYPE=image/jpeg:https://www.larevistadelapalma.com/wp-content/up
 loads/2024/03/La-Escuela-de-ayer-y-de-hoy.jpg
CATEGORIES:Espectáculos,Teatro
LOCATION:Teatro Circo de Marte\, Calle Virgen de La Luz\, 5\, Santa Cruz de
  La Palma\, 38700\, España
GEO:28.682989;-17.765755
X-APPLE-STRUCTURED-LOCATION;VALUE=URI;X-ADDRESS=Calle Virgen de La Luz\, 5\
 , Santa Cruz de La Palma\, 38700\, España;X-APPLE-RADIUS=100;X-TITLE=Teat
 ro Circo de Marte:geo:28.682989,-17.765755
END:VEVENT
END:VCALENDARBEGIN:VCALENDAR
VERSION:2.0
PRODID:-//wp-events-plugin.com//7.2.3.1//EN
TZID:Europe/London
X-WR-TIMEZONE:Europe/London
BEGIN:VEVENT
UID:2855@larevistadelapalma.com
DTSTART:20240409T193000Z
DTEND:20240409T210000Z
DTSTAMP:20240401T201409Z
URL:https://www.larevistadelapalma.com/events/el-patio-de-mi-recreo-la-esc
 uela-de-ayer-y-la-escuela-de-hoy-circo-marte/
SUMMARY:«El patio de mi recreo». La escuela de ayer y la escuela de hoy
DESCRIPTION:El profesorado del IES Alonso Pérez Díaz protagoniza esta com
 edia teatral con creación y dirección de María Eugenia Blanco García y
  Laura María Escuela Ramos.\n\nCon el fin de recaudar fondos para el viaj
 e de final de curso de 4º de la ESO y 1º de Bachillerato\, el profesorad
 o del Alonso Pérez Díaz interpreta esta parodia donde se valdrán del se
 ntido del humor para escenificar una serie de situaciones comparativas de 
 cómo era la escuela en el pasado y cómo es hoy. Sin abandonar el tono de
  comedia\, la obra no renuncia al análisis ni a la reflexión sobre el mu
 ndo de la educación.\n\nTAQUILLA INVERSA: primero\, las entradas se retir
 an gratuitamente en la taquilla del teatro o en entradasatualcance.com (en
  breve estarán disponibles).\n\n\nAl terminar la obra\, se deposita en ef
 ectivo la cantidad que se considere justa en unas urnas que se pondrán en
  la salida.\n\n&nbsp\;
ATTACH;FMTTYPE=image/jpeg:https://www.larevistadelapalma.com/wp-content/up
 loads/2024/03/La-Escuela-de-ayer-y-de-hoy.jpg
CATEGORIES:Espectáculos,Teatro
LOCATION:Teatro Circo de Marte\, Calle Virgen de La Luz\, 5\, Santa Cruz de
  La Palma\, 38700\, España
GEO:28.682989;-17.765755
X-APPLE-STRUCTURED-LOCATION;VALUE=URI;X-ADDRESS=Calle Virgen de La Luz\, 5\
 , Santa Cruz de La Palma\, 38700\, España;X-APPLE-RADIUS=100;X-TITLE=Teat
 ro Circo de Marte:geo:28.682989,-17.765755
END:VEVENT
END:VCALENDAR