BEGIN:VCALENDAR
VERSION:2.0
PRODID:-//wp-events-plugin.com//7.2.3.1//EN
TZID:Europe/London
X-WR-TIMEZONE:Europe/London
BEGIN:VEVENT
UID:3198@larevistadelapalma.com
DTSTART:20240823T200000Z
DTEND:20240823T225900Z
DTSTAMP:20240822T201649Z
URL:https://www.larevistadelapalma.com/events/el-perro-maldito-en-puntalla
 na/
SUMMARY:El Perro Maldito\, en Puntallana
DESCRIPTION:Un espectáculo organizado por la Comisión de Fiestas y los ve
 cinos de La Galga\, que comenzará este viernes 23 a partir de las 21:00h 
 en los aledaños de la ermita y plaza de San Bartolo. Acompañará el espe
 ctáculo la batucada Campobassao y Bloquinho. Al finalizar\, verbena con e
 l grupo Los tres de Caña.\n\nEl entorno de la antigua ermita de San Barto
 lomé Apóstol es el escenario de la puesta en escena. Según una vieja tr
 adición del pago de La Galga\, en el municipio de Puntallana\, por las v
 ísperas de San Bartolomé (24 de agosto) «el diablo —o perro maldito
 — anda suelto». Desde muy antiguo\, la chiquillería del barrio viene p
 rotagonizando infinidad de travesuras en el vecindario pero\, como coartad
 a\, culpan de tales molestias al «diablo de San Bartolo».  Leer más&gt
 \;&gt\;
ATTACH;FMTTYPE=image/jpeg:https://www.larevistadelapalma.com/wp-content/up
 loads/2024/08/Perro-maldito.jpg
CATEGORIES:Fiestas populares,Otras propuestas
END:VEVENT
END:VCALENDARBEGIN:VCALENDAR
VERSION:2.0
PRODID:-//wp-events-plugin.com//7.2.3.1//EN
TZID:Europe/London
X-WR-TIMEZONE:Europe/London
BEGIN:VEVENT
UID:3198@larevistadelapalma.com
DTSTART:20240823T200000Z
DTEND:20240823T225900Z
DTSTAMP:20240822T201649Z
URL:https://www.larevistadelapalma.com/events/el-perro-maldito-en-puntalla
 na/
SUMMARY:El Perro Maldito\, en Puntallana
DESCRIPTION:Un espectáculo organizado por la Comisión de Fiestas y los ve
 cinos de La Galga\, que comenzará este viernes 23 a partir de las 21:00h 
 en los aledaños de la ermita y plaza de San Bartolo. Acompañará el espe
 ctáculo la batucada Campobassao y Bloquinho. Al finalizar\, verbena con e
 l grupo Los tres de Caña.\n\nEl entorno de la antigua ermita de San Barto
 lomé Apóstol es el escenario de la puesta en escena. Según una vieja tr
 adición del pago de La Galga\, en el municipio de Puntallana\, por las v
 ísperas de San Bartolomé (24 de agosto) «el diablo —o perro maldito
 — anda suelto». Desde muy antiguo\, la chiquillería del barrio viene p
 rotagonizando infinidad de travesuras en el vecindario pero\, como coartad
 a\, culpan de tales molestias al «diablo de San Bartolo».  Leer más&gt
 \;&gt\;
ATTACH;FMTTYPE=image/jpeg:https://www.larevistadelapalma.com/wp-content/up
 loads/2024/08/Perro-maldito.jpg
CATEGORIES:Fiestas populares,Otras propuestas
END:VEVENT
END:VCALENDAR