BEGIN:VCALENDAR
VERSION:2.0
PRODID:-//wp-events-plugin.com//7.2.3.1//EN
TZID:Europe/London
X-WR-TIMEZONE:Europe/London
BEGIN:VEVENT
UID:172@larevistadelapalma.com
DTSTART:20230718T180000Z
DTEND:20230720T191500Z
DTSTAMP:20230717T163143Z
URL:https://www.larevistadelapalma.com/events/el-progarma-canarias-una-ven
 tana-volcanica-en-el-atlantico-llega-a-brena-alta/
SUMMARY:El programa Canarias Una Ventana Volcánica en el Atlántico llega 
 a Breña Alta
DESCRIPTION:El próximo martes 18 y hasta el jueves 20 de julio el Institut
 o Volcanológico de Canarias nos acompañará en un programa educativo con
  el afán de informar y fortalecer a la población ante un fenómeno volc
 ánico
ATTACH;FMTTYPE=image/jpeg:https://www.larevistadelapalma.com/wp-content/up
 loads/2023/07/Canraias-una-ventana-volcanica-al-Atlantico.jpg
CATEGORIES:Formación,Otras propuestas
LOCATION:Museo del Puro Palmero\, Parque de Los Álamos\, Breña Alta\, 387
 10\, España
GEO:28.666832;-17.787186
X-APPLE-STRUCTURED-LOCATION;VALUE=URI;X-ADDRESS=Parque de Los Álamos\, Bre
 ña Alta\, 38710\, España;X-APPLE-RADIUS=100;X-TITLE=Museo del Puro Palme
 ro:geo:28.666832,-17.787186
END:VEVENT
END:VCALENDARBEGIN:VCALENDAR
VERSION:2.0
PRODID:-//wp-events-plugin.com//7.2.3.1//EN
TZID:Europe/London
X-WR-TIMEZONE:Europe/London
BEGIN:VEVENT
UID:172@larevistadelapalma.com
DTSTART:20230718T180000Z
DTEND:20230720T191500Z
DTSTAMP:20230717T163143Z
URL:https://www.larevistadelapalma.com/events/el-progarma-canarias-una-ven
 tana-volcanica-en-el-atlantico-llega-a-brena-alta/
SUMMARY:El programa Canarias Una Ventana Volcánica en el Atlántico llega 
 a Breña Alta
DESCRIPTION:El próximo martes 18 y hasta el jueves 20 de julio el Institut
 o Volcanológico de Canarias nos acompañará en un programa educativo con
  el afán de informar y fortalecer a la población ante un fenómeno volc
 ánico
ATTACH;FMTTYPE=image/jpeg:https://www.larevistadelapalma.com/wp-content/up
 loads/2023/07/Canraias-una-ventana-volcanica-al-Atlantico.jpg
CATEGORIES:Formación,Otras propuestas
LOCATION:Museo del Puro Palmero\, Parque de Los Álamos\, Breña Alta\, 387
 10\, España
GEO:28.666832;-17.787186
X-APPLE-STRUCTURED-LOCATION;VALUE=URI;X-ADDRESS=Parque de Los Álamos\, Bre
 ña Alta\, 38710\, España;X-APPLE-RADIUS=100;X-TITLE=Museo del Puro Palme
 ro:geo:28.666832,-17.787186
END:VEVENT
END:VCALENDAR