BEGIN:VCALENDAR
VERSION:2.0
PRODID:-//wp-events-plugin.com//7.2.3.1//EN
TZID:Europe/London
X-WR-TIMEZONE:Europe/London
BEGIN:VEVENT
UID:3509@larevistadelapalma.com
DTSTART:20241221T190000Z
DTEND:20241221T203000Z
DTSTAMP:20241216T184501Z
URL:https://www.larevistadelapalma.com/events/el-relojero-de-los-suenos-sa
 n-andres-y-sauces/
SUMMARY:San Andrés y Sauces acogel el espectáculo “El Relojero De Los S
 ueños”\, de Habemus Teatro
DESCRIPTION:En un encantador pueblo donde el tiempo parece haberse detenido
 \, un relojero solitario ve cómo su vida cambia cuando los traviesos niñ
 os del lugar deciden jugarle una inesperada travesura: ¡esconden las llav
 es de sus relojes! Pero detrás de esta travesura yace un hermoso propósi
 to: devolverle la alegría perdida al anciano relojero.\nCon cada hora det
 enida\, el relojero revive momentos entrañables de su infancia\, recordan
 do los pequeños placeres que solían llenar su corazón de alegría. A tr
 avés de cautivadoras canciones y coreografías\, seremos testigos de cóm
 o el relojero se embarca en un viaje emocional para redescubrir la felicid
 ad perdida.\nEn su búsqueda\, encuentra ayuda inesperada en los cálidos 
 vecinos del pueblo\, quienes se unen para ayudarle a recuperar el tiempo y
  la felicidad. Pero la verdadera sorpresa llega cuando un misterioso reloj
  cobra vida para convertirse en su aliado más invaluable.\n“El Relojero
  De Los Sueños” es una emocionante aventura de la Compañía Habemus Te
 atro\, llena de música\, danza y emoción\, que nos recuerda la importanc
 ia de valorar cada momento y encontrar la felicidad en las pequeñas cosas
 .
ATTACH;FMTTYPE=image/jpeg:https://www.larevistadelapalma.com/wp-content/up
 loads/2024/12/El-relojero-de-los-suenos-Habemus-Teatro.jpg
CATEGORIES:Espectáculos,Relax
LOCATION:Plaza de Montserrat en San Andrés y Sauces\, Calle Montserrat\, S
 an Andrés y Sauces\, 38729\, España
GEO:28.784222;-17.799155
X-APPLE-STRUCTURED-LOCATION;VALUE=URI;X-ADDRESS=Calle Montserrat\, San Andr
 és y Sauces\, 38729\, España;X-APPLE-RADIUS=100;X-TITLE=Plaza de Montser
 rat en San Andrés y Sauces:geo:28.784222,-17.799155
END:VEVENT
END:VCALENDARBEGIN:VCALENDAR
VERSION:2.0
PRODID:-//wp-events-plugin.com//7.2.3.1//EN
TZID:Europe/London
X-WR-TIMEZONE:Europe/London
BEGIN:VEVENT
UID:3509@larevistadelapalma.com
DTSTART:20241221T190000Z
DTEND:20241221T203000Z
DTSTAMP:20241216T184501Z
URL:https://www.larevistadelapalma.com/events/el-relojero-de-los-suenos-sa
 n-andres-y-sauces/
SUMMARY:San Andrés y Sauces acogel el espectáculo “El Relojero De Los S
 ueños”\, de Habemus Teatro
DESCRIPTION:En un encantador pueblo donde el tiempo parece haberse detenido
 \, un relojero solitario ve cómo su vida cambia cuando los traviesos niñ
 os del lugar deciden jugarle una inesperada travesura: ¡esconden las llav
 es de sus relojes! Pero detrás de esta travesura yace un hermoso propósi
 to: devolverle la alegría perdida al anciano relojero.\nCon cada hora det
 enida\, el relojero revive momentos entrañables de su infancia\, recordan
 do los pequeños placeres que solían llenar su corazón de alegría. A tr
 avés de cautivadoras canciones y coreografías\, seremos testigos de cóm
 o el relojero se embarca en un viaje emocional para redescubrir la felicid
 ad perdida.\nEn su búsqueda\, encuentra ayuda inesperada en los cálidos 
 vecinos del pueblo\, quienes se unen para ayudarle a recuperar el tiempo y
  la felicidad. Pero la verdadera sorpresa llega cuando un misterioso reloj
  cobra vida para convertirse en su aliado más invaluable.\n“El Relojero
  De Los Sueños” es una emocionante aventura de la Compañía Habemus Te
 atro\, llena de música\, danza y emoción\, que nos recuerda la importanc
 ia de valorar cada momento y encontrar la felicidad en las pequeñas cosas
 .
ATTACH;FMTTYPE=image/jpeg:https://www.larevistadelapalma.com/wp-content/up
 loads/2024/12/El-relojero-de-los-suenos-Habemus-Teatro.jpg
CATEGORIES:Espectáculos,Relax
LOCATION:Plaza de Montserrat en San Andrés y Sauces\, Calle Montserrat\, S
 an Andrés y Sauces\, 38729\, España
GEO:28.784222;-17.799155
X-APPLE-STRUCTURED-LOCATION;VALUE=URI;X-ADDRESS=Calle Montserrat\, San Andr
 és y Sauces\, 38729\, España;X-APPLE-RADIUS=100;X-TITLE=Plaza de Montser
 rat en San Andrés y Sauces:geo:28.784222,-17.799155
END:VEVENT
END:VCALENDAR