BEGIN:VCALENDAR
VERSION:2.0
PRODID:-//wp-events-plugin.com//7.2.3.1//EN
TZID:Europe/London
X-WR-TIMEZONE:Europe/London
BEGIN:VEVENT
UID:4410@larevistadelapalma.com
DTSTART;VALUE=DATE:20251219
DTEND;VALUE=DATE:20251228
DTSTAMP:20251217T230452Z
URL:https://www.larevistadelapalma.com/events/el-rincon-de-la-navidad-sant
 a-cruz-de-la-palma/
SUMMARY:"El rincón de la Navidad"- Santa Cruz de La Palma
DESCRIPTION:Del 19 al 27 de diciembre El Rincón de La Navidad\, en la Plaz
 a del Kiosco Eliseo\, en la capital Palmera. Un lugar donde para disfrutar
  del ambiente navideño con talleres\, actividades para niños y adultos\,
  zona gastro\, música en vivo y Djs.\n\n
ATTACH;FMTTYPE=image/jpeg:https://www.larevistadelapalma.com/wp-content/up
 loads/2025/12/El-rincon-de-la-navidad.jpg
CATEGORIES:Otras propuestas,Varios
LOCATION:Municipio de Santa Cruz de La Palma\, Santa Cruz de La Palma \, Sa
 nta Cruz de La Palma \, 38700\, España
GEO:28.688757;-17.765102
X-APPLE-STRUCTURED-LOCATION;VALUE=URI;X-ADDRESS=Santa Cruz de La Palma \, S
 anta Cruz de La Palma \, 38700\, España;X-APPLE-RADIUS=100;X-TITLE=Munici
 pio de Santa Cruz de La Palma:geo:28.688757,-17.765102
END:VEVENT
END:VCALENDARBEGIN:VCALENDAR
VERSION:2.0
PRODID:-//wp-events-plugin.com//7.2.3.1//EN
TZID:Europe/London
X-WR-TIMEZONE:Europe/London
BEGIN:VEVENT
UID:4410@larevistadelapalma.com
DTSTART;VALUE=DATE:20251219
DTEND;VALUE=DATE:20251228
DTSTAMP:20251217T230452Z
URL:https://www.larevistadelapalma.com/events/el-rincon-de-la-navidad-sant
 a-cruz-de-la-palma/
SUMMARY:"El rincón de la Navidad"- Santa Cruz de La Palma
DESCRIPTION:Del 19 al 27 de diciembre El Rincón de La Navidad\, en la Plaz
 a del Kiosco Eliseo\, en la capital Palmera. Un lugar donde para disfrutar
  del ambiente navideño con talleres\, actividades para niños y adultos\,
  zona gastro\, música en vivo y Djs.\n\n
ATTACH;FMTTYPE=image/jpeg:https://www.larevistadelapalma.com/wp-content/up
 loads/2025/12/El-rincon-de-la-navidad.jpg
CATEGORIES:Otras propuestas,Varios
LOCATION:Municipio de Santa Cruz de La Palma\, Santa Cruz de La Palma \, Sa
 nta Cruz de La Palma \, 38700\, España
GEO:28.688757;-17.765102
X-APPLE-STRUCTURED-LOCATION;VALUE=URI;X-ADDRESS=Santa Cruz de La Palma \, S
 anta Cruz de La Palma \, 38700\, España;X-APPLE-RADIUS=100;X-TITLE=Munici
 pio de Santa Cruz de La Palma:geo:28.688757,-17.765102
END:VEVENT
END:VCALENDAR