BEGIN:VCALENDAR
VERSION:2.0
PRODID:-//wp-events-plugin.com//7.2.3.1//EN
TZID:Europe/London
X-WR-TIMEZONE:Europe/London
BEGIN:VEVENT
UID:3450@larevistadelapalma.com
DTSTART;VALUE=DATE:20241212
DTEND;VALUE=DATE:20241214
DTSTAMP:20241209T150936Z
URL:https://www.larevistadelapalma.com/events/el-seminario-sobre-gestion-d
 e-los-rituales-festivos-y-la-bajada-de-la-virgen-abre-la-inscripcion-y-res
 erva-de-plazas/
SUMMARY:El seminario sobre gestión de los rituales festivos y la Bajada de
  la Virgen abre la inscripción y reserva de plazas 
DESCRIPTION:La inscripción es libre y gratuita.\n\nEl seminario “Gestió
 n\, protección y promoción de los rituales festivos: la Bajada de la Vir
 gen”\, que se celebrará en la Sociedad La Investigadora los días 12 y 
 13 de diciembre\, ha abierto el plazo de inscripción y reserva de plazas.
   \n\nLa asistencia al seminario es libre y gratuita hasta completar afo
 ro. Con antelación\, es posible reservar plaza a través del correo elect
 rónico cartasdiferentes@gmail.com o el número de wasap 679 39 71 79\, o 
 en la propia conserjería de la Sociedad La Investigadora en horario de 09
 :00 a 13:00 horas.. Además\, a todos los interesados que lo soliciten se 
 les expedirá un certificado de asistencia. Aparte\, los asistentes recibi
 rán distintas publicaciones y materiales bibliográficos relacionados con
  la Bajada de la Virgen y las fiestas tradicionales de La Palma.  \n\nCa
 be recordar que en las jornadas tomarán parte algunos de los mayores espe
 cialistas en el estudio y protección del patrimonio festivo. Entre los po
 nentes se encuentra el catedrático de Antropología Social y Cultural de 
 la Uned\, Honorio Velasco\; las técnicos del Instituto del Patrimonio Cul
 tural de España\, María Pía Timón Tiemblo y Sara González Cambeiro\; 
 las profesoras de la Universidad de La Laguna\, Diria Luz Morales Casañas
  y Almudena González Brito\; y los historiadores Joan Castaño García (M
 isterio de Elche) y Albert Rumbo Soler (Patum de Berga\, Barcelona). \n\n
 La Bajada de la Virgen estará presente en el seminario a través de una s
 erie de comunicaciones breves presentadas por Fátima Bethencourt Pérez\,
  Anelio Rodríguez Concepción\, Luis Ortega Abraham\, Amara Méndez Pére
 z\, Juan Manuel Castañeda\, Carmen L. Ferris Ochoa\, María Victoria Hern
 ández\, Ricardo Marante Ortega y Manuel Poggio Capote. \n\nAsimismo\, en 
 la tarde de jueves 12\, Víctor J. Hernández Correa ofrecerá la visita g
 uiada titulada “Espacios de la Bajada de la Virgen”. Entre los lugares
  a visitar se encontrará una exposición monográfica instalada en la Rea
 l Sociedad Cosmológica con ocasión de la celebración del seminario\, co
 misariada por las bibliotecarias Rosa Aguado Jaubert y Carmen Picó Rueda\
 , y una visita al Museo Naval. \n\n \n\n[caption id="attachment_8577" al
 ign="aligncenter" width="839"] CARTEL SEMINARIO CASINO DC 2024[/caption]\n
 Programa:\nJueves\, 12 diciembre\n\n09:00. Acreditación y recogida de doc
 umentación.\n09:30. Presentación.\n10:00. Sara González Cambeiro (Insti
 tuto del Patrimonio Cultural de España)\nCaracterísticas\, riesgos y sal
 vaguardia del Patrimonio Cultural Inmaterial: un marco\npara la protecció
 n de los rituales festivos.\n11:00. Descanso\n11:15. María Pía Timón Ti
 emblo (Instituto del Patrimonio Cultural de España)\nLas comunidades port
 adoras: sujetos activos en la valorización y salvaguardia de los\nrituale
 s festivos.\n12:15. Honorio Velasco (Universidad Nacional de Educación a 
 Distancia)\nLos valores del patrimonio inmaterial.\n13:15. Diria Luz Moral
 es Casañas (Universidad de La Laguna)\nRégimen jurídico del patrimonio 
 cultural inmaterial: los bienes de interés cultural.\n17:00. Visita guiad
 a a Santa Cruz de La Palma: «Espacios de la Bajada de la Virgen». Vícto
 r J.\nHernández Correa.\n\nViernes\, 13 diciembre\n\n09:00. Joan Castaño
  García (Patronato del Misteri de Elche)\nLa Festa o Misteri dʼElx\, Pat
 rimonio de la Humanidad.\n09:45. Descanso\n10:00. Albert Rumbo Soler (Patr
 onato de la Patum de Berga)\nLa Casa de La Patum: luces y sombras de un gr
 an proyecto.\n11:15. La Bajada de la Virgen\, patrimonio vivo\n\nEl semina
 rio\, organizado por la Sociedad La Investigadora\, cuenta con el patrocin
 io del Ayuntamiento de Santa Cruz de La Palma y su Concejalía de Cultura 
 que coordina Alberto Perdomo Pérez. Asimismo\, la Consejería de Cultura 
 y Patrimonio Histórico del Cabildo de La Palma que dirige Pablo Díaz Cob
 iella\, el Museo Insular de La Palma\, la Real Sociedad Cosmológica\, el 
 Museo Naval\, el Foro Cívico de Santa Cruz de La Palma y Cartas Diferente
 s Ediciones colaboran en la organización \n\nLas sesiones serán grabada
 s en vídeo y en un breve plazo de tiempo cada una de las conferencias est
 arán disponibles en el canal de Youtube de la Sociedad La Investigadora.\
 n\n&nbsp\;
ATTACH;FMTTYPE=image/jpeg:https://www.larevistadelapalma.com/wp-content/up
 loads/2024/12/Bajada-del-Trono-Foto-antigua.jpg
CATEGORIES:Formación,Otras propuestas
LOCATION:Casino de Santa Cruz de La Palma\,  C. Anselmo Pérez de Brito\, 1
 5\, Santa Cruz De La Palma\, Santa Cruz de Tenerife\, 38700\, España
GEO:28.684234;-17.7638
X-APPLE-STRUCTURED-LOCATION;VALUE=URI;X-ADDRESS= C. Anselmo Pérez de Brito
 \, 15\, Santa Cruz De La Palma\, Santa Cruz de Tenerife\, 38700\, España;
 X-APPLE-RADIUS=100;X-TITLE=Casino de Santa Cruz de La Palma:geo:28.684234,
 -17.7638
END:VEVENT
END:VCALENDARBEGIN:VCALENDAR
VERSION:2.0
PRODID:-//wp-events-plugin.com//7.2.3.1//EN
TZID:Europe/London
X-WR-TIMEZONE:Europe/London
BEGIN:VEVENT
UID:3450@larevistadelapalma.com
DTSTART;VALUE=DATE:20241212
DTEND;VALUE=DATE:20241214
DTSTAMP:20241209T150936Z
URL:https://www.larevistadelapalma.com/events/el-seminario-sobre-gestion-d
 e-los-rituales-festivos-y-la-bajada-de-la-virgen-abre-la-inscripcion-y-res
 erva-de-plazas/
SUMMARY:El seminario sobre gestión de los rituales festivos y la Bajada de
  la Virgen abre la inscripción y reserva de plazas 
DESCRIPTION:La inscripción es libre y gratuita.\n\nEl seminario “Gestió
 n\, protección y promoción de los rituales festivos: la Bajada de la Vir
 gen”\, que se celebrará en la Sociedad La Investigadora los días 12 y 
 13 de diciembre\, ha abierto el plazo de inscripción y reserva de plazas.
   \n\nLa asistencia al seminario es libre y gratuita hasta completar afo
 ro. Con antelación\, es posible reservar plaza a través del correo elect
 rónico cartasdiferentes@gmail.com o el número de wasap 679 39 71 79\, o 
 en la propia conserjería de la Sociedad La Investigadora en horario de 09
 :00 a 13:00 horas.. Además\, a todos los interesados que lo soliciten se 
 les expedirá un certificado de asistencia. Aparte\, los asistentes recibi
 rán distintas publicaciones y materiales bibliográficos relacionados con
  la Bajada de la Virgen y las fiestas tradicionales de La Palma.  \n\nCa
 be recordar que en las jornadas tomarán parte algunos de los mayores espe
 cialistas en el estudio y protección del patrimonio festivo. Entre los po
 nentes se encuentra el catedrático de Antropología Social y Cultural de 
 la Uned\, Honorio Velasco\; las técnicos del Instituto del Patrimonio Cul
 tural de España\, María Pía Timón Tiemblo y Sara González Cambeiro\; 
 las profesoras de la Universidad de La Laguna\, Diria Luz Morales Casañas
  y Almudena González Brito\; y los historiadores Joan Castaño García (M
 isterio de Elche) y Albert Rumbo Soler (Patum de Berga\, Barcelona). \n\n
 La Bajada de la Virgen estará presente en el seminario a través de una s
 erie de comunicaciones breves presentadas por Fátima Bethencourt Pérez\,
  Anelio Rodríguez Concepción\, Luis Ortega Abraham\, Amara Méndez Pére
 z\, Juan Manuel Castañeda\, Carmen L. Ferris Ochoa\, María Victoria Hern
 ández\, Ricardo Marante Ortega y Manuel Poggio Capote. \n\nAsimismo\, en 
 la tarde de jueves 12\, Víctor J. Hernández Correa ofrecerá la visita g
 uiada titulada “Espacios de la Bajada de la Virgen”. Entre los lugares
  a visitar se encontrará una exposición monográfica instalada en la Rea
 l Sociedad Cosmológica con ocasión de la celebración del seminario\, co
 misariada por las bibliotecarias Rosa Aguado Jaubert y Carmen Picó Rueda\
 , y una visita al Museo Naval. \n\n \n\n[caption id="attachment_8577" al
 ign="aligncenter" width="839"] CARTEL SEMINARIO CASINO DC 2024[/caption]\n
 Programa:\nJueves\, 12 diciembre\n\n09:00. Acreditación y recogida de doc
 umentación.\n09:30. Presentación.\n10:00. Sara González Cambeiro (Insti
 tuto del Patrimonio Cultural de España)\nCaracterísticas\, riesgos y sal
 vaguardia del Patrimonio Cultural Inmaterial: un marco\npara la protecció
 n de los rituales festivos.\n11:00. Descanso\n11:15. María Pía Timón Ti
 emblo (Instituto del Patrimonio Cultural de España)\nLas comunidades port
 adoras: sujetos activos en la valorización y salvaguardia de los\nrituale
 s festivos.\n12:15. Honorio Velasco (Universidad Nacional de Educación a 
 Distancia)\nLos valores del patrimonio inmaterial.\n13:15. Diria Luz Moral
 es Casañas (Universidad de La Laguna)\nRégimen jurídico del patrimonio 
 cultural inmaterial: los bienes de interés cultural.\n17:00. Visita guiad
 a a Santa Cruz de La Palma: «Espacios de la Bajada de la Virgen». Vícto
 r J.\nHernández Correa.\n\nViernes\, 13 diciembre\n\n09:00. Joan Castaño
  García (Patronato del Misteri de Elche)\nLa Festa o Misteri dʼElx\, Pat
 rimonio de la Humanidad.\n09:45. Descanso\n10:00. Albert Rumbo Soler (Patr
 onato de la Patum de Berga)\nLa Casa de La Patum: luces y sombras de un gr
 an proyecto.\n11:15. La Bajada de la Virgen\, patrimonio vivo\n\nEl semina
 rio\, organizado por la Sociedad La Investigadora\, cuenta con el patrocin
 io del Ayuntamiento de Santa Cruz de La Palma y su Concejalía de Cultura 
 que coordina Alberto Perdomo Pérez. Asimismo\, la Consejería de Cultura 
 y Patrimonio Histórico del Cabildo de La Palma que dirige Pablo Díaz Cob
 iella\, el Museo Insular de La Palma\, la Real Sociedad Cosmológica\, el 
 Museo Naval\, el Foro Cívico de Santa Cruz de La Palma y Cartas Diferente
 s Ediciones colaboran en la organización \n\nLas sesiones serán grabada
 s en vídeo y en un breve plazo de tiempo cada una de las conferencias est
 arán disponibles en el canal de Youtube de la Sociedad La Investigadora.\
 n\n&nbsp\;
ATTACH;FMTTYPE=image/jpeg:https://www.larevistadelapalma.com/wp-content/up
 loads/2024/12/Bajada-del-Trono-Foto-antigua.jpg
CATEGORIES:Formación,Otras propuestas
LOCATION:Casino de Santa Cruz de La Palma\,  C. Anselmo Pérez de Brito\, 1
 5\, Santa Cruz De La Palma\, Santa Cruz de Tenerife\, 38700\, España
GEO:28.684234;-17.7638
X-APPLE-STRUCTURED-LOCATION;VALUE=URI;X-ADDRESS= C. Anselmo Pérez de Brito
 \, 15\, Santa Cruz De La Palma\, Santa Cruz de Tenerife\, 38700\, España;
 X-APPLE-RADIUS=100;X-TITLE=Casino de Santa Cruz de La Palma:geo:28.684234,
 -17.7638
END:VEVENT
END:VCALENDAR