BEGIN:VCALENDAR
VERSION:2.0
PRODID:-//wp-events-plugin.com//7.2.3.1//EN
TZID:Europe/London
X-WR-TIMEZONE:Europe/London
BEGIN:VEVENT
UID:3237@larevistadelapalma.com
DTSTART:20240930T190000Z
DTEND:20240930T203000Z
DTSTAMP:20240929T125052Z
URL:https://www.larevistadelapalma.com/events/el-teatro-chico-proyecta-la-
 pelicula-el-salto-del-enamorado/
SUMMARY:El Teatro Chico proyecta la película "El salto del enamorado"
DESCRIPTION:La película "El salto del enamorado" fue rodada en la isla de 
 La Palma por La Palma FILMS en 1978 y obtuvo reconocimiento en la IV muest
 ra de cine Canario-Americano.\nEl próximo lunes 30 de septiembre\, a las 
 20:00 horas\, se llevará a cabo en el Teatro Cine Chico de Santa Cruz de 
 La Palma la proyección de la película "El salto del enamorado". Esta pro
 yección es realizada por el artista Jorge Lozano junto a Loló Fernández
 \, Miguel González\, Miguel Cabrera y Maribel Arrocha.\nLa película "El 
 salto del enamorado" fue rodada en la isla de La Palma por La Palma FILMS 
 en 1978 y obtuvo reconocimiento en la IV muestra de cine Canario-Americano
  en Las Palmas de Gran Canaria en 1979\, donde recibió una mención de ho
 nor por sus méritos extraordinarios.\n\n\nEl Teatro Cine Chico Municipal\
 , Historia de La Palma y Cronología de Santa Cruz de La Palma continúan 
 su legado de divulgación cinematográfica clásica. Según menciona el ar
 tista Jorge Lozano\, estas proyecciones podrán seguir realizándose en el
  futuro dependiendo de la disponibilidad de la sala.\nLa entrada para disf
 rutar de esta proyección será gratuita\, brindando así la oportunidad a
  todos los interesados de disfrutar de este evento cultural en Santa Cruz 
 de La Palma.\n\n\n
ATTACH;FMTTYPE=image/jpeg:https://www.larevistadelapalma.com/wp-content/up
 loads/2024/09/Pelicula-Jorge-Lozano-cartel.jpg
CATEGORIES:Cine,Cine y Literatura
LOCATION:Teatro Chico\, Calle Díaz Pimienta\, 1\, Santa Cruz De La Palma\,
  Santa Cruz de Tenerife\, 38700\, España
GEO:28.68432;-17.764225
X-APPLE-STRUCTURED-LOCATION;VALUE=URI;X-ADDRESS=Calle Díaz Pimienta\, 1\, 
 Santa Cruz De La Palma\, Santa Cruz de Tenerife\, 38700\, España;X-APPLE-
 RADIUS=100;X-TITLE=Teatro Chico:geo:28.68432,-17.764225
END:VEVENT
END:VCALENDARBEGIN:VCALENDAR
VERSION:2.0
PRODID:-//wp-events-plugin.com//7.2.3.1//EN
TZID:Europe/London
X-WR-TIMEZONE:Europe/London
BEGIN:VEVENT
UID:3237@larevistadelapalma.com
DTSTART:20240930T190000Z
DTEND:20240930T203000Z
DTSTAMP:20240929T125052Z
URL:https://www.larevistadelapalma.com/events/el-teatro-chico-proyecta-la-
 pelicula-el-salto-del-enamorado/
SUMMARY:El Teatro Chico proyecta la película "El salto del enamorado"
DESCRIPTION:La película "El salto del enamorado" fue rodada en la isla de 
 La Palma por La Palma FILMS en 1978 y obtuvo reconocimiento en la IV muest
 ra de cine Canario-Americano.\nEl próximo lunes 30 de septiembre\, a las 
 20:00 horas\, se llevará a cabo en el Teatro Cine Chico de Santa Cruz de 
 La Palma la proyección de la película "El salto del enamorado". Esta pro
 yección es realizada por el artista Jorge Lozano junto a Loló Fernández
 \, Miguel González\, Miguel Cabrera y Maribel Arrocha.\nLa película "El 
 salto del enamorado" fue rodada en la isla de La Palma por La Palma FILMS 
 en 1978 y obtuvo reconocimiento en la IV muestra de cine Canario-Americano
  en Las Palmas de Gran Canaria en 1979\, donde recibió una mención de ho
 nor por sus méritos extraordinarios.\n\n\nEl Teatro Cine Chico Municipal\
 , Historia de La Palma y Cronología de Santa Cruz de La Palma continúan 
 su legado de divulgación cinematográfica clásica. Según menciona el ar
 tista Jorge Lozano\, estas proyecciones podrán seguir realizándose en el
  futuro dependiendo de la disponibilidad de la sala.\nLa entrada para disf
 rutar de esta proyección será gratuita\, brindando así la oportunidad a
  todos los interesados de disfrutar de este evento cultural en Santa Cruz 
 de La Palma.\n\n\n
ATTACH;FMTTYPE=image/jpeg:https://www.larevistadelapalma.com/wp-content/up
 loads/2024/09/Pelicula-Jorge-Lozano-cartel.jpg
CATEGORIES:Cine,Cine y Literatura
LOCATION:Teatro Chico\, Calle Díaz Pimienta\, 1\, Santa Cruz De La Palma\,
  Santa Cruz de Tenerife\, 38700\, España
GEO:28.68432;-17.764225
X-APPLE-STRUCTURED-LOCATION;VALUE=URI;X-ADDRESS=Calle Díaz Pimienta\, 1\, 
 Santa Cruz De La Palma\, Santa Cruz de Tenerife\, 38700\, España;X-APPLE-
 RADIUS=100;X-TITLE=Teatro Chico:geo:28.68432,-17.764225
END:VEVENT
END:VCALENDAR