BEGIN:VCALENDAR
VERSION:2.0
PRODID:-//wp-events-plugin.com//7.2.3.1//EN
TZID:Europe/London
X-WR-TIMEZONE:Europe/London
BEGIN:VEVENT
UID:3631@larevistadelapalma.com
DTSTART:20250306T193000Z
DTEND:20250306T203000Z
DTSTAMP:20250303T132847Z
URL:https://www.larevistadelapalma.com/events/el-tour-de-las-chicas-escalo
 friantes-de-cruzado-magico-2/
SUMMARY:'El tour de las chicas escalofriantes'\, de Cruzado Mágico 
DESCRIPTION:\n2º PASE: Jueves 6 de marzo 'El tour de las chicas escalofria
 ntes'\, un espectáculo teatral que mezcla sorpresa\, el humor y el suspen
 se. \nSus protagonistas no son las chicas frágiles o lastimeras del terro
 r insustancial\, son chicas fuertes\, enigmáticas y\, sobre todo\, tienen
  mucho que decir. Una casa poblada de voces\, de música\, de historias nu
 nca contadas que están a punto de desvelarse.\nEl espectáculo es el últ
 imo trabajo de la compañía Cruzado Mágico\, que se estrenó el pasado m
 es de noviembre.\n\n\n\nDos pases el jueves\, 6 de marzo: A las 19:30-20:2
 5 y a las 20:30-21:25.\n\nEntradas:\nDisponibles en la Casa Salazar (Santa
  Cruz de La Palma) o en el Museo Arqueológico Benahoarita (Los Llanos de 
 Aridane)\n\n\n
ATTACH;FMTTYPE=image/jpeg:https://www.larevistadelapalma.com/wp-content/up
 loads/2025/03/El-Tour-de-la-chicas-escalofriantes-en-su-estreno-en-la-Casa
 -del-Conde.jpg
CATEGORIES:Espectáculos
LOCATION:Casa principal de Salazar\, Calle Odaly\, 22\, Santa Cruz de La Pa
 lma\, 38700\, España
GEO:28.682275;-17.765795
X-APPLE-STRUCTURED-LOCATION;VALUE=URI;X-ADDRESS=Calle Odaly\, 22\, Santa Cr
 uz de La Palma\, 38700\, España;X-APPLE-RADIUS=100;X-TITLE=Casa principal
  de Salazar:geo:28.682275,-17.765795
END:VEVENT
END:VCALENDARBEGIN:VCALENDAR
VERSION:2.0
PRODID:-//wp-events-plugin.com//7.2.3.1//EN
TZID:Europe/London
X-WR-TIMEZONE:Europe/London
BEGIN:VEVENT
UID:3631@larevistadelapalma.com
DTSTART:20250306T193000Z
DTEND:20250306T203000Z
DTSTAMP:20250303T132847Z
URL:https://www.larevistadelapalma.com/events/el-tour-de-las-chicas-escalo
 friantes-de-cruzado-magico-2/
SUMMARY:'El tour de las chicas escalofriantes'\, de Cruzado Mágico 
DESCRIPTION:\n2º PASE: Jueves 6 de marzo 'El tour de las chicas escalofria
 ntes'\, un espectáculo teatral que mezcla sorpresa\, el humor y el suspen
 se. \nSus protagonistas no son las chicas frágiles o lastimeras del terro
 r insustancial\, son chicas fuertes\, enigmáticas y\, sobre todo\, tienen
  mucho que decir. Una casa poblada de voces\, de música\, de historias nu
 nca contadas que están a punto de desvelarse.\nEl espectáculo es el últ
 imo trabajo de la compañía Cruzado Mágico\, que se estrenó el pasado m
 es de noviembre.\n\n\n\nDos pases el jueves\, 6 de marzo: A las 19:30-20:2
 5 y a las 20:30-21:25.\n\nEntradas:\nDisponibles en la Casa Salazar (Santa
  Cruz de La Palma) o en el Museo Arqueológico Benahoarita (Los Llanos de 
 Aridane)\n\n\n
ATTACH;FMTTYPE=image/jpeg:https://www.larevistadelapalma.com/wp-content/up
 loads/2025/03/El-Tour-de-la-chicas-escalofriantes-en-su-estreno-en-la-Casa
 -del-Conde.jpg
CATEGORIES:Espectáculos
LOCATION:Casa principal de Salazar\, Calle Odaly\, 22\, Santa Cruz de La Pa
 lma\, 38700\, España
GEO:28.682275;-17.765795
X-APPLE-STRUCTURED-LOCATION;VALUE=URI;X-ADDRESS=Calle Odaly\, 22\, Santa Cr
 uz de La Palma\, 38700\, España;X-APPLE-RADIUS=100;X-TITLE=Casa principal
  de Salazar:geo:28.682275,-17.765795
END:VEVENT
END:VCALENDAR