BEGIN:VCALENDAR
VERSION:2.0
PRODID:-//wp-events-plugin.com//7.2.3.1//EN
TZID:Europe/London
X-WR-TIMEZONE:Europe/London
BEGIN:VEVENT
UID:3627@larevistadelapalma.com
DTSTART:20250306T183000Z
DTEND:20250306T193000Z
DTSTAMP:20250302T155254Z
URL:https://www.larevistadelapalma.com/events/el-tour-de-las-chicas-escalo
 friantes-de-cruzado-magico/
SUMMARY:'El tour de las chicas escalofriantes'\, de Cruzado Mágico 
DESCRIPTION:\nEste próximo jueves 6 de marzo 'El tour de las chicas escalo
 friantes'\, un espectáculo teatral que mezcla sorpresa\, el humor y el su
 spense. \nSus protagonistas no son las chicas frágiles o lastimeras del t
 error insustancial\, son chicas fuertes\, enigmáticas y\, sobre todo\, ti
 enen mucho que decir. Una casa poblada de voces\, de música\, de historia
 s nunca contadas que están a punto de desvelarse.\nEl espectáculo es el 
 último trabajo de la compañía Cruzado Mágico\, que se estrenó el pasa
 do mes de noviembre.\n\n\n\nDos pases el jueves\, 6 de marzo: A las 19:30-
 20:25 y a las 20:30-21:25.\n\nEntradas:\nDisponibles en la Casa Salazar (S
 anta Cruz de La Palma) o en el Museo Arqueológico Benahoarita (Los Llanos
  de Aridane)\n\n\n
ATTACH;FMTTYPE=image/jpeg:https://www.larevistadelapalma.com/wp-content/up
 loads/2025/03/El-Tour-de-la-chicas-escalofriantes-en-su-estreno-en-la-Casa
 -del-Conde.jpg
CATEGORIES:Espectáculos
LOCATION:Casa principal de Salazar\, Calle Odaly\, 22\, Santa Cruz de La Pa
 lma\, 38700\, España
GEO:28.682275;-17.765795
X-APPLE-STRUCTURED-LOCATION;VALUE=URI;X-ADDRESS=Calle Odaly\, 22\, Santa Cr
 uz de La Palma\, 38700\, España;X-APPLE-RADIUS=100;X-TITLE=Casa principal
  de Salazar:geo:28.682275,-17.765795
END:VEVENT
END:VCALENDARBEGIN:VCALENDAR
VERSION:2.0
PRODID:-//wp-events-plugin.com//7.2.3.1//EN
TZID:Europe/London
X-WR-TIMEZONE:Europe/London
BEGIN:VEVENT
UID:3627@larevistadelapalma.com
DTSTART:20250306T183000Z
DTEND:20250306T193000Z
DTSTAMP:20250302T155254Z
URL:https://www.larevistadelapalma.com/events/el-tour-de-las-chicas-escalo
 friantes-de-cruzado-magico/
SUMMARY:'El tour de las chicas escalofriantes'\, de Cruzado Mágico 
DESCRIPTION:\nEste próximo jueves 6 de marzo 'El tour de las chicas escalo
 friantes'\, un espectáculo teatral que mezcla sorpresa\, el humor y el su
 spense. \nSus protagonistas no son las chicas frágiles o lastimeras del t
 error insustancial\, son chicas fuertes\, enigmáticas y\, sobre todo\, ti
 enen mucho que decir. Una casa poblada de voces\, de música\, de historia
 s nunca contadas que están a punto de desvelarse.\nEl espectáculo es el 
 último trabajo de la compañía Cruzado Mágico\, que se estrenó el pasa
 do mes de noviembre.\n\n\n\nDos pases el jueves\, 6 de marzo: A las 19:30-
 20:25 y a las 20:30-21:25.\n\nEntradas:\nDisponibles en la Casa Salazar (S
 anta Cruz de La Palma) o en el Museo Arqueológico Benahoarita (Los Llanos
  de Aridane)\n\n\n
ATTACH;FMTTYPE=image/jpeg:https://www.larevistadelapalma.com/wp-content/up
 loads/2025/03/El-Tour-de-la-chicas-escalofriantes-en-su-estreno-en-la-Casa
 -del-Conde.jpg
CATEGORIES:Espectáculos
LOCATION:Casa principal de Salazar\, Calle Odaly\, 22\, Santa Cruz de La Pa
 lma\, 38700\, España
GEO:28.682275;-17.765795
X-APPLE-STRUCTURED-LOCATION;VALUE=URI;X-ADDRESS=Calle Odaly\, 22\, Santa Cr
 uz de La Palma\, 38700\, España;X-APPLE-RADIUS=100;X-TITLE=Casa principal
  de Salazar:geo:28.682275,-17.765795
END:VEVENT
END:VCALENDAR