BEGIN:VCALENDAR
VERSION:2.0
PRODID:-//wp-events-plugin.com//7.2.3.1//EN
TZID:Europe/London
X-WR-TIMEZONE:Europe/London
BEGIN:VEVENT
UID:3573@larevistadelapalma.com
DTSTART:20250202T103000Z
DTEND:20250202T120000Z
DTSTAMP:20250129T235202Z
URL:https://www.larevistadelapalma.com/events/elias-romero-y-cristina-teij
 eiro-en-las-salinas-de-los-cancajos/
SUMMARY:Elías Romero y Cristina Teijeiro en las Salinas de Los Cancajos
DESCRIPTION:Este domingo 2 de febrero a las 11.30 hs\, tendrá lugar el cua
 rto concierto de la Undécima Edición del Ciclo de Cámara “Salinas” 
 en Las Antiguas Salinas de Los Cancajos\, con la actuación de Elías Rome
 ro y Cristina Teijeiro\, nos ofrecerán un repertorio con obras centradas 
 en la temática de la tierra.\n\nEste dúo de piano y voz\, cierran la tri
 logía de agua\, fuego\, y ahora tierra. Dos intérpretes que ya han estad
 o en ediciones pasadas en Las Salinas de Los Cancajos.\n\nPara reserva de 
 entradas y abonos en el correo:  musicadecamaracancajos@hotmail.com.
ATTACH;FMTTYPE=image/jpeg:https://www.larevistadelapalma.com/wp-content/up
 loads/2025/01/Concierto-Salinas-25-Tierra-Cartel.jpg
CATEGORIES:Conciertos,Música
LOCATION:Antiguas Salinas de Los Cancajos\, P.º del litoral\, Breña Baja\
 , 38712\, España
GEO:28.650095;-17.75849
X-APPLE-STRUCTURED-LOCATION;VALUE=URI;X-ADDRESS=P.º del litoral\, Breña B
 aja\, 38712\, España;X-APPLE-RADIUS=100;X-TITLE=Antiguas Salinas de Los C
 ancajos:geo:28.650095,-17.75849
END:VEVENT
END:VCALENDARBEGIN:VCALENDAR
VERSION:2.0
PRODID:-//wp-events-plugin.com//7.2.3.1//EN
TZID:Europe/London
X-WR-TIMEZONE:Europe/London
BEGIN:VEVENT
UID:3573@larevistadelapalma.com
DTSTART:20250202T103000Z
DTEND:20250202T120000Z
DTSTAMP:20250129T235202Z
URL:https://www.larevistadelapalma.com/events/elias-romero-y-cristina-teij
 eiro-en-las-salinas-de-los-cancajos/
SUMMARY:Elías Romero y Cristina Teijeiro en las Salinas de Los Cancajos
DESCRIPTION:Este domingo 2 de febrero a las 11.30 hs\, tendrá lugar el cua
 rto concierto de la Undécima Edición del Ciclo de Cámara “Salinas” 
 en Las Antiguas Salinas de Los Cancajos\, con la actuación de Elías Rome
 ro y Cristina Teijeiro\, nos ofrecerán un repertorio con obras centradas 
 en la temática de la tierra.\n\nEste dúo de piano y voz\, cierran la tri
 logía de agua\, fuego\, y ahora tierra. Dos intérpretes que ya han estad
 o en ediciones pasadas en Las Salinas de Los Cancajos.\n\nPara reserva de 
 entradas y abonos en el correo:  musicadecamaracancajos@hotmail.com.
ATTACH;FMTTYPE=image/jpeg:https://www.larevistadelapalma.com/wp-content/up
 loads/2025/01/Concierto-Salinas-25-Tierra-Cartel.jpg
CATEGORIES:Conciertos,Música
LOCATION:Antiguas Salinas de Los Cancajos\, P.º del litoral\, Breña Baja\
 , 38712\, España
GEO:28.650095;-17.75849
X-APPLE-STRUCTURED-LOCATION;VALUE=URI;X-ADDRESS=P.º del litoral\, Breña B
 aja\, 38712\, España;X-APPLE-RADIUS=100;X-TITLE=Antiguas Salinas de Los C
 ancajos:geo:28.650095,-17.75849
END:VEVENT
END:VCALENDAR