BEGIN:VCALENDAR
VERSION:2.0
PRODID:-//wp-events-plugin.com//7.2.3.1//EN
TZID:Europe/London
X-WR-TIMEZONE:Europe/London
BEGIN:VEVENT
UID:177@larevistadelapalma.com
DTSTART:20230729T190000Z
DTEND:20230729T223000Z
DTSTAMP:20230718T114357Z
URL:https://www.larevistadelapalma.com/events/elvis-and-the-pelvis-band-co
 n-aaron-white-por-primera-vez-en-la-palma/
SUMMARY:Elvis and the Pelvis band\, con Aaron White\, por primera vez en La
  Palma
DESCRIPTION:Elvis con Aaron White and the Pelvis band\, uno de los tributos
  más divertidos de la historia del panorama musical por primera vez en la
  Isla.
ATTACH;FMTTYPE=image/jpeg:https://www.larevistadelapalma.com/wp-content/up
 loads/2023/07/Elvis-and-the-pelvis-band.jpg
CATEGORIES:Conciertos,Música
LOCATION:Plaza de San Francisco\, Plaza de San Francisco \, Santa Cruz De L
 a Palma\, Santa Cruz de Tenerife\, 38700\, España
GEO:28.683698;-17.767894
X-APPLE-STRUCTURED-LOCATION;VALUE=URI;X-ADDRESS=Plaza de San Francisco \, S
 anta Cruz De La Palma\, Santa Cruz de Tenerife\, 38700\, España;X-APPLE-R
 ADIUS=100;X-TITLE=Plaza de San Francisco:geo:28.683698,-17.767894
END:VEVENT
END:VCALENDARBEGIN:VCALENDAR
VERSION:2.0
PRODID:-//wp-events-plugin.com//7.2.3.1//EN
TZID:Europe/London
X-WR-TIMEZONE:Europe/London
BEGIN:VEVENT
UID:177@larevistadelapalma.com
DTSTART:20230729T190000Z
DTEND:20230729T223000Z
DTSTAMP:20230718T114357Z
URL:https://www.larevistadelapalma.com/events/elvis-and-the-pelvis-band-co
 n-aaron-white-por-primera-vez-en-la-palma/
SUMMARY:Elvis and the Pelvis band\, con Aaron White\, por primera vez en La
  Palma
DESCRIPTION:Elvis con Aaron White and the Pelvis band\, uno de los tributos
  más divertidos de la historia del panorama musical por primera vez en la
  Isla.
ATTACH;FMTTYPE=image/jpeg:https://www.larevistadelapalma.com/wp-content/up
 loads/2023/07/Elvis-and-the-pelvis-band.jpg
CATEGORIES:Conciertos,Música
LOCATION:Plaza de San Francisco\, Plaza de San Francisco \, Santa Cruz De L
 a Palma\, Santa Cruz de Tenerife\, 38700\, España
GEO:28.683698;-17.767894
X-APPLE-STRUCTURED-LOCATION;VALUE=URI;X-ADDRESS=Plaza de San Francisco \, S
 anta Cruz De La Palma\, Santa Cruz de Tenerife\, 38700\, España;X-APPLE-R
 ADIUS=100;X-TITLE=Plaza de San Francisco:geo:28.683698,-17.767894
END:VEVENT
END:VCALENDAR