BEGIN:VCALENDAR
VERSION:2.0
PRODID:-//wp-events-plugin.com//7.2.3.1//EN
TZID:Europe/London
X-WR-TIMEZONE:Europe/London
BEGIN:VEVENT
UID:3227@larevistadelapalma.com
DTSTART:20240920T180000Z
DTEND:20240920T193000Z
DTSTAMP:20240911T211925Z
URL:https://www.larevistadelapalma.com/events/emsemble-alegora-casa-del-co
 nde/
SUMMARY:Ensemble Alegora en La Casa del Conde
DESCRIPTION:Ciclo de Música Clásica del Conde.\nEl trío de clarinetistas
  Emsemble Alegora\, presenta un repertorio donde la música clásica y la 
 moderna se unen para disfrutar de todas las versatilidad y belleza del cla
 rinete.\nMás info y entradas &gt\;&gt\;
ATTACH;FMTTYPE=image/jpeg:https://www.larevistadelapalma.com/wp-content/up
 loads/2024/09/Ensemble-Alelgora.jpg
CATEGORIES:Conciertos,Música
LOCATION:Casa del Conde\, Los Llanos de Aridane\, C/San Antonio\, 35 - Llan
 o de Argual\, Los Llanos de Aridane\, 38760\, España
GEO:28.655333;-17.926641
X-APPLE-STRUCTURED-LOCATION;VALUE=URI;X-ADDRESS=C/San Antonio\, 35 - Llano 
 de Argual\, Los Llanos de Aridane\, 38760\, España;X-APPLE-RADIUS=100;X-T
 ITLE=Casa del Conde\, Los Llanos de Aridane:geo:28.655333,-17.926641
END:VEVENT
END:VCALENDARBEGIN:VCALENDAR
VERSION:2.0
PRODID:-//wp-events-plugin.com//7.2.3.1//EN
TZID:Europe/London
X-WR-TIMEZONE:Europe/London
BEGIN:VEVENT
UID:3227@larevistadelapalma.com
DTSTART:20240920T180000Z
DTEND:20240920T193000Z
DTSTAMP:20240911T211925Z
URL:https://www.larevistadelapalma.com/events/emsemble-alegora-casa-del-co
 nde/
SUMMARY:Ensemble Alegora en La Casa del Conde
DESCRIPTION:Ciclo de Música Clásica del Conde.\nEl trío de clarinetistas
  Emsemble Alegora\, presenta un repertorio donde la música clásica y la 
 moderna se unen para disfrutar de todas las versatilidad y belleza del cla
 rinete.\nMás info y entradas &gt\;&gt\;
ATTACH;FMTTYPE=image/jpeg:https://www.larevistadelapalma.com/wp-content/up
 loads/2024/09/Ensemble-Alelgora.jpg
CATEGORIES:Conciertos,Música
LOCATION:Casa del Conde\, Los Llanos de Aridane\, C/San Antonio\, 35 - Llan
 o de Argual\, Los Llanos de Aridane\, 38760\, España
GEO:28.655333;-17.926641
X-APPLE-STRUCTURED-LOCATION;VALUE=URI;X-ADDRESS=C/San Antonio\, 35 - Llano 
 de Argual\, Los Llanos de Aridane\, 38760\, España;X-APPLE-RADIUS=100;X-T
 ITLE=Casa del Conde\, Los Llanos de Aridane:geo:28.655333,-17.926641
END:VEVENT
END:VCALENDAR