BEGIN:VCALENDAR
VERSION:2.0
PRODID:-//wp-events-plugin.com//7.2.3.1//EN
TZID:Europe/London
X-WR-TIMEZONE:Europe/London
BEGIN:VEVENT
UID:3824@larevistadelapalma.com
DTSTART:20250624T193000Z
DTEND:20250624T210000Z
DTSTAMP:20250618T030456Z
URL:https://www.larevistadelapalma.com/events/en-otra-clave-bajada-de-la-v
 irgen/
SUMMARY:Edición especial del programa "En Otra Clave" en La Palma
DESCRIPTION:\nEl programa de Televisión Canaria En otra clave\, viaja a Sa
 nta Cruz de La Palma para hacernos reír con un episodio muy especial.\n\n
 \n\nUna noche junto a personajes tan entrañables como Chona\, Jacinta\, S
 ervando y Ginés\, bajo la conducción de la inigualable Eloísa González
 .\nEntradas &gt\;&gt\;\n\n
ATTACH;FMTTYPE=image/jpeg:https://www.larevistadelapalma.com/wp-content/up
 loads/2025/06/En-otra-Clave.jpg
CATEGORIES:Espectáculos
LOCATION:Municipio de Santa Cruz de La Palma\, Santa Cruz de La Palma \, Sa
 nta Cruz de La Palma \, 38700\, España
GEO:28.688757;-17.765102
X-APPLE-STRUCTURED-LOCATION;VALUE=URI;X-ADDRESS=Santa Cruz de La Palma \, S
 anta Cruz de La Palma \, 38700\, España;X-APPLE-RADIUS=100;X-TITLE=Munici
 pio de Santa Cruz de La Palma:geo:28.688757,-17.765102
END:VEVENT
END:VCALENDARBEGIN:VCALENDAR
VERSION:2.0
PRODID:-//wp-events-plugin.com//7.2.3.1//EN
TZID:Europe/London
X-WR-TIMEZONE:Europe/London
BEGIN:VEVENT
UID:3824@larevistadelapalma.com
DTSTART:20250624T193000Z
DTEND:20250624T210000Z
DTSTAMP:20250618T030456Z
URL:https://www.larevistadelapalma.com/events/en-otra-clave-bajada-de-la-v
 irgen/
SUMMARY:Edición especial del programa "En Otra Clave" en La Palma
DESCRIPTION:\nEl programa de Televisión Canaria En otra clave\, viaja a Sa
 nta Cruz de La Palma para hacernos reír con un episodio muy especial.\n\n
 \n\nUna noche junto a personajes tan entrañables como Chona\, Jacinta\, S
 ervando y Ginés\, bajo la conducción de la inigualable Eloísa González
 .\nEntradas &gt\;&gt\;\n\n
ATTACH;FMTTYPE=image/jpeg:https://www.larevistadelapalma.com/wp-content/up
 loads/2025/06/En-otra-Clave.jpg
CATEGORIES:Espectáculos
LOCATION:Municipio de Santa Cruz de La Palma\, Santa Cruz de La Palma \, Sa
 nta Cruz de La Palma \, 38700\, España
GEO:28.688757;-17.765102
X-APPLE-STRUCTURED-LOCATION;VALUE=URI;X-ADDRESS=Santa Cruz de La Palma \, S
 anta Cruz de La Palma \, 38700\, España;X-APPLE-RADIUS=100;X-TITLE=Munici
 pio de Santa Cruz de La Palma:geo:28.688757,-17.765102
END:VEVENT
END:VCALENDAR