BEGIN:VCALENDAR
VERSION:2.0
PRODID:-//wp-events-plugin.com//7.2.3.1//EN
TZID:Europe/London
X-WR-TIMEZONE:Europe/London
BEGIN:VEVENT
UID:4495@larevistadelapalma.com
DTSTART:20260204T180000Z
DTEND:20260204T193000Z
DTSTAMP:20260129T212039Z
URL:https://www.larevistadelapalma.com/events/en-tiempos-de-magua-cristina
 -mahelo-en-el-ciclo-nombrarse-volcan/
SUMMARY:«En tiempos de magua»: Cristina Mahelo en el ciclo "Nombrarse Vol
 cán"
DESCRIPTION:Cristina Mahelo\, artista multidisciplinar nacida en Tenerife\,
  canta\, compone y es artesana... Viene a compartir parte de su proyecto e
 scénico musical\, «En tiempos de magua»\, en el que fusiona sonidos con
 temporáneos con música de raíz canaria.\n\nLa biblioteca arderá con es
 te fuego ritual\, donde Cristina conjura dolor\, memoria y sanación colec
 tiva.\n\n
ATTACH;FMTTYPE=image/jpeg:https://www.larevistadelapalma.com/wp-content/up
 loads/2026/01/2-4-Cristina-Mahelo-Nombrarse-Volcan.jpg
CATEGORIES:Conciertos,Música
LOCATION:Casa de La Cultura de Los Llanos de Aridane\, : C. Real\, 8\, Los 
 Llanos de Aridane \, 38760\, España
GEO:28.658651;-17.913512
X-APPLE-STRUCTURED-LOCATION;VALUE=URI;X-ADDRESS=: C. Real\, 8\, Los Llanos 
 de Aridane \, 38760\, España;X-APPLE-RADIUS=100;X-TITLE=Casa de La Cultur
 a de Los Llanos de Aridane:geo:28.658651,-17.913512
END:VEVENT
END:VCALENDARBEGIN:VCALENDAR
VERSION:2.0
PRODID:-//wp-events-plugin.com//7.2.3.1//EN
TZID:Europe/London
X-WR-TIMEZONE:Europe/London
BEGIN:VEVENT
UID:4495@larevistadelapalma.com
DTSTART:20260204T180000Z
DTEND:20260204T193000Z
DTSTAMP:20260129T212039Z
URL:https://www.larevistadelapalma.com/events/en-tiempos-de-magua-cristina
 -mahelo-en-el-ciclo-nombrarse-volcan/
SUMMARY:«En tiempos de magua»: Cristina Mahelo en el ciclo "Nombrarse Vol
 cán"
DESCRIPTION:Cristina Mahelo\, artista multidisciplinar nacida en Tenerife\,
  canta\, compone y es artesana... Viene a compartir parte de su proyecto e
 scénico musical\, «En tiempos de magua»\, en el que fusiona sonidos con
 temporáneos con música de raíz canaria.\n\nLa biblioteca arderá con es
 te fuego ritual\, donde Cristina conjura dolor\, memoria y sanación colec
 tiva.\n\n
ATTACH;FMTTYPE=image/jpeg:https://www.larevistadelapalma.com/wp-content/up
 loads/2026/01/2-4-Cristina-Mahelo-Nombrarse-Volcan.jpg
CATEGORIES:Conciertos,Música
LOCATION:Casa de La Cultura de Los Llanos de Aridane\, : C. Real\, 8\, Los 
 Llanos de Aridane \, 38760\, España
GEO:28.658651;-17.913512
X-APPLE-STRUCTURED-LOCATION;VALUE=URI;X-ADDRESS=: C. Real\, 8\, Los Llanos 
 de Aridane \, 38760\, España;X-APPLE-RADIUS=100;X-TITLE=Casa de La Cultur
 a de Los Llanos de Aridane:geo:28.658651,-17.913512
END:VEVENT
END:VCALENDAR