BEGIN:VCALENDAR
VERSION:2.0
PRODID:-//wp-events-plugin.com//7.2.3.1//EN
TZID:Europe/London
X-WR-TIMEZONE:Europe/London
BEGIN:VEVENT
UID:3828@larevistadelapalma.com
DTSTART:20250624T180000Z
DTEND:20250624T193000Z
DTSTAMP:20250618T192959Z
URL:https://www.larevistadelapalma.com/events/encarceladas-e-inocentes-sem
 ana-social-love-festival-2025/
SUMMARY:"Encarceladas e inocentes". Semana Social Love Festival 2025
DESCRIPTION:\nLa semana social del Love\, organizada por la empresa Sodepal
 \, es una iniciativa que pretende promover la libertad sexual\, la igualda
 d y la tolerancia a través de diferentes encuentros y actividades. Podrá
 s acudir presencialmente a las ponencias\, charlas y encuentros\, o seguir
  el contenido en YouTube a través del canal Isla Bonita Love Festival\, 
 el Facebook de Sodepal y mediante el podcast de Spotify Love Podcast\nL
 a programación de la semana contará con homenajes\, proyecciones\, y dis
 tintas charlas y mesas redondas con la igualdad de género y la inclusión
  como temáticas principales y un gran fin de fiesta el sábado 28 en Taza
 corte con la Marcha del Orgullo.\n\n\nLa Semana comienza el martes 24\, e
 n el Palacio Salazar de S/C de La Palma\, con un homenaje a las víctimas 
 de la Ley de Peligrosidad Social que fueron encarceladas en la isla de La 
 Palma. Contarán con Juana María Ortega\, una de las mujeres trans que 
 estuvieron encarceladas en La Palma a finales de los sesenta\, y le acompa
 ñará el investigador Víctor Ramírez\, autor del libro ‘Peligrosas y 
 Revolucionarias’.\n
ATTACH;FMTTYPE=image/jpeg:https://www.larevistadelapalma.com/wp-content/up
 loads/2025/06/Encarceladas-e-inocentes.png
CATEGORIES:Otras propuestas,Varios
LOCATION:Casa principal de Salazar\, Calle Odaly\, 22\, Santa Cruz de La Pa
 lma\, 38700\, España
GEO:28.682275;-17.765795
X-APPLE-STRUCTURED-LOCATION;VALUE=URI;X-ADDRESS=Calle Odaly\, 22\, Santa Cr
 uz de La Palma\, 38700\, España;X-APPLE-RADIUS=100;X-TITLE=Casa principal
  de Salazar:geo:28.682275,-17.765795
END:VEVENT
END:VCALENDARBEGIN:VCALENDAR
VERSION:2.0
PRODID:-//wp-events-plugin.com//7.2.3.1//EN
TZID:Europe/London
X-WR-TIMEZONE:Europe/London
BEGIN:VEVENT
UID:3828@larevistadelapalma.com
DTSTART:20250624T180000Z
DTEND:20250624T193000Z
DTSTAMP:20250618T192959Z
URL:https://www.larevistadelapalma.com/events/encarceladas-e-inocentes-sem
 ana-social-love-festival-2025/
SUMMARY:"Encarceladas e inocentes". Semana Social Love Festival 2025
DESCRIPTION:\nLa semana social del Love\, organizada por la empresa Sodepal
 \, es una iniciativa que pretende promover la libertad sexual\, la igualda
 d y la tolerancia a través de diferentes encuentros y actividades. Podrá
 s acudir presencialmente a las ponencias\, charlas y encuentros\, o seguir
  el contenido en YouTube a través del canal Isla Bonita Love Festival\, 
 el Facebook de Sodepal y mediante el podcast de Spotify Love Podcast\nL
 a programación de la semana contará con homenajes\, proyecciones\, y dis
 tintas charlas y mesas redondas con la igualdad de género y la inclusión
  como temáticas principales y un gran fin de fiesta el sábado 28 en Taza
 corte con la Marcha del Orgullo.\n\n\nLa Semana comienza el martes 24\, e
 n el Palacio Salazar de S/C de La Palma\, con un homenaje a las víctimas 
 de la Ley de Peligrosidad Social que fueron encarceladas en la isla de La 
 Palma. Contarán con Juana María Ortega\, una de las mujeres trans que 
 estuvieron encarceladas en La Palma a finales de los sesenta\, y le acompa
 ñará el investigador Víctor Ramírez\, autor del libro ‘Peligrosas y 
 Revolucionarias’.\n
ATTACH;FMTTYPE=image/jpeg:https://www.larevistadelapalma.com/wp-content/up
 loads/2025/06/Encarceladas-e-inocentes.png
CATEGORIES:Otras propuestas,Varios
LOCATION:Casa principal de Salazar\, Calle Odaly\, 22\, Santa Cruz de La Pa
 lma\, 38700\, España
GEO:28.682275;-17.765795
X-APPLE-STRUCTURED-LOCATION;VALUE=URI;X-ADDRESS=Calle Odaly\, 22\, Santa Cr
 uz de La Palma\, 38700\, España;X-APPLE-RADIUS=100;X-TITLE=Casa principal
  de Salazar:geo:28.682275,-17.765795
END:VEVENT
END:VCALENDAR