BEGIN:VCALENDAR
VERSION:2.0
PRODID:-//wp-events-plugin.com//7.2.3.1//EN
TZID:Europe/London
X-WR-TIMEZONE:Europe/London
BEGIN:VEVENT
UID:3449@larevistadelapalma.com
DTSTART:20241204T173000Z
DTEND:20241204T211500Z
DTSTAMP:20241201T123233Z
URL:https://www.larevistadelapalma.com/events/encendido-navideno-en-san-an
 dres-y-sauces-pasacalle-y-concierto-de-escuela-de-calor/
SUMMARY:Encendido navideño en San Andrés y Sauces: Pasacalle y concierto 
 de Escuela de Calor
DESCRIPTION:Pasacalle con The Circus Troupé y la banda de música municipa
 l y concierto de Escuela de Calor. \n\nEl municipio comienza la programac
 ión a las 18:30 horas\, con el pasacalle que recorrerá la zona comercial
 . Participarán The Circus Troupé\, una compañía de artistas multidisci
 plinares que unen circo y teatro\, y que estarán acompañados por la Band
 a Municipal Los Nacientes.\n\nA las 20:30 horas la programación da paso a
 l momento del encendido y el concierto de Escuela de Calor. Este grupo ti
 nerfeño nos acercará a temas versionados de pop y rock nacional e intern
 acional de los años ochenta y noventa. Escuela de calor se crea en enero 
 de 2009 para dar demanda a una serie de locales de la noche tinerfeña cuy
 os clientes pedían una banda de Rock Latino de calidad.
ATTACH;FMTTYPE=image/jpeg:https://www.larevistadelapalma.com/wp-content/up
 loads/2024/12/wepik-20241201002558BqVZ.png
CATEGORIES:Conciertos,Fiestas populares,Música,Otras propuestas
LOCATION:Plaza de Montserrat en San Andrés y Sauces\, Calle Montserrat\, S
 an Andrés y Sauces\, 38729\, España
GEO:28.784222;-17.799155
X-APPLE-STRUCTURED-LOCATION;VALUE=URI;X-ADDRESS=Calle Montserrat\, San Andr
 és y Sauces\, 38729\, España;X-APPLE-RADIUS=100;X-TITLE=Plaza de Montser
 rat en San Andrés y Sauces:geo:28.784222,-17.799155
END:VEVENT
END:VCALENDARBEGIN:VCALENDAR
VERSION:2.0
PRODID:-//wp-events-plugin.com//7.2.3.1//EN
TZID:Europe/London
X-WR-TIMEZONE:Europe/London
BEGIN:VEVENT
UID:3449@larevistadelapalma.com
DTSTART:20241204T173000Z
DTEND:20241204T211500Z
DTSTAMP:20241201T123233Z
URL:https://www.larevistadelapalma.com/events/encendido-navideno-en-san-an
 dres-y-sauces-pasacalle-y-concierto-de-escuela-de-calor/
SUMMARY:Encendido navideño en San Andrés y Sauces: Pasacalle y concierto 
 de Escuela de Calor
DESCRIPTION:Pasacalle con The Circus Troupé y la banda de música municipa
 l y concierto de Escuela de Calor. \n\nEl municipio comienza la programac
 ión a las 18:30 horas\, con el pasacalle que recorrerá la zona comercial
 . Participarán The Circus Troupé\, una compañía de artistas multidisci
 plinares que unen circo y teatro\, y que estarán acompañados por la Band
 a Municipal Los Nacientes.\n\nA las 20:30 horas la programación da paso a
 l momento del encendido y el concierto de Escuela de Calor. Este grupo ti
 nerfeño nos acercará a temas versionados de pop y rock nacional e intern
 acional de los años ochenta y noventa. Escuela de calor se crea en enero 
 de 2009 para dar demanda a una serie de locales de la noche tinerfeña cuy
 os clientes pedían una banda de Rock Latino de calidad.
ATTACH;FMTTYPE=image/jpeg:https://www.larevistadelapalma.com/wp-content/up
 loads/2024/12/wepik-20241201002558BqVZ.png
CATEGORIES:Conciertos,Fiestas populares,Música,Otras propuestas
LOCATION:Plaza de Montserrat en San Andrés y Sauces\, Calle Montserrat\, S
 an Andrés y Sauces\, 38729\, España
GEO:28.784222;-17.799155
X-APPLE-STRUCTURED-LOCATION;VALUE=URI;X-ADDRESS=Calle Montserrat\, San Andr
 és y Sauces\, 38729\, España;X-APPLE-RADIUS=100;X-TITLE=Plaza de Montser
 rat en San Andrés y Sauces:geo:28.784222,-17.799155
END:VEVENT
END:VCALENDAR