BEGIN:VCALENDAR
VERSION:2.0
PRODID:-//wp-events-plugin.com//7.2.3.1//EN
TZID:Europe/London
X-WR-TIMEZONE:Europe/London
BEGIN:VEVENT
UID:3894@larevistadelapalma.com
DTSTART:20250801T170000Z
DTEND:20250801T203000Z
DTSTAMP:20250725T211448Z
URL:https://www.larevistadelapalma.com/events/encuentro-bodeguero-en-barlo
 vento/
SUMMARY:Encuentro bodeguero en Barlovento
DESCRIPTION:\nVIII Encuentro Bodeguero y Gastronómico  con la actuación 
 del grupo ASERES y Dj Martín.\n Viernes 1 de agosto a partir de las 18:0
 0 horas en la Plaza del Rosario.\n\n
ATTACH;FMTTYPE=image/jpeg:https://www.larevistadelapalma.com/wp-content/up
 loads/2025/07/Encuentro-bodeguero-en-Barlovento.jpg
CATEGORIES:Gastro,Otras propuestas,Varios
LOCATION:Plaza del Rosario en Barlovento\, Plaza Nuestra Señora del Rosari
 o \, Barlovento\, 38726\, España
GEO:28.829752;-17.803339
X-APPLE-STRUCTURED-LOCATION;VALUE=URI;X-ADDRESS=Plaza Nuestra Señora del R
 osario \, Barlovento\, 38726\, España;X-APPLE-RADIUS=100;X-TITLE=Plaza de
 l Rosario en Barlovento:geo:28.829752,-17.803339
END:VEVENT
END:VCALENDARBEGIN:VCALENDAR
VERSION:2.0
PRODID:-//wp-events-plugin.com//7.2.3.1//EN
TZID:Europe/London
X-WR-TIMEZONE:Europe/London
BEGIN:VEVENT
UID:3894@larevistadelapalma.com
DTSTART:20250801T170000Z
DTEND:20250801T203000Z
DTSTAMP:20250725T211448Z
URL:https://www.larevistadelapalma.com/events/encuentro-bodeguero-en-barlo
 vento/
SUMMARY:Encuentro bodeguero en Barlovento
DESCRIPTION:\nVIII Encuentro Bodeguero y Gastronómico  con la actuación 
 del grupo ASERES y Dj Martín.\n Viernes 1 de agosto a partir de las 18:0
 0 horas en la Plaza del Rosario.\n\n
ATTACH;FMTTYPE=image/jpeg:https://www.larevistadelapalma.com/wp-content/up
 loads/2025/07/Encuentro-bodeguero-en-Barlovento.jpg
CATEGORIES:Gastro,Otras propuestas,Varios
LOCATION:Plaza del Rosario en Barlovento\, Plaza Nuestra Señora del Rosari
 o \, Barlovento\, 38726\, España
GEO:28.829752;-17.803339
X-APPLE-STRUCTURED-LOCATION;VALUE=URI;X-ADDRESS=Plaza Nuestra Señora del R
 osario \, Barlovento\, 38726\, España;X-APPLE-RADIUS=100;X-TITLE=Plaza de
 l Rosario en Barlovento:geo:28.829752,-17.803339
END:VEVENT
END:VCALENDAR