BEGIN:VCALENDAR
VERSION:2.0
PRODID:-//wp-events-plugin.com//7.2.3.1//EN
TZID:Europe/London
X-WR-TIMEZONE:Europe/London
BEGIN:VEVENT
UID:3034@larevistadelapalma.com
DTSTART:20240612T170000Z
DTEND:20240612T183000Z
DTSTAMP:20240605T223242Z
URL:https://www.larevistadelapalma.com/events/encuentro-con-jose-luis-mart
 in-teixe-de-ida-y-vuelta-50-anos-sobre-los-escenarios/
SUMMARY:Encuentro con José Luis Martín Teixé. De ida y vuelta: 50 años 
 sobre los escenarios
DESCRIPTION:Con José Luis Teixé\, acompañado por Berto Díaz.\nAmante de
  la buena música\, este palmero de la villa de Mazo\, licenciado en Filol
 ogía Inglesa\, lleva más de 30 años profundizando en el mundo de la dé
 cima y la música tradicional cubana.\n\n"José Luis Martín Teixé es nat
 ural de Villa de Mazo. Es profesor de inglés jubilado. En su primera etap
 a musical estuvo vinculado al mundo del folclore\, volcándose desde 1990 
 en el mundo de la décima\, arte que aprendió desde niño de su abuela Fr
 ancisca Martín Bravo\, más conocida por Pancha “Rastera”.\n\nEntre 1
 993 y 2008 trae de Cuba a 48 artistas de renombre de este género\, otros 
 3 de Miami y 2 de Argentina\, llevando a cabo con ellos exitosas giras por
  Canarias\, fusionándose con los versadores de las islas\, especialmente 
 con los de La Palma.\nHa hecho numerosas publicaciones y grabaciones sobre
  el mundo de la décima y el punto cubano. Ha representado a La Palma en n
 umerosos certámenes nacionales e internacionales de representantes de est
 e género.\n\n\nEn la actualidad lleva a cabo charlas y talleres de décim
 as en centros educativos y hace unos años rescató y grabó “660 apodos
  de San Andrés y Sauces”.\nEste año está presentando\, por todos los 
 centros de mayores de la isla y festividades\, su espectáculo musical tit
 ulado “De ida y vuelta: 50 años sobre escenarios”\, acompañado de Be
 rto Díaz\, músico tijarafero e hijo del renombrado versador Julián Día
 z\, el cual tiene una dilatada carrera musical de más de 60 años.\n\n\nP
 or toda esta labor\, el ayuntamiento de su municipio natal lo ha nombrado 
 recientemente: “destacado del municipio de Villa de Mazo\, en reconocimi
 ento a los numerosos méritos que concurren en su persona”.\nOrganizado 
 por la Asociación de Vecinos "Antomara" de San Antonio y el Ayuntamiento 
 de Breña Baja.\n\n\n 	La imagen destacada de la publicación pertenece a 
 la web De mar a cumbre\, que dedica un artículo a este espectáculo del q
 ue hablamos\, “De ida y vuelta”\, que celebra los cincuenta años en l
 os escenarios de José Luis Martín Teixé.\n\n\n
ATTACH;FMTTYPE=image/jpeg:https://www.larevistadelapalma.com/wp-content/up
 loads/2024/06/Jose-Luis-TEIXE-y-Berto-Diaz-Foto-de-Mar-a-cumbre.webp
CATEGORIES:Conciertos,Música
LOCATION:Sociedad Juventud Española\, Breña Baja\, C. Cta. de San José\,
  128\, Breña Baja\, 38712\, España
GEO:28.647229;-17.768574
X-APPLE-STRUCTURED-LOCATION;VALUE=URI;X-ADDRESS=C. Cta. de San José\, 128\
 , Breña Baja\, 38712\, España;X-APPLE-RADIUS=100;X-TITLE=Sociedad Juvent
 ud Española\, Breña Baja:geo:28.647229,-17.768574
END:VEVENT
END:VCALENDARBEGIN:VCALENDAR
VERSION:2.0
PRODID:-//wp-events-plugin.com//7.2.3.1//EN
TZID:Europe/London
X-WR-TIMEZONE:Europe/London
BEGIN:VEVENT
UID:3034@larevistadelapalma.com
DTSTART:20240612T170000Z
DTEND:20240612T183000Z
DTSTAMP:20240605T223242Z
URL:https://www.larevistadelapalma.com/events/encuentro-con-jose-luis-mart
 in-teixe-de-ida-y-vuelta-50-anos-sobre-los-escenarios/
SUMMARY:Encuentro con José Luis Martín Teixé. De ida y vuelta: 50 años 
 sobre los escenarios
DESCRIPTION:Con José Luis Teixé\, acompañado por Berto Díaz.\nAmante de
  la buena música\, este palmero de la villa de Mazo\, licenciado en Filol
 ogía Inglesa\, lleva más de 30 años profundizando en el mundo de la dé
 cima y la música tradicional cubana.\n\n"José Luis Martín Teixé es nat
 ural de Villa de Mazo. Es profesor de inglés jubilado. En su primera etap
 a musical estuvo vinculado al mundo del folclore\, volcándose desde 1990 
 en el mundo de la décima\, arte que aprendió desde niño de su abuela Fr
 ancisca Martín Bravo\, más conocida por Pancha “Rastera”.\n\nEntre 1
 993 y 2008 trae de Cuba a 48 artistas de renombre de este género\, otros 
 3 de Miami y 2 de Argentina\, llevando a cabo con ellos exitosas giras por
  Canarias\, fusionándose con los versadores de las islas\, especialmente 
 con los de La Palma.\nHa hecho numerosas publicaciones y grabaciones sobre
  el mundo de la décima y el punto cubano. Ha representado a La Palma en n
 umerosos certámenes nacionales e internacionales de representantes de est
 e género.\n\n\nEn la actualidad lleva a cabo charlas y talleres de décim
 as en centros educativos y hace unos años rescató y grabó “660 apodos
  de San Andrés y Sauces”.\nEste año está presentando\, por todos los 
 centros de mayores de la isla y festividades\, su espectáculo musical tit
 ulado “De ida y vuelta: 50 años sobre escenarios”\, acompañado de Be
 rto Díaz\, músico tijarafero e hijo del renombrado versador Julián Día
 z\, el cual tiene una dilatada carrera musical de más de 60 años.\n\n\nP
 or toda esta labor\, el ayuntamiento de su municipio natal lo ha nombrado 
 recientemente: “destacado del municipio de Villa de Mazo\, en reconocimi
 ento a los numerosos méritos que concurren en su persona”.\nOrganizado 
 por la Asociación de Vecinos "Antomara" de San Antonio y el Ayuntamiento 
 de Breña Baja.\n\n\n 	La imagen destacada de la publicación pertenece a 
 la web De mar a cumbre\, que dedica un artículo a este espectáculo del q
 ue hablamos\, “De ida y vuelta”\, que celebra los cincuenta años en l
 os escenarios de José Luis Martín Teixé.\n\n\n
ATTACH;FMTTYPE=image/jpeg:https://www.larevistadelapalma.com/wp-content/up
 loads/2024/06/Jose-Luis-TEIXE-y-Berto-Diaz-Foto-de-Mar-a-cumbre.webp
CATEGORIES:Conciertos,Música
LOCATION:Sociedad Juventud Española\, Breña Baja\, C. Cta. de San José\,
  128\, Breña Baja\, 38712\, España
GEO:28.647229;-17.768574
X-APPLE-STRUCTURED-LOCATION;VALUE=URI;X-ADDRESS=C. Cta. de San José\, 128\
 , Breña Baja\, 38712\, España;X-APPLE-RADIUS=100;X-TITLE=Sociedad Juvent
 ud Española\, Breña Baja:geo:28.647229,-17.768574
END:VEVENT
END:VCALENDAR