BEGIN:VCALENDAR
VERSION:2.0
PRODID:-//wp-events-plugin.com//7.2.3.1//EN
TZID:Europe/London
X-WR-TIMEZONE:Europe/London
BEGIN:VEVENT
UID:111@larevistadelapalma.com
DTSTART:20230701T180000Z
DTEND:20230701T210000Z
DTSTAMP:20230626T173057Z
URL:https://www.larevistadelapalma.com/events/encuentro-de-cantautores-en-
 la-pergola-de-el-quinto-pino/
SUMMARY:Encuentro de cantautores en la Pérgola de El Quinto Pino
DESCRIPTION:Con Elena Saavedra\, Xente y Emilio Cedrés.
ATTACH;FMTTYPE=image/jpeg:https://www.larevistadelapalma.com/wp-content/up
 loads/2023/06/Encuentro-Cantautores-El-Quinto-Pino.jpg
CATEGORIES:Festivales/Fiestas,Música
LOCATION:El Quinto Pino\, Ctra. la Pared Nueva\, 3. Las Indias. \, Fuencali
 ente\, 38749\, España
GEO:28.500094;-17.857762
X-APPLE-STRUCTURED-LOCATION;VALUE=URI;X-ADDRESS=Ctra. la Pared Nueva\, 3. L
 as Indias. \, Fuencaliente\, 38749\, España;X-APPLE-RADIUS=100;X-TITLE=El
  Quinto Pino:geo:28.500094,-17.857762
END:VEVENT
END:VCALENDARBEGIN:VCALENDAR
VERSION:2.0
PRODID:-//wp-events-plugin.com//7.2.3.1//EN
TZID:Europe/London
X-WR-TIMEZONE:Europe/London
BEGIN:VEVENT
UID:111@larevistadelapalma.com
DTSTART:20230701T180000Z
DTEND:20230701T210000Z
DTSTAMP:20230626T173057Z
URL:https://www.larevistadelapalma.com/events/encuentro-de-cantautores-en-
 la-pergola-de-el-quinto-pino/
SUMMARY:Encuentro de cantautores en la Pérgola de El Quinto Pino
DESCRIPTION:Con Elena Saavedra\, Xente y Emilio Cedrés.
ATTACH;FMTTYPE=image/jpeg:https://www.larevistadelapalma.com/wp-content/up
 loads/2023/06/Encuentro-Cantautores-El-Quinto-Pino.jpg
CATEGORIES:Festivales/Fiestas,Música
LOCATION:El Quinto Pino\, Ctra. la Pared Nueva\, 3. Las Indias. \, Fuencali
 ente\, 38749\, España
GEO:28.500094;-17.857762
X-APPLE-STRUCTURED-LOCATION;VALUE=URI;X-ADDRESS=Ctra. la Pared Nueva\, 3. L
 as Indias. \, Fuencaliente\, 38749\, España;X-APPLE-RADIUS=100;X-TITLE=El
  Quinto Pino:geo:28.500094,-17.857762
END:VEVENT
END:VCALENDAR