BEGIN:VCALENDAR
VERSION:2.0
PRODID:-//wp-events-plugin.com//7.2.3.1//EN
TZID:Europe/London
X-WR-TIMEZONE:Europe/London
BEGIN:VEVENT
UID:4089@larevistadelapalma.com
DTSTART:20251226T170000Z
DTEND:20251226T190000Z
DTSTAMP:20251219T174716Z
URL:https://www.larevistadelapalma.com/events/encuentro-de-raiz-en-la-plaz
 a-de-santo-domingo/
SUMMARY:"Encuentro de Raíz"\, en la Plaza de Santo Domingo
DESCRIPTION:Música y danza con La Niña de la Isla\, Xente\, Juan Mesa y L
 os Tetrabaifos y otros invitados.\n\nUn espectáculo único con:\n\n• Ju
 an Mesa y Los Tetrabaifos: Música de autor y word music\, desde La Gomera
 .\n\n• El cantautor palmero Xente en compañía del percusionista pasens
 e Noé González y en colaboración con el alumnado del estudio de danza "
 La Niña de la Isla"\n\n• La Niña De la Isla: flamenco con la bailarina
  Paula Pérez. Natural de SC de La Palma. Cuando fue a estudiar a Granada 
 surgió el nombre ‘La Niña de la Isla’. Hoy tiene su propia escuela d
 e danza. La acompañarán Elena Diz al cante y la maestría de Juan de Pi
 lar a la guitarra.\n\nEstado Natural Producciones en colaboración con la 
 concejalía de Cultura de Santa Cruz de La Palma.
ATTACH;FMTTYPE=image/jpeg:https://www.larevistadelapalma.com/wp-content/up
 loads/2025/12/Encuentro-de-raiz-SATA-CRUZ.png
CATEGORIES:Festivales/Fiestas,Música
LOCATION:Plaza de Santo Domingo en Santa Cruz de La Palma\, Plaza Santo Dom
 ingo\, Santa Cruz de La Palma\, 38700\, España
GEO:28.682691;-17.766334
X-APPLE-STRUCTURED-LOCATION;VALUE=URI;X-ADDRESS=Plaza Santo Domingo\, Santa
  Cruz de La Palma\, 38700\, España;X-APPLE-RADIUS=100;X-TITLE=Plaza de Sa
 nto Domingo en Santa Cruz de La Palma:geo:28.682691,-17.766334
END:VEVENT
END:VCALENDARBEGIN:VCALENDAR
VERSION:2.0
PRODID:-//wp-events-plugin.com//7.2.3.1//EN
TZID:Europe/London
X-WR-TIMEZONE:Europe/London
BEGIN:VEVENT
UID:4089@larevistadelapalma.com
DTSTART:20251226T170000Z
DTEND:20251226T190000Z
DTSTAMP:20251219T174716Z
URL:https://www.larevistadelapalma.com/events/encuentro-de-raiz-en-la-plaz
 a-de-santo-domingo/
SUMMARY:"Encuentro de Raíz"\, en la Plaza de Santo Domingo
DESCRIPTION:Música y danza con La Niña de la Isla\, Xente\, Juan Mesa y L
 os Tetrabaifos y otros invitados.\n\nUn espectáculo único con:\n\n• Ju
 an Mesa y Los Tetrabaifos: Música de autor y word music\, desde La Gomera
 .\n\n• El cantautor palmero Xente en compañía del percusionista pasens
 e Noé González y en colaboración con el alumnado del estudio de danza "
 La Niña de la Isla"\n\n• La Niña De la Isla: flamenco con la bailarina
  Paula Pérez. Natural de SC de La Palma. Cuando fue a estudiar a Granada 
 surgió el nombre ‘La Niña de la Isla’. Hoy tiene su propia escuela d
 e danza. La acompañarán Elena Diz al cante y la maestría de Juan de Pi
 lar a la guitarra.\n\nEstado Natural Producciones en colaboración con la 
 concejalía de Cultura de Santa Cruz de La Palma.
ATTACH;FMTTYPE=image/jpeg:https://www.larevistadelapalma.com/wp-content/up
 loads/2025/12/Encuentro-de-raiz-SATA-CRUZ.png
CATEGORIES:Festivales/Fiestas,Música
LOCATION:Plaza de Santo Domingo en Santa Cruz de La Palma\, Plaza Santo Dom
 ingo\, Santa Cruz de La Palma\, 38700\, España
GEO:28.682691;-17.766334
X-APPLE-STRUCTURED-LOCATION;VALUE=URI;X-ADDRESS=Plaza Santo Domingo\, Santa
  Cruz de La Palma\, 38700\, España;X-APPLE-RADIUS=100;X-TITLE=Plaza de Sa
 nto Domingo en Santa Cruz de La Palma:geo:28.682691,-17.766334
END:VEVENT
END:VCALENDAR