BEGIN:VCALENDAR
VERSION:2.0
PRODID:-//wp-events-plugin.com//7.2.3.1//EN
TZID:Europe/London
X-WR-TIMEZONE:Europe/London
BEGIN:VEVENT
UID:4091@larevistadelapalma.com
DTSTART:20251212T103000Z
DTEND:20251212T120000Z
DTSTAMP:20251212T163150Z
URL:https://www.larevistadelapalma.com/events/encuentro-de-villancicos-lui
 s-cobiella-en-la-navidad/
SUMMARY:CAMBIO DE LUGAR - Encuentro de Villancicos  Luis Cobiella en la N
 avidad
DESCRIPTION:\n 	Se cambia la ubicación del Encuentro de Villancicos Luis C
 obiella a la Iglesia el Salvador\, debido a la posibilidad de precipitacio
 nes en Santa Cruz de La Palma. \n\nLa Asociación Luis Cobiella\, en la c
 elebración del Centenario de su nacimiento\, está realizando una serie d
 e actividades de distinta índole en torno a su figura.\n\nEste viernes\, 
 12 de diciembre a las 11\,30h se realizará un Encuentro de Villancicos de
  varios centros educativos de la isla en la Plaza España de Santa Cruz de
  La Palma.\n\nLa música de Luis Cobiella forma parte del patrimonio cultu
 ral de la isla La Palma\, y del archipiélago. Creemos que si los niños y
  jóvenes conocen algunas de ellas\, algunas de sus músicas\, podrán sen
 tirse más conectados con su historia y con sus personajes ilustres\, y pa
 rticiparán y contribuirán a conservar su memoria y su legado. Si las nue
 vas generaciones aprenden y cantan sus canciones\, serán protagonistas de
  la renovación de su obra.\n\nLos villancicos conforman un capítulo a se
 ñalar en la producción musical de Luis Cobiella como manifestación musi
 cal ligada a la Navidad\, como piezas que engranan con el contexto de la i
 sla. Por ello\, la Asociación ha realizado una planificación con algunos
  centros escolares de primaria y de bachillerato\, trabajando con sus prof
 esores el material musical\, proporcionando los villancicos y sus grabacio
 nes como material didáctico para trabajar en clase. Habiendo aceptado la 
 propuesta\, han preparado varios villancicos de Luis Cobiella para sus act
 uaciones navideñas\, incluyéndolos dentro del repertorio que realizan en
  la clase de música.\n\nEn este encuentro participarán los siguientes ce
 ntros educativos de la isla:\n\nCEIP El Roque e IES Eusebio Barreto de Los
  Llanos de Aridane\, el CEIP José Luis Albendea de San Andrés y Sauces\,
  el CEIP José Pérez Vidal y el IES Luis Cobiella Cuevas de Santa Cruz de
  La Palma.\n\nSe calcula la participación en este encuentro de aproximada
 mente unos 200 alumnos y alumnas de educación primaria y bachillerato.\n\
 nEste acto está organizado por la Asociación Luis Cobiella\, patrocinado
  por el Cabildo de La Palma y con la colaboración del Ayto. de Sta. Cruz 
 de La Palma.
ATTACH;FMTTYPE=image/jpeg:https://www.larevistadelapalma.com/wp-content/up
 loads/2025/12/Imagen-Cartel-Encuentro-Villancicos-Luis-Cobiella-12-12-2025
 .jpg
CATEGORIES:Fiestas populares,Otras propuestas
LOCATION:Plaza de España de Santa Cruz de La Palma\, Plaza de España\, Sa
 nta Cruz De La Palma\, Santa Cruz de Tenerife\, 38700\, España
GEO:28.683369;-17.76487
X-APPLE-STRUCTURED-LOCATION;VALUE=URI;X-ADDRESS=Plaza de España\, Santa Cr
 uz De La Palma\, Santa Cruz de Tenerife\, 38700\, España;X-APPLE-RADIUS=1
 00;X-TITLE=Plaza de España de Santa Cruz de La Palma:geo:28.683369,-17.76
 487
END:VEVENT
END:VCALENDARBEGIN:VCALENDAR
VERSION:2.0
PRODID:-//wp-events-plugin.com//7.2.3.1//EN
TZID:Europe/London
X-WR-TIMEZONE:Europe/London
BEGIN:VEVENT
UID:4091@larevistadelapalma.com
DTSTART:20251212T103000Z
DTEND:20251212T120000Z
DTSTAMP:20251212T163150Z
URL:https://www.larevistadelapalma.com/events/encuentro-de-villancicos-lui
 s-cobiella-en-la-navidad/
SUMMARY:CAMBIO DE LUGAR - Encuentro de Villancicos  Luis Cobiella en la N
 avidad
DESCRIPTION:\n 	Se cambia la ubicación del Encuentro de Villancicos Luis C
 obiella a la Iglesia el Salvador\, debido a la posibilidad de precipitacio
 nes en Santa Cruz de La Palma. \n\nLa Asociación Luis Cobiella\, en la c
 elebración del Centenario de su nacimiento\, está realizando una serie d
 e actividades de distinta índole en torno a su figura.\n\nEste viernes\, 
 12 de diciembre a las 11\,30h se realizará un Encuentro de Villancicos de
  varios centros educativos de la isla en la Plaza España de Santa Cruz de
  La Palma.\n\nLa música de Luis Cobiella forma parte del patrimonio cultu
 ral de la isla La Palma\, y del archipiélago. Creemos que si los niños y
  jóvenes conocen algunas de ellas\, algunas de sus músicas\, podrán sen
 tirse más conectados con su historia y con sus personajes ilustres\, y pa
 rticiparán y contribuirán a conservar su memoria y su legado. Si las nue
 vas generaciones aprenden y cantan sus canciones\, serán protagonistas de
  la renovación de su obra.\n\nLos villancicos conforman un capítulo a se
 ñalar en la producción musical de Luis Cobiella como manifestación musi
 cal ligada a la Navidad\, como piezas que engranan con el contexto de la i
 sla. Por ello\, la Asociación ha realizado una planificación con algunos
  centros escolares de primaria y de bachillerato\, trabajando con sus prof
 esores el material musical\, proporcionando los villancicos y sus grabacio
 nes como material didáctico para trabajar en clase. Habiendo aceptado la 
 propuesta\, han preparado varios villancicos de Luis Cobiella para sus act
 uaciones navideñas\, incluyéndolos dentro del repertorio que realizan en
  la clase de música.\n\nEn este encuentro participarán los siguientes ce
 ntros educativos de la isla:\n\nCEIP El Roque e IES Eusebio Barreto de Los
  Llanos de Aridane\, el CEIP José Luis Albendea de San Andrés y Sauces\,
  el CEIP José Pérez Vidal y el IES Luis Cobiella Cuevas de Santa Cruz de
  La Palma.\n\nSe calcula la participación en este encuentro de aproximada
 mente unos 200 alumnos y alumnas de educación primaria y bachillerato.\n\
 nEste acto está organizado por la Asociación Luis Cobiella\, patrocinado
  por el Cabildo de La Palma y con la colaboración del Ayto. de Sta. Cruz 
 de La Palma.
ATTACH;FMTTYPE=image/jpeg:https://www.larevistadelapalma.com/wp-content/up
 loads/2025/12/Imagen-Cartel-Encuentro-Villancicos-Luis-Cobiella-12-12-2025
 .jpg
CATEGORIES:Fiestas populares,Otras propuestas
LOCATION:Plaza de España de Santa Cruz de La Palma\, Plaza de España\, Sa
 nta Cruz De La Palma\, Santa Cruz de Tenerife\, 38700\, España
GEO:28.683369;-17.76487
X-APPLE-STRUCTURED-LOCATION;VALUE=URI;X-ADDRESS=Plaza de España\, Santa Cr
 uz De La Palma\, Santa Cruz de Tenerife\, 38700\, España;X-APPLE-RADIUS=1
 00;X-TITLE=Plaza de España de Santa Cruz de La Palma:geo:28.683369,-17.76
 487
END:VEVENT
END:VCALENDAR