BEGIN:VCALENDAR
VERSION:2.0
PRODID:-//wp-events-plugin.com//7.2.3.1//EN
TZID:Europe/London
X-WR-TIMEZONE:Europe/London
BEGIN:VEVENT
UID:3070@larevistadelapalma.com
DTSTART;VALUE=DATE:20240626
DTEND;VALUE=DATE:20240701
DTSTAMP:20240614T193755Z
URL:https://www.larevistadelapalma.com/events/encuentro-del-atlantico-24/
SUMMARY:Nueva edición de Encuentro del Atlántico
DESCRIPTION:La programación incluye ponencias\, talleres\, el campeonato d
 el Mundo WingFoil (S/C de La Palma)  y un bautismo de buceo (Fuencaliente)
 .
ATTACH;FMTTYPE=image/jpeg:https://www.larevistadelapalma.com/wp-content/up
 loads/2024/06/Encuentro-del-Atlantico.jpg
CATEGORIES:Actividades deportivas,Formación,Otras propuestas
LOCATION:Municipio de Santa Cruz de La Palma\, Santa Cruz de La Palma \, Sa
 nta Cruz de La Palma \, 38700\, España
GEO:28.688757;-17.765102
X-APPLE-STRUCTURED-LOCATION;VALUE=URI;X-ADDRESS=Santa Cruz de La Palma \, S
 anta Cruz de La Palma \, 38700\, España;X-APPLE-RADIUS=100;X-TITLE=Munici
 pio de Santa Cruz de La Palma:geo:28.688757,-17.765102
END:VEVENT
END:VCALENDARBEGIN:VCALENDAR
VERSION:2.0
PRODID:-//wp-events-plugin.com//7.2.3.1//EN
TZID:Europe/London
X-WR-TIMEZONE:Europe/London
BEGIN:VEVENT
UID:3070@larevistadelapalma.com
DTSTART;VALUE=DATE:20240626
DTEND;VALUE=DATE:20240701
DTSTAMP:20240614T193755Z
URL:https://www.larevistadelapalma.com/events/encuentro-del-atlantico-24/
SUMMARY:Nueva edición de Encuentro del Atlántico
DESCRIPTION:La programación incluye ponencias\, talleres\, el campeonato d
 el Mundo WingFoil (S/C de La Palma)  y un bautismo de buceo (Fuencaliente)
 .
ATTACH;FMTTYPE=image/jpeg:https://www.larevistadelapalma.com/wp-content/up
 loads/2024/06/Encuentro-del-Atlantico.jpg
CATEGORIES:Actividades deportivas,Formación,Otras propuestas
LOCATION:Municipio de Santa Cruz de La Palma\, Santa Cruz de La Palma \, Sa
 nta Cruz de La Palma \, 38700\, España
GEO:28.688757;-17.765102
X-APPLE-STRUCTURED-LOCATION;VALUE=URI;X-ADDRESS=Santa Cruz de La Palma \, S
 anta Cruz de La Palma \, 38700\, España;X-APPLE-RADIUS=100;X-TITLE=Munici
 pio de Santa Cruz de La Palma:geo:28.688757,-17.765102
END:VEVENT
END:VCALENDAR