BEGIN:VCALENDAR
VERSION:2.0
PRODID:-//wp-events-plugin.com//7.2.3.1//EN
TZID:Europe/London
X-WR-TIMEZONE:Europe/London
BEGIN:VEVENT
UID:3633@larevistadelapalma.com
DTSTART:20250314T190000Z
DTEND:20250314T225900Z
DTSTAMP:20250303T134457Z
URL:https://www.larevistadelapalma.com/events/entierro-de-la-sardina-en-ta
 zacorte-2/
SUMMARY:Entierro de la sardina en Tazacorte
DESCRIPTION:A partir de las 20:00 horas\, pasacalle desde la Plaza de Canar
 ias hasta la Avenida El Emigrante\, con la compañía de la Batucada Badak
 atun.\n\nA continuación actuaciones musicales de Grupo Arena y Leyenda Jo
 ven.
ATTACH;FMTTYPE=image/jpeg:https://www.larevistadelapalma.com/wp-content/up
 loads/2025/03/Carnaval-tazacorte-2025.png
CATEGORIES:Fiestas populares,Otras propuestas
LOCATION:Municipio de Tazacorte\, Villa y Puerto de Tazacorte\, Tazacorte\,
  38770\, España
GEO:28.642917;-17.936888
X-APPLE-STRUCTURED-LOCATION;VALUE=URI;X-ADDRESS=Villa y Puerto de Tazacorte
 \, Tazacorte\, 38770\, España;X-APPLE-RADIUS=100;X-TITLE=Municipio de Taz
 acorte:geo:28.642917,-17.936888
END:VEVENT
END:VCALENDARBEGIN:VCALENDAR
VERSION:2.0
PRODID:-//wp-events-plugin.com//7.2.3.1//EN
TZID:Europe/London
X-WR-TIMEZONE:Europe/London
BEGIN:VEVENT
UID:3633@larevistadelapalma.com
DTSTART:20250314T190000Z
DTEND:20250314T225900Z
DTSTAMP:20250303T134457Z
URL:https://www.larevistadelapalma.com/events/entierro-de-la-sardina-en-ta
 zacorte-2/
SUMMARY:Entierro de la sardina en Tazacorte
DESCRIPTION:A partir de las 20:00 horas\, pasacalle desde la Plaza de Canar
 ias hasta la Avenida El Emigrante\, con la compañía de la Batucada Badak
 atun.\n\nA continuación actuaciones musicales de Grupo Arena y Leyenda Jo
 ven.
ATTACH;FMTTYPE=image/jpeg:https://www.larevistadelapalma.com/wp-content/up
 loads/2025/03/Carnaval-tazacorte-2025.png
CATEGORIES:Fiestas populares,Otras propuestas
LOCATION:Municipio de Tazacorte\, Villa y Puerto de Tazacorte\, Tazacorte\,
  38770\, España
GEO:28.642917;-17.936888
X-APPLE-STRUCTURED-LOCATION;VALUE=URI;X-ADDRESS=Villa y Puerto de Tazacorte
 \, Tazacorte\, 38770\, España;X-APPLE-RADIUS=100;X-TITLE=Municipio de Taz
 acorte:geo:28.642917,-17.936888
END:VEVENT
END:VCALENDAR