BEGIN:VCALENDAR
VERSION:2.0
PRODID:-//wp-events-plugin.com//7.2.3.1//EN
TZID:Europe/London
X-WR-TIMEZONE:Europe/London
BEGIN:VEVENT
UID:3690@larevistadelapalma.com
DTSTART:20250405T193000Z
DTEND:20250405T225900Z
DTSTAMP:20250404T120159Z
URL:https://www.larevistadelapalma.com/events/entierro-sardina-puntallana-
 2/
SUMMARY:Puntallana despide este sábado por segunda vez a su Sardina Espac
 ial
DESCRIPTION:El tradicional Entierro de la Sardina tuvo que posponerse el pa
 sado sábado por razones meteorológicas.\n\nPuntallana despedirá mañan
 a sábado el Carnaval 2025 con su tradicional Entierro de la Sardina. Lo h
 ará tras haberse pospuesto el acto el pasado fin de semana\, debido a las
  condiciones meteorológicas adversas y actuando desde el consistorio seg
 ún los criterios del plan de seguridad del evento.\n\nSerá a partir de l
 as 20:30h. cuando Zebensuí Melián amenizará la espera hasta que parta l
 a comitiva que acompañará a la sardina en su recorrido por las calles de
 l casco urbano. Una vez incinerada comenzará la gran verbena en la plaza 
 de San Juan con las orquestas Tropicana’s y Maracaibo.\n\nEl concejal de
  Fiestas Héctor Cabrera\, agradece la comprensión de todos los asistente
 s el pasado fin de semana\, en el que hubo que tomar la drástica decisió
 n de suspender el evento al no quedar garantizada la seguridad del mismo y
  pasar de situación de prealerta a alerta por lluvias\, una medida que le
 jos de desmotivar al consistorio\, propició que desde el mismo lunes se b
 uscara otra fecha alternativa para celebrar el evento. En este sentido\, q
 uiere agradecer al Cuerpo de Baile Danzar de Los Alisios\, que adelantó u
 na hora el festival con motivo de su segundo aniversario que tendrá lugar
  también este sábado en la Plaza de San Juan y a la Comisión de Fiestas
  de Nuestra Señora de La Piedad\, que pospuso el Entierro de la »Lapa Ch
 upona» al próximo sábado 12 de abril en La Galga.
ATTACH;FMTTYPE=image/jpeg:https://www.larevistadelapalma.com/wp-content/up
 loads/2025/04/PLANTILLA-FOTOS-AYTO-HORIZONTAL-4-scaled.jpg
CATEGORIES:Fiestas populares,Otras propuestas
LOCATION:Plaza de San Juan en Puntallna\, Calle Constitución\, s/n\, Punta
 llana\, 38715\, España
GEO:28.739777;-17.745493
X-APPLE-STRUCTURED-LOCATION;VALUE=URI;X-ADDRESS=Calle Constitución\, s/n\,
  Puntallana\, 38715\, España;X-APPLE-RADIUS=100;X-TITLE=Plaza de San Juan
  en Puntallna:geo:28.739777,-17.745493
END:VEVENT
END:VCALENDARBEGIN:VCALENDAR
VERSION:2.0
PRODID:-//wp-events-plugin.com//7.2.3.1//EN
TZID:Europe/London
X-WR-TIMEZONE:Europe/London
BEGIN:VEVENT
UID:3690@larevistadelapalma.com
DTSTART:20250405T193000Z
DTEND:20250405T225900Z
DTSTAMP:20250404T120159Z
URL:https://www.larevistadelapalma.com/events/entierro-sardina-puntallana-
 2/
SUMMARY:Puntallana despide este sábado por segunda vez a su Sardina Espac
 ial
DESCRIPTION:El tradicional Entierro de la Sardina tuvo que posponerse el pa
 sado sábado por razones meteorológicas.\n\nPuntallana despedirá mañan
 a sábado el Carnaval 2025 con su tradicional Entierro de la Sardina. Lo h
 ará tras haberse pospuesto el acto el pasado fin de semana\, debido a las
  condiciones meteorológicas adversas y actuando desde el consistorio seg
 ún los criterios del plan de seguridad del evento.\n\nSerá a partir de l
 as 20:30h. cuando Zebensuí Melián amenizará la espera hasta que parta l
 a comitiva que acompañará a la sardina en su recorrido por las calles de
 l casco urbano. Una vez incinerada comenzará la gran verbena en la plaza 
 de San Juan con las orquestas Tropicana’s y Maracaibo.\n\nEl concejal de
  Fiestas Héctor Cabrera\, agradece la comprensión de todos los asistente
 s el pasado fin de semana\, en el que hubo que tomar la drástica decisió
 n de suspender el evento al no quedar garantizada la seguridad del mismo y
  pasar de situación de prealerta a alerta por lluvias\, una medida que le
 jos de desmotivar al consistorio\, propició que desde el mismo lunes se b
 uscara otra fecha alternativa para celebrar el evento. En este sentido\, q
 uiere agradecer al Cuerpo de Baile Danzar de Los Alisios\, que adelantó u
 na hora el festival con motivo de su segundo aniversario que tendrá lugar
  también este sábado en la Plaza de San Juan y a la Comisión de Fiestas
  de Nuestra Señora de La Piedad\, que pospuso el Entierro de la »Lapa Ch
 upona» al próximo sábado 12 de abril en La Galga.
ATTACH;FMTTYPE=image/jpeg:https://www.larevistadelapalma.com/wp-content/up
 loads/2025/04/PLANTILLA-FOTOS-AYTO-HORIZONTAL-4-scaled.jpg
CATEGORIES:Fiestas populares,Otras propuestas
LOCATION:Plaza de San Juan en Puntallna\, Calle Constitución\, s/n\, Punta
 llana\, 38715\, España
GEO:28.739777;-17.745493
X-APPLE-STRUCTURED-LOCATION;VALUE=URI;X-ADDRESS=Calle Constitución\, s/n\,
  Puntallana\, 38715\, España;X-APPLE-RADIUS=100;X-TITLE=Plaza de San Juan
  en Puntallna:geo:28.739777,-17.745493
END:VEVENT
END:VCALENDAR