BEGIN:VCALENDAR
VERSION:2.0
PRODID:-//wp-events-plugin.com//7.2.3.1//EN
TZID:Europe/London
X-WR-TIMEZONE:Europe/London
BEGIN:VEVENT
UID:3451@larevistadelapalma.com
DTSTART:20241204T173000Z
DTEND:20241204T190000Z
DTSTAMP:20241203T023022Z
URL:https://www.larevistadelapalma.com/events/espectaculo-de-danza-con-la-
 escuela-municipal-maika-lerin/
SUMMARY:Espectáculo de danza con la Escuela municipal Maika Lerín
DESCRIPTION:La Escuela Municipal de Danza Maika Lerín ofrecerá un espect
 áculo de Navidad este miércoles 4 de diciembre en la plaza de Santo Domi
 ngo a las 18:30 horas.\n\nLa entrada es libre y gratuita.
ATTACH;FMTTYPE=image/jpeg:https://www.larevistadelapalma.com/wp-content/up
 loads/2024/12/Festival-de-danza-santa-cruz.jpg
CATEGORIES:Danza,Espectáculos,Relax
LOCATION:Plaza de Santo Domingo en Santa Cruz de La Palma\, Plaza Santo Dom
 ingo\, Santa Cruz de La Palma\, 38700\, España
GEO:28.682691;-17.766334
X-APPLE-STRUCTURED-LOCATION;VALUE=URI;X-ADDRESS=Plaza Santo Domingo\, Santa
  Cruz de La Palma\, 38700\, España;X-APPLE-RADIUS=100;X-TITLE=Plaza de Sa
 nto Domingo en Santa Cruz de La Palma:geo:28.682691,-17.766334
END:VEVENT
END:VCALENDARBEGIN:VCALENDAR
VERSION:2.0
PRODID:-//wp-events-plugin.com//7.2.3.1//EN
TZID:Europe/London
X-WR-TIMEZONE:Europe/London
BEGIN:VEVENT
UID:3451@larevistadelapalma.com
DTSTART:20241204T173000Z
DTEND:20241204T190000Z
DTSTAMP:20241203T023022Z
URL:https://www.larevistadelapalma.com/events/espectaculo-de-danza-con-la-
 escuela-municipal-maika-lerin/
SUMMARY:Espectáculo de danza con la Escuela municipal Maika Lerín
DESCRIPTION:La Escuela Municipal de Danza Maika Lerín ofrecerá un espect
 áculo de Navidad este miércoles 4 de diciembre en la plaza de Santo Domi
 ngo a las 18:30 horas.\n\nLa entrada es libre y gratuita.
ATTACH;FMTTYPE=image/jpeg:https://www.larevistadelapalma.com/wp-content/up
 loads/2024/12/Festival-de-danza-santa-cruz.jpg
CATEGORIES:Danza,Espectáculos,Relax
LOCATION:Plaza de Santo Domingo en Santa Cruz de La Palma\, Plaza Santo Dom
 ingo\, Santa Cruz de La Palma\, 38700\, España
GEO:28.682691;-17.766334
X-APPLE-STRUCTURED-LOCATION;VALUE=URI;X-ADDRESS=Plaza Santo Domingo\, Santa
  Cruz de La Palma\, 38700\, España;X-APPLE-RADIUS=100;X-TITLE=Plaza de Sa
 nto Domingo en Santa Cruz de La Palma:geo:28.682691,-17.766334
END:VEVENT
END:VCALENDAR