BEGIN:VCALENDAR
VERSION:2.0
PRODID:-//wp-events-plugin.com//7.2.3.1//EN
TZID:Europe/London
X-WR-TIMEZONE:Europe/London
BEGIN:VEVENT
UID:4478@larevistadelapalma.com
DTSTART:20260124T173000Z
DTEND:20260124T203000Z
DTSTAMP:20260120T154630Z
URL:https://www.larevistadelapalma.com/events/esteban-perez-y-monterreina-
 en-la-marmota/
SUMMARY:APLAZADO - Esteban Pérez y Monterreina en La Marmota
DESCRIPTION:\n 	Aplazado por defunción familiar. \n\nEl sábado 24 de ene
 ro se juntarán  en la Tasca La Marmota dos viejos conocidos de la Soul F
 amily de Canarias\, Esteban_Pérez_ y Monterreina de Pimienta Selectoras.\
 n\nMonterreina sacará sus discos de soul\, Funky y tropicaladas varias. y
  Esteban Pérez  (Tenerife) girará discos de soul\, Funky\, house y lo q
 ue se precie de su caja de maravillas.
ATTACH;FMTTYPE=image/jpeg:https://www.larevistadelapalma.com/wp-content/up
 loads/2026/01/01-24-Esteban-Perez-y-Monterreina-La-Marmota.jpg
CATEGORIES:Conciertos,Música
LOCATION:Tasca La Marmota\, Av de la Constitución\, número 1\, Tazacorte\
 , 38770\, España
GEO:28.643843;-17.933605
X-APPLE-STRUCTURED-LOCATION;VALUE=URI;X-ADDRESS=Av de la Constitución\, n
 úmero 1\, Tazacorte\, 38770\, España;X-APPLE-RADIUS=100;X-TITLE=Tasca La
  Marmota:geo:28.643843,-17.933605
END:VEVENT
END:VCALENDARBEGIN:VCALENDAR
VERSION:2.0
PRODID:-//wp-events-plugin.com//7.2.3.1//EN
TZID:Europe/London
X-WR-TIMEZONE:Europe/London
BEGIN:VEVENT
UID:4478@larevistadelapalma.com
DTSTART:20260124T173000Z
DTEND:20260124T203000Z
DTSTAMP:20260120T154630Z
URL:https://www.larevistadelapalma.com/events/esteban-perez-y-monterreina-
 en-la-marmota/
SUMMARY:APLAZADO - Esteban Pérez y Monterreina en La Marmota
DESCRIPTION:\n 	Aplazado por defunción familiar. \n\nEl sábado 24 de ene
 ro se juntarán  en la Tasca La Marmota dos viejos conocidos de la Soul F
 amily de Canarias\, Esteban_Pérez_ y Monterreina de Pimienta Selectoras.\
 n\nMonterreina sacará sus discos de soul\, Funky y tropicaladas varias. y
  Esteban Pérez  (Tenerife) girará discos de soul\, Funky\, house y lo q
 ue se precie de su caja de maravillas.
ATTACH;FMTTYPE=image/jpeg:https://www.larevistadelapalma.com/wp-content/up
 loads/2026/01/01-24-Esteban-Perez-y-Monterreina-La-Marmota.jpg
CATEGORIES:Conciertos,Música
LOCATION:Tasca La Marmota\, Av de la Constitución\, número 1\, Tazacorte\
 , 38770\, España
GEO:28.643843;-17.933605
X-APPLE-STRUCTURED-LOCATION;VALUE=URI;X-ADDRESS=Av de la Constitución\, n
 úmero 1\, Tazacorte\, 38770\, España;X-APPLE-RADIUS=100;X-TITLE=Tasca La
  Marmota:geo:28.643843,-17.933605
END:VEVENT
END:VCALENDAR