BEGIN:VCALENDAR
VERSION:2.0
PRODID:-//wp-events-plugin.com//7.2.3.1//EN
TZID:Europe/London
X-WR-TIMEZONE:Europe/London
BEGIN:VEVENT
UID:137@larevistadelapalma.com
DTSTART:20230819T200000Z
DTEND:20230819T220000Z
DTSTAMP:20230725T190753Z
URL:https://www.larevistadelapalma.com/events/estrellas-de-buena-vista-y-m
 as-la-palma-es-un-punto/
SUMMARY:Estrellas de Buena Vista y más en la noche latina del Festival La 
 Palma es un punto
DESCRIPTION:Después del concierto del dominicano Vicente García\, el Fest
 ival continúa con Estrellas de Buena Vista y Más y el grupo local Sextet
 o Palmero.
ATTACH;FMTTYPE=image/jpeg:https://www.larevistadelapalma.com/wp-content/up
 loads/2023/07/Estrellas-de-Buena-Vista-y-mas.jpg
CATEGORIES:Festivales/Fiestas,Música
LOCATION:Parque de Los Álamos\, Bodegón Los Alamos\, Breña Alta\, 38710\
 , España
GEO:28.667222;-17.787778
X-APPLE-STRUCTURED-LOCATION;VALUE=URI;X-ADDRESS=Bodegón Los Alamos\, Breñ
 a Alta\, 38710\, España;X-APPLE-RADIUS=100;X-TITLE=Parque de Los Álamos:
 geo:28.667222,-17.787778
END:VEVENT
END:VCALENDARBEGIN:VCALENDAR
VERSION:2.0
PRODID:-//wp-events-plugin.com//7.2.3.1//EN
TZID:Europe/London
X-WR-TIMEZONE:Europe/London
BEGIN:VEVENT
UID:137@larevistadelapalma.com
DTSTART:20230819T200000Z
DTEND:20230819T220000Z
DTSTAMP:20230725T190753Z
URL:https://www.larevistadelapalma.com/events/estrellas-de-buena-vista-y-m
 as-la-palma-es-un-punto/
SUMMARY:Estrellas de Buena Vista y más en la noche latina del Festival La 
 Palma es un punto
DESCRIPTION:Después del concierto del dominicano Vicente García\, el Fest
 ival continúa con Estrellas de Buena Vista y Más y el grupo local Sextet
 o Palmero.
ATTACH;FMTTYPE=image/jpeg:https://www.larevistadelapalma.com/wp-content/up
 loads/2023/07/Estrellas-de-Buena-Vista-y-mas.jpg
CATEGORIES:Festivales/Fiestas,Música
LOCATION:Parque de Los Álamos\, Bodegón Los Alamos\, Breña Alta\, 38710\
 , España
GEO:28.667222;-17.787778
X-APPLE-STRUCTURED-LOCATION;VALUE=URI;X-ADDRESS=Bodegón Los Alamos\, Breñ
 a Alta\, 38710\, España;X-APPLE-RADIUS=100;X-TITLE=Parque de Los Álamos:
 geo:28.667222,-17.787778
END:VEVENT
END:VCALENDAR