BEGIN:VCALENDAR
VERSION:2.0
PRODID:-//wp-events-plugin.com//7.2.3.1//EN
TZID:Europe/London
X-WR-TIMEZONE:Europe/London
BEGIN:VEVENT
UID:3913@larevistadelapalma.com
DTSTART:20250825T193000Z
DTEND:20250825T210000Z
DTSTAMP:20250820T153407Z
URL:https://www.larevistadelapalma.com/events/estreno-de-la-obra-huellas-d
 e-madera-y-sal/
SUMMARY:Estreno de la obra "Huellas de madera y sal"
DESCRIPTION:Esta producción forma parte del proyecto Artesanos en Escena\
 , que une artesanía\, música y teatro para rendir homenaje a la memoria 
 marinera de la isla\, poner en valor oficios tradicionales y dar protagoni
 smo a la cantera actoral que reside en La Palma.
ATTACH;FMTTYPE=image/jpeg:https://www.larevistadelapalma.com/wp-content/up
 loads/2025/08/Equipo-Huellas-de-Madera-y-Sal-Cultura-Magica.jpg
CATEGORIES:Espectáculos,Teatro
LOCATION:Teatro Chico\, Calle Díaz Pimienta\, 1\, Santa Cruz De La Palma\,
  Santa Cruz de Tenerife\, 38700\, España
GEO:28.68432;-17.764225
X-APPLE-STRUCTURED-LOCATION;VALUE=URI;X-ADDRESS=Calle Díaz Pimienta\, 1\, 
 Santa Cruz De La Palma\, Santa Cruz de Tenerife\, 38700\, España;X-APPLE-
 RADIUS=100;X-TITLE=Teatro Chico:geo:28.68432,-17.764225
END:VEVENT
END:VCALENDARBEGIN:VCALENDAR
VERSION:2.0
PRODID:-//wp-events-plugin.com//7.2.3.1//EN
TZID:Europe/London
X-WR-TIMEZONE:Europe/London
BEGIN:VEVENT
UID:3913@larevistadelapalma.com
DTSTART:20250825T193000Z
DTEND:20250825T210000Z
DTSTAMP:20250820T153407Z
URL:https://www.larevistadelapalma.com/events/estreno-de-la-obra-huellas-d
 e-madera-y-sal/
SUMMARY:Estreno de la obra "Huellas de madera y sal"
DESCRIPTION:Esta producción forma parte del proyecto Artesanos en Escena\
 , que une artesanía\, música y teatro para rendir homenaje a la memoria 
 marinera de la isla\, poner en valor oficios tradicionales y dar protagoni
 smo a la cantera actoral que reside en La Palma.
ATTACH;FMTTYPE=image/jpeg:https://www.larevistadelapalma.com/wp-content/up
 loads/2025/08/Equipo-Huellas-de-Madera-y-Sal-Cultura-Magica.jpg
CATEGORIES:Espectáculos,Teatro
LOCATION:Teatro Chico\, Calle Díaz Pimienta\, 1\, Santa Cruz De La Palma\,
  Santa Cruz de Tenerife\, 38700\, España
GEO:28.68432;-17.764225
X-APPLE-STRUCTURED-LOCATION;VALUE=URI;X-ADDRESS=Calle Díaz Pimienta\, 1\, 
 Santa Cruz De La Palma\, Santa Cruz de Tenerife\, 38700\, España;X-APPLE-
 RADIUS=100;X-TITLE=Teatro Chico:geo:28.68432,-17.764225
END:VEVENT
END:VCALENDAR