BEGIN:VCALENDAR
VERSION:2.0
PRODID:-//wp-events-plugin.com//7.2.3.1//EN
TZID:Europe/London
X-WR-TIMEZONE:Europe/London
BEGIN:VEVENT
UID:3377@larevistadelapalma.com
DTSTART:20241109T100000Z
DTEND:20241109T113000Z
DTSTAMP:20241105T182502Z
URL:https://www.larevistadelapalma.com/events/estreno-del-documental-trans
 vulcania-la-carrera-de-la-gente/
SUMMARY:Estreno del documental ‘Transvulcania: la carrera de la gente
DESCRIPTION:Además\, estará disponible en 42 países europeos a través d
 e la plataforma Rakuten TV a partir del 12 de noviembre de forma gratuita.
 \n\nEl documental ‘Transvulcania: la carrera de la gente’\, producido 
 por NSN con la colaboración del Cabildo de La Palma\, se estrenará en ex
 clusiva el próximo sábado en la Isla\, unos días antes de que esté a d
 isposición en la plataforma Rakuten TV de forma gratuita.\n\nEl documenta
 l tendrá su premier en el Teatro Chico de Santa Cruz de La Palma\, en una
  proyección que comenzará a las 11:00 horas\, con entrada libre\, y en l
 a que el público presente podrá disfrutar a través de las historias de 
 atletas y habitantes locales\, cómo esta carrera ha unido a una comunidad
  a lo largo de los años\, convirtiéndose en un símbolo de superación y
  pertenencia.\n\nPosteriormente\, será el martes 12 de noviembre cuando R
 akuten TV\, una de las principales plataformas de streaming en Europa\,  
 estrenará este nuevo documental que formará parte de la colección Rakut
 en Originals.  Producido por NSN y dirigido por Marc Barceló\, este emoc
 ionante documental sobre una de las pruebas de trail running más emblemá
 ticas del mundo estará disponible de forma exclusiva en 42 países europe
 os.\n\nDesde la productora definen a la prueba como “una experiencia ún
 ica de trail running que atrae a los mejores atletas y aficionados de todo
  el mundo a la isla de La Palma y un verdadero espectáculo de resistencia
  y superación”. \n\nAdemás\, apuntan que desde su primera edición en
  2009\, “Transvulcania ha sido el escenario de hazañas extraordinarias 
 en el trail running”. Pero más allá de las competiciones\, lo que real
 mente atrajo a la productora y  distingue a esta carrera es la conexión 
 única entre los atletas y la comunidad. \nA través de testimonios íntim
 os y vistas panorámicas\, el documental destaca la resiliencia\, la pasi
 ón y el espíritu indomable de la isla. El documental no solo celebra la 
 tradición del trail running\, sino que también rinde homenaje a la capac
 idad humana de superar desafíos\, recordando que\, incluso en los momento
 s más difíciles\, la comunidad y la pasión pueden impulsar a las person
 as a lograr lo inimaginable.\nProtagonistas destacados\n\n 	Luis Alberto H
 ernando: El burgalés es el único corredor que ha ganado en tres edicione
 s la mítica prueba palmera.\n\n\n 	Kilian Jornet: El icónico corredor\, 
 ganador de Transvulcania en 2013\, comparte su experiencia y amor por la i
 sla.&nbsp\;\n 	Jon Albon: Vencedor de la edición 2024 en Ultramaratón\, 
 conocido por sus impresionantes hazañas en trail running.&nbsp\;\n 	Ruth 
 Croft: La campeona de la edición 2024\, que establece un nuevo récord\, 
 revela su viaje y dedicación.&nbsp\;\n 	Ida Nilsson: La atleta con más v
 ictorias en Transvulcania\, una verdadera pionera en el deporte.&nbsp\;\n 
 	Hillary Allen: Su emotiva historia de regreso a la carrera tras un grave 
 accidente inspirará a muchos.\n\n&nbsp\;
ATTACH;FMTTYPE=image/jpeg:https://www.larevistadelapalma.com/wp-content/up
 loads/2024/11/Transvulcania-2.jpeg
CATEGORIES:Cine,Cine y Literatura
LOCATION:Teatro Chico\, Calle Díaz Pimienta\, 1\, Santa Cruz De La Palma\,
  Santa Cruz de Tenerife\, 38700\, España
GEO:28.68432;-17.764225
X-APPLE-STRUCTURED-LOCATION;VALUE=URI;X-ADDRESS=Calle Díaz Pimienta\, 1\, 
 Santa Cruz De La Palma\, Santa Cruz de Tenerife\, 38700\, España;X-APPLE-
 RADIUS=100;X-TITLE=Teatro Chico:geo:28.68432,-17.764225
END:VEVENT
END:VCALENDARBEGIN:VCALENDAR
VERSION:2.0
PRODID:-//wp-events-plugin.com//7.2.3.1//EN
TZID:Europe/London
X-WR-TIMEZONE:Europe/London
BEGIN:VEVENT
UID:3377@larevistadelapalma.com
DTSTART:20241109T100000Z
DTEND:20241109T113000Z
DTSTAMP:20241105T182502Z
URL:https://www.larevistadelapalma.com/events/estreno-del-documental-trans
 vulcania-la-carrera-de-la-gente/
SUMMARY:Estreno del documental ‘Transvulcania: la carrera de la gente
DESCRIPTION:Además\, estará disponible en 42 países europeos a través d
 e la plataforma Rakuten TV a partir del 12 de noviembre de forma gratuita.
 \n\nEl documental ‘Transvulcania: la carrera de la gente’\, producido 
 por NSN con la colaboración del Cabildo de La Palma\, se estrenará en ex
 clusiva el próximo sábado en la Isla\, unos días antes de que esté a d
 isposición en la plataforma Rakuten TV de forma gratuita.\n\nEl documenta
 l tendrá su premier en el Teatro Chico de Santa Cruz de La Palma\, en una
  proyección que comenzará a las 11:00 horas\, con entrada libre\, y en l
 a que el público presente podrá disfrutar a través de las historias de 
 atletas y habitantes locales\, cómo esta carrera ha unido a una comunidad
  a lo largo de los años\, convirtiéndose en un símbolo de superación y
  pertenencia.\n\nPosteriormente\, será el martes 12 de noviembre cuando R
 akuten TV\, una de las principales plataformas de streaming en Europa\,  
 estrenará este nuevo documental que formará parte de la colección Rakut
 en Originals.  Producido por NSN y dirigido por Marc Barceló\, este emoc
 ionante documental sobre una de las pruebas de trail running más emblemá
 ticas del mundo estará disponible de forma exclusiva en 42 países europe
 os.\n\nDesde la productora definen a la prueba como “una experiencia ún
 ica de trail running que atrae a los mejores atletas y aficionados de todo
  el mundo a la isla de La Palma y un verdadero espectáculo de resistencia
  y superación”. \n\nAdemás\, apuntan que desde su primera edición en
  2009\, “Transvulcania ha sido el escenario de hazañas extraordinarias 
 en el trail running”. Pero más allá de las competiciones\, lo que real
 mente atrajo a la productora y  distingue a esta carrera es la conexión 
 única entre los atletas y la comunidad. \nA través de testimonios íntim
 os y vistas panorámicas\, el documental destaca la resiliencia\, la pasi
 ón y el espíritu indomable de la isla. El documental no solo celebra la 
 tradición del trail running\, sino que también rinde homenaje a la capac
 idad humana de superar desafíos\, recordando que\, incluso en los momento
 s más difíciles\, la comunidad y la pasión pueden impulsar a las person
 as a lograr lo inimaginable.\nProtagonistas destacados\n\n 	Luis Alberto H
 ernando: El burgalés es el único corredor que ha ganado en tres edicione
 s la mítica prueba palmera.\n\n\n 	Kilian Jornet: El icónico corredor\, 
 ganador de Transvulcania en 2013\, comparte su experiencia y amor por la i
 sla.&nbsp\;\n 	Jon Albon: Vencedor de la edición 2024 en Ultramaratón\, 
 conocido por sus impresionantes hazañas en trail running.&nbsp\;\n 	Ruth 
 Croft: La campeona de la edición 2024\, que establece un nuevo récord\, 
 revela su viaje y dedicación.&nbsp\;\n 	Ida Nilsson: La atleta con más v
 ictorias en Transvulcania\, una verdadera pionera en el deporte.&nbsp\;\n 
 	Hillary Allen: Su emotiva historia de regreso a la carrera tras un grave 
 accidente inspirará a muchos.\n\n&nbsp\;
ATTACH;FMTTYPE=image/jpeg:https://www.larevistadelapalma.com/wp-content/up
 loads/2024/11/Transvulcania-2.jpeg
CATEGORIES:Cine,Cine y Literatura
LOCATION:Teatro Chico\, Calle Díaz Pimienta\, 1\, Santa Cruz De La Palma\,
  Santa Cruz de Tenerife\, 38700\, España
GEO:28.68432;-17.764225
X-APPLE-STRUCTURED-LOCATION;VALUE=URI;X-ADDRESS=Calle Díaz Pimienta\, 1\, 
 Santa Cruz De La Palma\, Santa Cruz de Tenerife\, 38700\, España;X-APPLE-
 RADIUS=100;X-TITLE=Teatro Chico:geo:28.68432,-17.764225
END:VEVENT
END:VCALENDAR