BEGIN:VCALENDAR
VERSION:2.0
PRODID:-//wp-events-plugin.com//7.2.3.1//EN
TZID:Europe/London
X-WR-TIMEZONE:Europe/London
BEGIN:VEVENT
UID:3975@larevistadelapalma.com
DTSTART:20250927T080000Z
DTEND:20250927T130000Z
DTSTAMP:20250919T165351Z
URL:https://www.larevistadelapalma.com/events/excursion-en-el-fancy/
SUMMARY:Excursión en el Fancy
DESCRIPTION:Excursión en el Fancy\, para el avistamiento de cetáceos y la
  oportunidad para acercarse a la naturaleza y al entorno marino de la isla
 . Transporte de ida y vuelta gratuito.\n\nPertenece a la programación de 
 la ‘Semana de la Juventud 2025’ del 22 al 27 de septiembre diseñado
  para promover la participación activa de los jóvenes y ofrecerles activ
 idades de interés variado que atiendan a diferentes colectivos y preferen
 cias.\nTodas las actividades son gratuitas\, aunque se solicita inscripci
 ón previa para facilitar su correcta organización y asegurar la particip
 ación de todos los interesados.\nInscripciones
ATTACH;FMTTYPE=image/jpeg:https://www.larevistadelapalma.com/wp-content/up
 loads/2025/09/excursion-fancy.jpg
CATEGORIES:Otras propuestas,Varios
LOCATION:Puerto de Tazacorte\, Puerto de Tazacorte \, Tazacorte\, 38770\, E
 spaña
GEO:28.642013;-17.944527
X-APPLE-STRUCTURED-LOCATION;VALUE=URI;X-ADDRESS=Puerto de Tazacorte \, Taza
 corte\, 38770\, España;X-APPLE-RADIUS=100;X-TITLE=Puerto de Tazacorte:geo
 :28.642013,-17.944527
END:VEVENT
END:VCALENDARBEGIN:VCALENDAR
VERSION:2.0
PRODID:-//wp-events-plugin.com//7.2.3.1//EN
TZID:Europe/London
X-WR-TIMEZONE:Europe/London
BEGIN:VEVENT
UID:3975@larevistadelapalma.com
DTSTART:20250927T080000Z
DTEND:20250927T130000Z
DTSTAMP:20250919T165351Z
URL:https://www.larevistadelapalma.com/events/excursion-en-el-fancy/
SUMMARY:Excursión en el Fancy
DESCRIPTION:Excursión en el Fancy\, para el avistamiento de cetáceos y la
  oportunidad para acercarse a la naturaleza y al entorno marino de la isla
 . Transporte de ida y vuelta gratuito.\n\nPertenece a la programación de 
 la ‘Semana de la Juventud 2025’ del 22 al 27 de septiembre diseñado
  para promover la participación activa de los jóvenes y ofrecerles activ
 idades de interés variado que atiendan a diferentes colectivos y preferen
 cias.\nTodas las actividades son gratuitas\, aunque se solicita inscripci
 ón previa para facilitar su correcta organización y asegurar la particip
 ación de todos los interesados.\nInscripciones
ATTACH;FMTTYPE=image/jpeg:https://www.larevistadelapalma.com/wp-content/up
 loads/2025/09/excursion-fancy.jpg
CATEGORIES:Otras propuestas,Varios
LOCATION:Puerto de Tazacorte\, Puerto de Tazacorte \, Tazacorte\, 38770\, E
 spaña
GEO:28.642013;-17.944527
X-APPLE-STRUCTURED-LOCATION;VALUE=URI;X-ADDRESS=Puerto de Tazacorte \, Taza
 corte\, 38770\, España;X-APPLE-RADIUS=100;X-TITLE=Puerto de Tazacorte:geo
 :28.642013,-17.944527
END:VEVENT
END:VCALENDAR