BEGIN:VCALENDAR
VERSION:2.0
PRODID:-//wp-events-plugin.com//7.2.3.1//EN
TZID:Europe/London
X-WR-TIMEZONE:Europe/London
BEGIN:VEVENT
UID:3921@larevistadelapalma.com
DTSTART:20250823T100000Z
DTEND:20250823T113000Z
DTSTAMP:20250819T193025Z
URL:https://www.larevistadelapalma.com/events/exhibicion-de-coches-clasico
 s-en-tijarafe/
SUMMARY:Exhibición de coches clásicos en Tijarafe
DESCRIPTION:Exhibición de coches clásicos a cargo del Club de Automóvil
 es Antiguos El Paso.En los aledaños de la Plaza de la Candelaria
ATTACH;FMTTYPE=image/jpeg:https://www.larevistadelapalma.com/wp-content/up
 loads/2025/08/Exhibicion-coches-clasicos-Tijarafe.jpg
CATEGORIES:Otras propuestas,Varios
LOCATION:Plaza Candelaria en Tijarafe\, Plaza de La Candelaria \, Tijarafe\
 , 38780\, España
GEO:28.711392;-17.955151
X-APPLE-STRUCTURED-LOCATION;VALUE=URI;X-ADDRESS=Plaza de La Candelaria \, T
 ijarafe\, 38780\, España;X-APPLE-RADIUS=100;X-TITLE=Plaza Candelaria en T
 ijarafe:geo:28.711392,-17.955151
END:VEVENT
END:VCALENDARBEGIN:VCALENDAR
VERSION:2.0
PRODID:-//wp-events-plugin.com//7.2.3.1//EN
TZID:Europe/London
X-WR-TIMEZONE:Europe/London
BEGIN:VEVENT
UID:3921@larevistadelapalma.com
DTSTART:20250823T100000Z
DTEND:20250823T113000Z
DTSTAMP:20250819T193025Z
URL:https://www.larevistadelapalma.com/events/exhibicion-de-coches-clasico
 s-en-tijarafe/
SUMMARY:Exhibición de coches clásicos en Tijarafe
DESCRIPTION:Exhibición de coches clásicos a cargo del Club de Automóvil
 es Antiguos El Paso.En los aledaños de la Plaza de la Candelaria
ATTACH;FMTTYPE=image/jpeg:https://www.larevistadelapalma.com/wp-content/up
 loads/2025/08/Exhibicion-coches-clasicos-Tijarafe.jpg
CATEGORIES:Otras propuestas,Varios
LOCATION:Plaza Candelaria en Tijarafe\, Plaza de La Candelaria \, Tijarafe\
 , 38780\, España
GEO:28.711392;-17.955151
X-APPLE-STRUCTURED-LOCATION;VALUE=URI;X-ADDRESS=Plaza de La Candelaria \, T
 ijarafe\, 38780\, España;X-APPLE-RADIUS=100;X-TITLE=Plaza Candelaria en T
 ijarafe:geo:28.711392,-17.955151
END:VEVENT
END:VCALENDAR